Workbook

Sheet Predict Your Data
A1: Table 1: Solar Module Research Results
B2: =Table3[[#Headers],[Price]] -> Price | C2: =Table3[[#Headers],[STC Watts]] -> STC Watts | D2: =Table3[[#Headers],[PTC Watts]] -> PTC Watts | E2: =Table3[[#Headers],[$/Watt]] -> $/Watt | F2: =Table3[[#Headers],[Theoretical Monthly Output]] -> Theoretical Monthly Output | G2: =Table3[[#Headers],[Cell Effeciency]] -> Cell Effeciency | H2: =Table3[[#Headers],[Real Monthly Output]] -> Real Monthly Output | I2: =Table3[[#Headers],['# Panels]] -> # Panels | J2: =Table3[[#Headers],[Total Price]] -> Total Price | L2: Variables | M2: Inputs Here
A3: 1 | B3: ='Data Analysis'!D68 -> 15000 | C3: ='Data Analysis'!E68 -> 13200 | D3: ='Data Analysis'!F68 -> 11880 | E3: ='Data Analysis'!G68 -> 1.1363636 | F3: ='Data Analysis'!H68 -> 1795.2 | G3: ='Data Analysis'!I68 -> 0.136 | H3: ='Data Analysis'!J68 -> 1454.112 | I3: ='Data Analysis'!K68 -> 24 | J3: ='Data Analysis'!L68 -> 16800 | L3: 0.11 | M3: kWh
A4: 2 | B4: ='Data Analysis'!D69 -> 15000 | C4: ='Data Analysis'!E69 -> 8280 | D4: ='Data Analysis'!F69 -> 7452 | E4: ='Data Analysis'!G69 -> 1.8115942 | F4: ='Data Analysis'!H69 -> 1126.08 | G4: ='Data Analysis'!I69 -> 0.136 | H4: ='Data Analysis'!J69 -> 912.1248 | I4: ='Data Analysis'!K69 -> 24 | J4: ='Data Analysis'!L69 -> 16800 | L4: 4.5 | M4: Sun Hours
A5: 3 | B5: ='Data Analysis'!D70 -> 15000 | C5: ='Data Analysis'!E70 -> 9000 | D5: ='Data Analysis'!F70 -> 8100 | E5: ='Data Analysis'!G70 -> 1.6666667 | F5: ='Data Analysis'!H70 -> 1224 | G5: ='Data Analysis'!I70 -> 0.136 | H5: ='Data Analysis'!J70 -> 991.44 | I5: ='Data Analysis'!K70 -> 24 | J5: ='Data Analysis'!L70 -> 16800
A6: 4 | B6: ='Data Analysis'!D71 -> 15000 | C6: ='Data Analysis'!E71 -> 14000 | D6: ='Data Analysis'!F71 -> 12600 | E6: ='Data Analysis'!G71 -> 1.0714286 | F6: ='Data Analysis'!H71 -> 1897 | G6: ='Data Analysis'!I71 -> 0.1355 | H6: ='Data Analysis'!J71 -> 1536.57 | I6: ='Data Analysis'!K71 -> 24 | J6: ='Data Analysis'!L71 -> 16800
A7: 5 | B7: ='Data Analysis'!D72 -> 15000 | C7: ='Data Analysis'!E72 -> 15000 | D7: ='Data Analysis'!F72 -> 13500 | E7: ='Data Analysis'!G72 -> 1 | F7: ='Data Analysis'!H72 -> 2040 | G7: ='Data Analysis'!I72 -> 0.136 | H7: ='Data Analysis'!J72 -> 1652.4 | I7: ='Data Analysis'!K72 -> 24 | J7: ='Data Analysis'!L72 -> 16800
A8: 6 | B8: ='Data Analysis'!D73 -> 15000 | C8: ='Data Analysis'!E73 -> 16000 | D8: ='Data Analysis'!F73 -> 14400 | E8: ='Data Analysis'!G73 -> 0.9375 | F8: ='Data Analysis'!H73 -> 2176 | G8: ='Data Analysis'!I73 -> 0.136 | H8: ='Data Analysis'!J73 -> 1762.56 | I8: ='Data Analysis'!K73 -> 24 | J8: ='Data Analysis'!L73 -> 16800
A9: 7 | B9: ='Data Analysis'!D74 -> 15000 | C9: ='Data Analysis'!E74 -> 17000 | D9: ='Data Analysis'!F74 -> 15300 | E9: ='Data Analysis'!G74 -> 0.88235294 | F9: ='Data Analysis'!H74 -> 2312 | G9: ='Data Analysis'!I74 -> 0.136 | H9: ='Data Analysis'!J74 -> 1872.72 | I9: ='Data Analysis'!K74 -> 24 | J9: ='Data Analysis'!L74 -> 16800
A10: 8 | B10: ='Data Analysis'!D75 -> 15000 | C10: ='Data Analysis'!E75 -> 18000 | D10: ='Data Analysis'!F75 -> 16200 | E10: ='Data Analysis'!G75 -> 0.83333333 | F10: ='Data Analysis'!H75 -> 2448 | G10: ='Data Analysis'!I75 -> 0.136 | H10: ='Data Analysis'!J75 -> 1982.88 | I10: ='Data Analysis'!K75 -> 24 | J10: ='Data Analysis'!L75 -> 16800
B11: =Table3[[#Headers],[kWh Reduced]] -> kWh Reduced | C11: =Table3[[#Headers],[Yearly Savings]] -> Yearly Savings | D11: =Table3[[#Headers],['# Years Payback]] -> # Years Payback | E11: =Table3[[#Headers],[ROI 1 Yr]] -> ROI 1 Yr | F11: =Table3[[#Headers],[ROI 5 Yr]] -> ROI 5 Yr | G11: =Table3[[#Headers],[ROI 10 Yr]] -> ROI 10 Yr | H11: =Table3[[#Headers],[ROI 25 Yr]] -> ROI 25 Yr | I11: =Table3[[#Headers],[Avg ROI Per Year (25years) Inc Red Eff]] -> Avg ROI Per Year (25years) Inc Red Eff
A12: 1 | B12: ='Data Analysis'!M68 -> 0.68140206 | C12: ='Data Analysis'!N68 -> 1919.4278 | D12: ='Data Analysis'!O68 -> 8.7526083 | E12: ='Data Analysis'!AB68 -> -0.88574834 | F12: ='Data Analysis'!AC68 -> -0.42874171 | G12: ='Data Analysis'!AD68 -> 0.14251657 | H12: ='Data Analysis'!AE68 -> 1.8562914 | I12: ='Data Analysis'!AF68 -> 0.066375041
A13: 2 | B13: ='Data Analysis'!M69 -> 0.42742493 | C13: ='Data Analysis'!N69 -> 1204.0047 | D13: ='Data Analysis'!O69 -> 13.953433 | E13: ='Data Analysis'!AB69 -> -0.92833305 | F13: ='Data Analysis'!AC69 -> -0.64166526 | G13: ='Data Analysis'!AD69 -> -0.28333051 | H13: ='Data Analysis'!AE69 -> 0.79167371 | I13: ='Data Analysis'!AF69 -> 0.028307719
A14: 3 | B14: ='Data Analysis'!M70 -> 0.46459231 | C14: ='Data Analysis'!N70 -> 1308.7008 | D14: ='Data Analysis'!O70 -> 12.837159 | E14: ='Data Analysis'!AB70 -> -0.92210114 | F14: ='Data Analysis'!AC70 -> -0.61050571 | G14: ='Data Analysis'!AD70 -> -0.22101143 | H14: ='Data Analysis'!AE70 -> 0.94747143 | I14: ='Data Analysis'!AF70 -> 0.033878546
A15: 4 | B15: ='Data Analysis'!M71 -> 0.72004217 | C15: ='Data Analysis'!N71 -> 2028.2724 | D15: ='Data Analysis'!O71 -> 8.2829111 | E15: ='Data Analysis'!AB71 -> -0.8792695 | F15: ='Data Analysis'!AC71 -> -0.3963475 | G15: ='Data Analysis'!AD71 -> 0.207305 | H15: ='Data Analysis'!AE71 -> 2.0182625 | I15: ='Data Analysis'!AF71 -> 0.072166609
A16: 5 | B16: ='Data Analysis'!M72 -> 0.77432052 | C16: ='Data Analysis'!N72 -> 2181.168 | D16: ='Data Analysis'!O72 -> 7.7022953 | E16: ='Data Analysis'!AB72 -> -0.87016857 | F16: ='Data Analysis'!AC72 -> -0.35084286 | G16: ='Data Analysis'!AD72 -> 0.29831429 | H16: ='Data Analysis'!AE72 -> 2.2457857 | I16: ='Data Analysis'!AF72 -> 0.080302111
A17: 6 | B17: ='Data Analysis'!M73 -> 0.82594189 | C17: ='Data Analysis'!N73 -> 2326.5792 | D17: ='Data Analysis'!O73 -> 7.2209018 | E17: ='Data Analysis'!AB73 -> -0.86151314 | F17: ='Data Analysis'!AC73 -> -0.30756571 | G17: ='Data Analysis'!AD73 -> 0.38486857 | H17: ='Data Analysis'!AE73 -> 2.4621714 | I17: ='Data Analysis'!AF73 -> 0.088039371
A18: 7 | B18: ='Data Analysis'!M74 -> 0.87756326 | C18: ='Data Analysis'!N74 -> 2471.9904 | D18: ='Data Analysis'!O74 -> 6.7961429 | E18: ='Data Analysis'!AB74 -> -0.85285771 | F18: ='Data Analysis'!AC74 -> -0.26428857 | G18: ='Data Analysis'!AD74 -> 0.47142286 | H18: ='Data Analysis'!AE74 -> 2.6785571 | I18: ='Data Analysis'!AF74 -> 0.095776632
A19: 8 | B19: ='Data Analysis'!M75 -> 0.92918463 | C19: ='Data Analysis'!N75 -> 2617.4016 | D19: ='Data Analysis'!O75 -> 6.4185794 | E19: ='Data Analysis'!AB75 -> -0.84420229 | F19: ='Data Analysis'!AC75 -> -0.22101143 | G19: ='Data Analysis'!AD75 -> 0.55797714 | H19: ='Data Analysis'!AE75 -> 2.8949429 | I19: ='Data Analysis'!AF75 -> 0.10351389
C20: Rate Used: $0.11, Average PV Sun Hours per day: 4.5 Hours

Sheet Data Analysis
A1: Solar Power Research | N1: *Doesn’t Include Incentives, Includes Panals/interter/amp/cable ext..etc | AA1: measurement of the elastcity of supply, can u make and increase price, will it really incrrease price based on demand. How much to make per unit.
A2: Rate per kWh | D2: ='Predict Your Data'!L3 -> 0.11 | E2: www.wholesalersolar.com | J2: http://www.wholesalesolar.com/gridtie.html?gclid=CNmP_Mq05K8CFYd9Ogodaz3-xA | AH2: yearly return, plot price per watt at break even point, graph
A3: Zone Hours (Avg/Year) | D3: ='Predict Your Data'!L4 -> 4.5 | O3: HVI=Home Value Increase | AG3: past sales data and how many people are buying…
A4: Our Use | AA4: more beneficial to be early or later adopter, based on how expensive to add output from manufgers
E5: Watts | H5: Output Per Month | P5: Return on Investment
A6: Dec | B6: 2536 | C6: Item | D6: Price | E6: STC Watts | F6: PTC Watts | G6: $/Watt | H6: Theoretical Monthly Output | I6: Cell Effeciency | J6: Real Monthly Output | K6: # Panels | L6: Total Price | M6: kWh Reduced | N6: Yearly Savings | O6: # Years Payback | P6: HVI | Q6: Initial W/ | R6: 5yr W/ | S6: 10yr W/ | T6: 15yr W/ | U6: 20yr W/ | V6: 25yr W/ | W6: 5 w/o | X6: 10 w/o | Y6: 15 w/o | Z6: 20 w/o | AA6: 25 w/o | AB6: ROI 1 Yr | AC6: ROI 5 Yr | AD6: ROI 10 Yr | AE6: ROI 25 Yr | AF6: Avg ROI Per Year (25years) Inc Red Eff | AG6: Watt % | AH6: Column1
A7: Jan | B7: 2448 | C7: 3600159 | D7: 42110 | E7: 18800 | F7: 16944 | G7: =Table3[[#This Row],[Price]]/Table3[[#This Row],[STC Watts]] -> 2.2398936 | H7: 2542 | I7: =Table3[[#This Row],[Theoretical Monthly Output]]/Table3[[#This Row],[STC Watts]] -> 0.13521277 | J7: =((H7*$D$3)/5)*(Table3[[#This Row],[PTC Watts]]/Table3[[#This Row],[STC Watts]]) -> 2061.9406 | K7: 80 | L7: =D7+(K7*75) -> 48110 | M7: =J7/$B$10 -> 0.96623271 | N7: =($B$10*$D$2*12)*M7 -> 2721.7616 | O7: =L7/N7 -> 17.676052 | P7: =N7*20 -> 54435.232 | Q7: =P7-L7 -> 6325.2317 | R7: =Q7+(N7*5) -> 19934.04 | S7: =Q7+(N7*10) -> 33542.848 | T7: =Q7+(N7*15) -> 47151.656 | U7: =Q7+(N7*20) -> 60760.463 | V7: =Q7+(N7*25) -> 74369.271 | W7: =(N7*5)-L7 -> -34501.192 | X7: =(N7*10)-L7 -> -20892.384 | Y7: =(N7*15)-L7 -> -7283.5762 | Z7: =(N7*20)-L7 -> 6325.2317 | AA7: =(N7*25)-L7 -> 19934.04 | AB7: =(N7-L7)/L7 -> -0.94342628 | AC7: =(($N7*5)-$L7)/$L7 -> -0.71713141 | AD7: =(($N7*10)-$L7)/$L7 -> -0.43426282 | AE7: =(($N7*25)-$L7)/$L7 -> 0.41434296 | AF7: =(((($N7*25)-$L7)/$L7)/25)*(0.89392) -> 0.014815578 | AG7: =F7/E7 -> 0.9012766
A8: Feb | B8: 2212 | C8: 1049881 | D8: 40025 | E8: 19600 | F8: 17712 | G8: =Table3[[#This Row],[Price]]/Table3[[#This Row],[STC Watts]] -> 2.0420918 | H8: 2657 | I8: =Table3[[#This Row],[Theoretical Monthly Output]]/Table3[[#This Row],[STC Watts]] -> 0.13556122 | J8: =((H8*$D$3)/5)*(Table3[[#This Row],[PTC Watts]]/Table3[[#This Row],[STC Watts]]) -> 2160.9544 | K8: 80 | L8: =D8+(K8*75) -> 46025 | M8: =J8/$B$10 -> 1.0126309 | N8: =($B$10*$D$2*12)*M8 -> 2852.4598 | O8: =L8/N8 -> 16.135197 | P8: =N8*20 -> 57049.195 | Q8: =P8-L8 -> 11024.195 | R8: =Q8+(N8*5) -> 25286.494 | S8: =Q8+(N8*10) -> 39548.793 | T8: =Q8+(N8*15) -> 53811.092 | U8: =Q8+(N8*20) -> 68073.391 | V8: =Q8+(N8*25) -> 82335.689 | W8: =(N8*5)-L8 -> -31762.701 | X8: =(N8*10)-L8 -> -17500.402 | Y8: =(N8*15)-L8 -> -3238.1035 | Z8: =(N8*20)-L8 -> 11024.195 | AA8: =(N8*25)-L8 -> 25286.494 | AB8: =(N8-L8)/L8 -> -0.93802369 | AC8: =(($N8*5)-$L8)/$L8 -> -0.69011844 | AD8: =(($N8*10)-$L8)/$L8 -> -0.38023688 | AE8: =(($N8*25)-$L8)/$L8 -> 0.5494078 | AF8: =(((($N8*25)-$L8)/$L8)/25)*(0.89392) -> 0.019645065 | AG8: =F8/E8 -> 0.90367347
A9: Mar | B9: 1340 | C9: 3600169 | D9: 39675 | E9: 19600 | F9: 17712 | G9: =Table3[[#This Row],[Price]]/Table3[[#This Row],[STC Watts]] -> 2.0242347 | H9: 2656 | I9: =Table3[[#This Row],[Theoretical Monthly Output]]/Table3[[#This Row],[STC Watts]] -> 0.1355102 | J9: =((H9*$D$3)/5)*(Table3[[#This Row],[PTC Watts]]/Table3[[#This Row],[STC Watts]]) -> 2160.1411 | K9: 80 | L9: =D9+(K9*75) -> 45675 | M9: =J9/$B$10 -> 1.0122498 | N9: =($B$10*$D$2*12)*M9 -> 2851.3862 | O9: =L9/N9 -> 16.018525 | P9: =N9*20 -> 57027.724 | Q9: =P9-L9 -> 11352.724 | R9: =Q9+(N9*5) -> 25609.655 | S9: =Q9+(N9*10) -> 39866.586 | T9: =Q9+(N9*15) -> 54123.517 | U9: =Q9+(N9*20) -> 68380.448 | V9: =Q9+(N9*25) -> 82637.379 | W9: =(N9*5)-L9 -> -31418.069 | X9: =(N9*10)-L9 -> -17161.138 | Y9: =(N9*15)-L9 -> -2904.207 | Z9: =(N9*20)-L9 -> 11352.724 | AA9: =(N9*25)-L9 -> 25609.655 | AB9: =(N9-L9)/L9 -> -0.93757228 | AC9: =(($N9*5)-$L9)/$L9 -> -0.68786139 | AD9: =(($N9*10)-$L9)/$L9 -> -0.37572278 | AE9: =(($N9*25)-$L9)/$L9 -> 0.56069305 | AF9: =(((($N9*25)-$L9)/$L9)/25)*(0.89392) -> 0.020048589 | AG9: =F9/E9 -> 0.90367347
A10: Average | B10: =AVERAGE(B6:B9) -> 2134 | C10: 3600067 | D10: 37889 | E10: 19200 | F10: 17448 | G10: =Table3[[#This Row],[Price]]/Table3[[#This Row],[STC Watts]] -> 1.9733854 | H10: 2617 | I10: =Table3[[#This Row],[Theoretical Monthly Output]]/Table3[[#This Row],[STC Watts]] -> 0.13630208 | J10: =((H10*$D$3)/5)*(Table3[[#This Row],[PTC Watts]]/Table3[[#This Row],[STC Watts]]) -> 2140.3789 | K10: 80 | L10: =D10+(K10*75) -> 43889 | M10: =J10/$B$10 -> 1.0029892 | N10: =($B$10*$D$2*12)*M10 -> 2825.3001 | O10: =L10/N10 -> 15.534279 | P10: =N10*20 -> 56506.002 | Q10: =P10-L10 -> 12617.002 | R10: =Q10+(N10*5) -> 26743.503 | S10: =Q10+(N10*10) -> 40870.003 | T10: =Q10+(N10*15) -> 54996.504 | U10: =Q10+(N10*20) -> 69123.005 | V10: =Q10+(N10*25) -> 83249.505 | W10: =(N10*5)-L10 -> -29762.499 | X10: =(N10*10)-L10 -> -15635.999 | Y10: =(N10*15)-L10 -> -1509.4983 | Z10: =(N10*20)-L10 -> 12617.002 | AA10: =(N10*25)-L10 -> 26743.503 | AB10: =(N10-L10)/L10 -> -0.93562624 | AC10: =(($N10*5)-$L10)/$L10 -> -0.67813118 | AD10: =(($N10*10)-$L10)/$L10 -> -0.35626236 | AE10: =(($N10*25)-$L10)/$L10 -> 0.60934409 | AF10: =(((($N10*25)-$L10)/$L10)/25)*(0.89392) -> 0.021788195 | AG10: =F10/E10 -> 0.90875
C11: 3600158 | D11: 32700 | E11: 14100 | F11: 12708 | G11: =Table3[[#This Row],[Price]]/Table3[[#This Row],[STC Watts]] -> 2.3191489 | H11: 1906 | I11: =Table3[[#This Row],[Theoretical Monthly Output]]/Table3[[#This Row],[STC Watts]] -> 0.1351773 | J11: =((H11*$D$3)/5)*(Table3[[#This Row],[PTC Watts]]/Table3[[#This Row],[STC Watts]]) -> 1546.0499 | K11: 60 | L11: =D11+(K11*75) -> 37200 | M11: =J11/$B$10 -> 0.72448448 | N11: =($B$10*$D$2*12)*M11 -> 2040.7858 | O11: =L11/N11 -> 18.228272 | P11: =N11*20 -> 40815.717 | Q11: =P11-L11 -> 3615.7166 | R11: =Q11+(N11*5) -> 13819.646 | S11: =Q11+(N11*10) -> 24023.575 | T11: =Q11+(N11*15) -> 34227.504 | U11: =Q11+(N11*20) -> 44431.433 | V11: =Q11+(N11*25) -> 54635.362 | W11: =(N11*5)-L11 -> -26996.071 | X11: =(N11*10)-L11 -> -16792.142 | Y11: =(N11*15)-L11 -> -6588.2125 | Z11: =(N11*20)-L11 -> 3615.7166 | AA11: =(N11*25)-L11 -> 13819.646 | AB11: =(N11-L11)/L11 -> -0.94514017 | AC11: =(($N11*5)-$L11)/$L11 -> -0.72570083 | AD11: =(($N11*10)-$L11)/$L11 -> -0.45140166 | AE11: =(($N11*25)-$L11)/$L11 -> 0.37149585 | AF11: =(((($N11*25)-$L11)/$L11)/25)*(0.89392) -> 0.013283503 | AG11: =F11/E11 -> 0.9012766
C12: 1049880 | D12: 30950 | E12: 14700 | F12: 13284 | G12: =Table3[[#This Row],[Price]]/Table3[[#This Row],[STC Watts]] -> 2.1054422 | H12: 1993 | I12: =Table3[[#This Row],[Theoretical Monthly Output]]/Table3[[#This Row],[STC Watts]] -> 0.13557823 | J12: =((H12*$D$3)/5)*(Table3[[#This Row],[PTC Watts]]/Table3[[#This Row],[STC Watts]]) -> 1620.9191 | K12: 60 | L12: =D12+(K12*75) -> 35450 | M12: =J12/$B$10 -> 0.75956846 | N12: =($B$10*$D$2*12)*M12 -> 2139.6132 | O12: =L12/N12 -> 16.568415 | P12: =N12*20 -> 42792.264 | Q12: =P12-L12 -> 7342.2643 | R12: =Q12+(N12*5) -> 18040.33 | S12: =Q12+(N12*10) -> 28738.396 | T12: =Q12+(N12*15) -> 39436.463 | U12: =Q12+(N12*20) -> 50134.529 | V12: =Q12+(N12*25) -> 60832.595 | W12: =(N12*5)-L12 -> -24751.934 | X12: =(N12*10)-L12 -> -14053.868 | Y12: =(N12*15)-L12 -> -3355.8018 | Z12: =(N12*20)-L12 -> 7342.2643 | AA12: =(N12*25)-L12 -> 18040.33 | AB12: =(N12-L12)/L12 -> -0.9396442 | AC12: =(($N12*5)-$L12)/$L12 -> -0.69822099 | AD12: =(($N12*10)-$L12)/$L12 -> -0.39644197 | AE12: =(($N12*25)-$L12)/$L12 -> 0.50889507 | AF12: =(((($N12*25)-$L12)/$L12)/25)*(0.89392) -> 0.018196459 | AG12: =F12/E12 -> 0.90367347
C13: 3600168 | D13: 29995 | E13: 14700 | F13: 13284 | G13: =Table3[[#This Row],[Price]]/Table3[[#This Row],[STC Watts]] -> 2.0404762 | H13: 1993 | I13: =Table3[[#This Row],[Theoretical Monthly Output]]/Table3[[#This Row],[STC Watts]] -> 0.13557823 | J13: =((H13*$D$3)/5)*(Table3[[#This Row],[PTC Watts]]/Table3[[#This Row],[STC Watts]]) -> 1620.9191 | K13: 60 | L13: =D13+(K13*75) -> 34495 | M13: =J13/$B$10 -> 0.75956846 | N13: =($B$10*$D$2*12)*M13 -> 2139.6132 | O13: =L13/N13 -> 16.122073 | P13: =N13*20 -> 42792.264 | Q13: =P13-L13 -> 8297.2643 | R13: =Q13+(N13*5) -> 18995.33 | S13: =Q13+(N13*10) -> 29693.396 | T13: =Q13+(N13*15) -> 40391.463 | U13: =Q13+(N13*20) -> 51089.529 | V13: =Q13+(N13*25) -> 61787.595 | W13: =(N13*5)-L13 -> -23796.934 | X13: =(N13*10)-L13 -> -13098.868 | Y13: =(N13*15)-L13 -> -2400.8018 | Z13: =(N13*20)-L13 -> 8297.2643 | AA13: =(N13*25)-L13 -> 18995.33 | AB13: =(N13-L13)/L13 -> -0.93797324 | AC13: =(($N13*5)-$L13)/$L13 -> -0.68986618 | AD13: =(($N13*10)-$L13)/$L13 -> -0.37973236 | AE13: =(($N13*25)-$L13)/$L13 -> 0.55066909 | AF13: =(((($N13*25)-$L13)/$L13)/25)*(0.89392) -> 0.019690165 | AG13: =F13/E13 -> 0.90367347
C14: 3600066 | D14: 28677 | E14: 14400 | F14: 13086 | G14: =Table3[[#This Row],[Price]]/Table3[[#This Row],[STC Watts]] -> 1.9914583 | H14: 1962 | I14: =Table3[[#This Row],[Theoretical Monthly Output]]/Table3[[#This Row],[STC Watts]] -> 0.13625 | J14: =((H14*$D$3)/5)*(Table3[[#This Row],[PTC Watts]]/Table3[[#This Row],[STC Watts]]) -> 1604.6707 | K14: 60 | L14: =D14+(K14*75) -> 33177 | M14: =J14/$B$10 -> 0.75195443 | N14: =($B$10*$D$2*12)*M14 -> 2118.1654 | O14: =L14/N14 -> 15.663083 | P14: =N14*20 -> 42363.308 | Q14: =P14-L14 -> 9186.3078 | R14: =Q14+(N14*5) -> 19777.135 | S14: =Q14+(N14*10) -> 30367.962 | T14: =Q14+(N14*15) -> 40958.789 | U14: =Q14+(N14*20) -> 51549.616 | V14: =Q14+(N14*25) -> 62140.443 | W14: =(N14*5)-L14 -> -22586.173 | X14: =(N14*10)-L14 -> -11995.346 | Y14: =(N14*15)-L14 -> -1404.5192 | Z14: =(N14*20)-L14 -> 9186.3078 | AA14: =(N14*25)-L14 -> 19777.135 | AB14: =(N14-L14)/L14 -> -0.93615561 | AC14: =(($N14*5)-$L14)/$L14 -> -0.68077804 | AD14: =(($N14*10)-$L14)/$L14 -> -0.36155608 | AE14: =(($N14*25)-$L14)/$L14 -> 0.5961098 | AF14: =(((($N14*25)-$L14)/$L14)/25)*(0.89392) -> 0.021314979 | AG14: =F14/E14 -> 0.90875
C15: 3600124 | D15: 28560 | E15: 11750 | F15: 10590 | G15: =Table3[[#This Row],[Price]]/Table3[[#This Row],[STC Watts]] -> 2.4306383 | H15: 1588.5 | I15: =Table3[[#This Row],[Theoretical Monthly Output]]/Table3[[#This Row],[STC Watts]] -> 0.13519149 | J15: =((H15*$D$3)/5)*(Table3[[#This Row],[PTC Watts]]/Table3[[#This Row],[STC Watts]]) -> 1288.5101 | K15: 50 | L15: =D15+(K15*75) -> 32310 | M15: =J15/$B$10 -> 0.60380041 | N15: =($B$10*$D$2*12)*M15 -> 1700.8333 | O15: =L15/N15 -> 18.996571 | P15: =N15*20 -> 34016.666 | Q15: =P15-L15 -> 1706.6662 | R15: =Q15+(N15*5) -> 10210.833 | S15: =Q15+(N15*10) -> 18714.999 | T15: =Q15+(N15*15) -> 27219.166 | U15: =Q15+(N15*20) -> 35723.332 | V15: =Q15+(N15*25) -> 44227.499 | W15: =(N15*5)-L15 -> -23805.833 | X15: =(N15*10)-L15 -> -15301.667 | Y15: =(N15*15)-L15 -> -6797.5003 | Z15: =(N15*20)-L15 -> 1706.6662 | AA15: =(N15*25)-L15 -> 10210.833 | AB15: =(N15-L15)/L15 -> -0.94735892 | AC15: =(($N15*5)-$L15)/$L15 -> -0.7367946 | AD15: =(($N15*10)-$L15)/$L15 -> -0.47358919 | AE15: =(($N15*25)-$L15)/$L15 -> 0.31602701 | AF15: =(((($N15*25)-$L15)/$L15)/25)*(0.89392) -> 0.011300115 | AG15: =F15/E15 -> 0.9012766
C16: 3600157 | D16: 25980 | E16: 11750 | F16: 10590 | G16: =Table3[[#This Row],[Price]]/Table3[[#This Row],[STC Watts]] -> 2.2110638 | H16: 1589 | I16: =Table3[[#This Row],[Theoretical Monthly Output]]/Table3[[#This Row],[STC Watts]] -> 0.13523404 | J16: =((H16*$D$3)/5)*(Table3[[#This Row],[PTC Watts]]/Table3[[#This Row],[STC Watts]]) -> 1288.9157 | K16: 50 | L16: =D16+(K16*75) -> 29730 | M16: =J16/$B$10 -> 0.60399047 | N16: =($B$10*$D$2*12)*M16 -> 1701.3687 | O16: =L16/N16 -> 17.474167 | P16: =N16*20 -> 34027.373 | Q16: =P16-L16 -> 4297.3734 | R16: =Q16+(N16*5) -> 12804.217 | S16: =Q16+(N16*10) -> 21311.06 | T16: =Q16+(N16*15) -> 29817.903 | U16: =Q16+(N16*20) -> 38324.747 | V16: =Q16+(N16*25) -> 46831.59 | W16: =(N16*5)-L16 -> -21223.157 | X16: =(N16*10)-L16 -> -12716.313 | Y16: =(N16*15)-L16 -> -4209.4699 | Z16: =(N16*20)-L16 -> 4297.3734 | AA16: =(N16*25)-L16 -> 12804.217 | AB16: =(N16-L16)/L16 -> -0.94277266 | AC16: =(($N16*5)-$L16)/$L16 -> -0.71386332 | AD16: =(($N16*10)-$L16)/$L16 -> -0.42772665 | AE16: =(($N16*25)-$L16)/$L16 -> 0.43068338 | AF16: =(((($N16*25)-$L16)/$L16)/25)*(0.89392) -> 0.015399859 | AG16: =F16/E16 -> 0.9012766
C17: 1800152 | D17: 26755 | E17: 8460 | F17: 7625 | G17: =Table3[[#This Row],[Price]]/Table3[[#This Row],[STC Watts]] -> 3.1625296 | H17: 1143 | I17: =Table3[[#This Row],[Theoretical Monthly Output]]/Table3[[#This Row],[STC Watts]] -> 0.13510638 | J17: =((H17*$D$3)/5)*(Table3[[#This Row],[PTC Watts]]/Table3[[#This Row],[STC Watts]]) -> 927.16755 | K17: 36 | L17: =D17+(K17*75) -> 29455 | M17: =J17/$B$10 -> 0.43447402 | N17: =($B$10*$D$2*12)*M17 -> 1223.8612 | O17: =L17/N17 -> 24.067272 | P17: =N17*20 -> 24477.223 | Q17: =P17-L17 -> -4977.7766 | R17: =Q17+(N17*5) -> 1141.5293 | S17: =Q17+(N17*10) -> 7260.8351 | T17: =Q17+(N17*15) -> 13380.141 | U17: =Q17+(N17*20) -> 19499.447 | V17: =Q17+(N17*25) -> 25618.753 | W17: =(N17*5)-L17 -> -23335.694 | X17: =(N17*10)-L17 -> -17216.388 | Y17: =(N17*15)-L17 -> -11097.082 | Z17: =(N17*20)-L17 -> -4977.7766 | AA17: =(N17*25)-L17 -> 1141.5293 | AB17: =(N17-L17)/L17 -> -0.9584498 | AC17: =(($N17*5)-$L17)/$L17 -> -0.792249 | AD17: =(($N17*10)-$L17)/$L17 -> -0.58449799 | AE17: =(($N17*25)-$L17)/$L17 -> 0.038755025 | AF17: =(((($N17*25)-$L17)/$L17)/25)*(0.89392) -> 0.0013857557 | AG17: =F17/E17 -> 0.90130024
C18: 1049876 | D18: 24930 | E18: 12250 | F18: 11070 | G18: =Table3[[#This Row],[Price]]/Table3[[#This Row],[STC Watts]] -> 2.035102 | H18: 1661 | I18: =Table3[[#This Row],[Theoretical Monthly Output]]/Table3[[#This Row],[STC Watts]] -> 0.13559184 | J18: =((H18*$D$3)/5)*(Table3[[#This Row],[PTC Watts]]/Table3[[#This Row],[STC Watts]]) -> 1350.9015 | K18: 50 | L18: =D18+(K18*75) -> 28680 | M18: =J18/$B$10 -> 0.63303724 | N18: =($B$10*$D$2*12)*M18 -> 1783.1899 | O18: =L18/N18 -> 16.083536 | P18: =N18*20 -> 35663.799 | Q18: =P18-L18 -> 6983.7988 | R18: =Q18+(N18*5) -> 15899.748 | S18: =Q18+(N18*10) -> 24815.698 | T18: =Q18+(N18*15) -> 33731.648 | U18: =Q18+(N18*20) -> 42647.598 | V18: =Q18+(N18*25) -> 51563.547 | W18: =(N18*5)-L18 -> -19764.05 | X18: =(N18*10)-L18 -> -10848.101 | Y18: =(N18*15)-L18 -> -1932.1509 | Z18: =(N18*20)-L18 -> 6983.7988 | AA18: =(N18*25)-L18 -> 15899.748 | AB18: =(N18-L18)/L18 -> -0.93782462 | AC18: =(($N18*5)-$L18)/$L18 -> -0.68912309 | AD18: =(($N18*10)-$L18)/$L18 -> -0.37824619 | AE18: =(($N18*25)-$L18)/$L18 -> 0.55438454 | AF18: =(((($N18*25)-$L18)/$L18)/25)*(0.89392) -> 0.019823017 | AG18: =F18/E18 -> 0.90367347
C19: 3600023 | D19: 24820 | E19: 11750 | F19: 10450 | G19: =Table3[[#This Row],[Price]]/Table3[[#This Row],[STC Watts]] -> 2.1123404 | H19: 1567.5 | I19: =Table3[[#This Row],[Theoretical Monthly Output]]/Table3[[#This Row],[STC Watts]] -> 0.13340426 | J19: =((H19*$D$3)/5)*(Table3[[#This Row],[PTC Watts]]/Table3[[#This Row],[STC Watts]]) -> 1254.667 | K19: 50 | L19: =D19+(K19*75) -> 28570 | M19: =J19/$B$10 -> 0.58794143 | N19: =($B$10*$D$2*12)*M19 -> 1656.1605 | O19: =L19/N19 -> 17.250744 | P19: =N19*20 -> 33123.209 | Q19: =P19-L19 -> 4553.2094 | R19: =Q19+(N19*5) -> 12834.012 | S19: =Q19+(N19*10) -> 21114.814 | T19: =Q19+(N19*15) -> 29395.616 | U19: =Q19+(N19*20) -> 37676.419 | V19: =Q19+(N19*25) -> 45957.221 | W19: =(N19*5)-L19 -> -20289.198 | X19: =(N19*10)-L19 -> -12008.395 | Y19: =(N19*15)-L19 -> -3727.593 | Z19: =(N19*20)-L19 -> 4553.2094 | AA19: =(N19*25)-L19 -> 12834.012 | AB19: =(N19-L19)/L19 -> -0.94203149 | AC19: =(($N19*5)-$L19)/$L19 -> -0.71015743 | AD19: =(($N19*10)-$L19)/$L19 -> -0.42031485 | AE19: =(($N19*25)-$L19)/$L19 -> 0.44921287 | AF19: =(((($N19*25)-$L19)/$L19)/25)*(0.89392) -> 0.016062415 | AG19: =F19/E19 -> 0.8893617
C20: 3600167 | D20: 23895 | E20: 12250 | F20: 11070 | G20: =Table3[[#This Row],[Price]]/Table3[[#This Row],[STC Watts]] -> 1.9506122 | H20: 1661 | I20: =Table3[[#This Row],[Theoretical Monthly Output]]/Table3[[#This Row],[STC Watts]] -> 0.13559184 | J20: =((H20*$D$3)/5)*(Table3[[#This Row],[PTC Watts]]/Table3[[#This Row],[STC Watts]]) -> 1350.9015 | K20: 50 | L20: =D20+(K20*75) -> 27645 | M20: =J20/$B$10 -> 0.63303724 | N20: =($B$10*$D$2*12)*M20 -> 1783.1899 | O20: =L20/N20 -> 15.503116 | P20: =N20*20 -> 35663.799 | Q20: =P20-L20 -> 8018.7988 | R20: =Q20+(N20*5) -> 16934.748 | S20: =Q20+(N20*10) -> 25850.698 | T20: =Q20+(N20*15) -> 34766.648 | U20: =Q20+(N20*20) -> 43682.598 | V20: =Q20+(N20*25) -> 52598.547 | W20: =(N20*5)-L20 -> -18729.05 | X20: =(N20*10)-L20 -> -9813.1006 | Y20: =(N20*15)-L20 -> -897.15091 | Z20: =(N20*20)-L20 -> 8018.7988 | AA20: =(N20*25)-L20 -> 16934.748 | AB20: =(N20-L20)/L20 -> -0.93549684 | AC20: =(($N20*5)-$L20)/$L20 -> -0.67748419 | AD20: =(($N20*10)-$L20)/$L20 -> -0.35496837 | AE20: =(($N20*25)-$L20)/$L20 -> 0.61257907 | AF20: =(((($N20*25)-$L20)/$L20)/25)*(0.89392) -> 0.021903867 | AG20: =F20/E20 -> 0.90367347
C21: 3610033 | D21: 23120 | E21: 9400 | F21: 8472 | G21: =Table3[[#This Row],[Price]]/Table3[[#This Row],[STC Watts]] -> 2.4595745 | H21: 1271 | I21: =Table3[[#This Row],[Theoretical Monthly Output]]/Table3[[#This Row],[STC Watts]] -> 0.13521277 | J21: =((H21*$D$3)/5)*(Table3[[#This Row],[PTC Watts]]/Table3[[#This Row],[STC Watts]]) -> 1030.9703 | K21: 40 | L21: =D21+(K21*75) -> 26120 | M21: =J21/$B$10 -> 0.48311635 | N21: =($B$10*$D$2*12)*M21 -> 1360.8808 | O21: =L21/N21 -> 19.193452 | P21: =N21*20 -> 27217.616 | Q21: =P21-L21 -> 1097.6159 | R21: =Q21+(N21*5) -> 7902.0198 | S21: =Q21+(N21*10) -> 14706.424 | T21: =Q21+(N21*15) -> 21510.828 | U21: =Q21+(N21*20) -> 28315.232 | V21: =Q21+(N21*25) -> 35119.636 | W21: =(N21*5)-L21 -> -19315.596 | X21: =(N21*10)-L21 -> -12511.192 | Y21: =(N21*15)-L21 -> -5706.7881 | Z21: =(N21*20)-L21 -> 1097.6159 | AA21: =(N21*25)-L21 -> 7902.0198 | AB21: =(N21-L21)/L21 -> -0.9478989 | AC21: =(($N21*5)-$L21)/$L21 -> -0.73949449 | AD21: =(($N21*10)-$L21)/$L21 -> -0.47898898 | AE21: =(($N21*25)-$L21)/$L21 -> 0.30252756 | AF21: =(((($N21*25)-$L21)/$L21)/25)*(0.89392) -> 0.010817417 | AG21: =F21/E21 -> 0.9012766
C22: 5500102 | D22: 23350 | E22: 8640 | F22: 7851 | G22: =Table3[[#This Row],[Price]]/Table3[[#This Row],[STC Watts]] -> 2.7025463 | H22: 1177 | I22: =Table3[[#This Row],[Theoretical Monthly Output]]/Table3[[#This Row],[STC Watts]] -> 0.13622685 | J22: =((H22*$D$3)/5)*(Table3[[#This Row],[PTC Watts]]/Table3[[#This Row],[STC Watts]]) -> 962.56531 | K22: 36 | L22: =D22+(K22*75) -> 26050 | M22: =J22/$B$10 -> 0.45106153 | N22: =($B$10*$D$2*12)*M22 -> 1270.5862 | O22: =L22/N22 -> 20.502347 | P22: =N22*20 -> 25411.724 | Q22: =P22-L22 -> -638.27575 | R22: =Q22+(N22*5) -> 5714.6553 | S22: =Q22+(N22*10) -> 12067.586 | T22: =Q22+(N22*15) -> 18420.517 | U22: =Q22+(N22*20) -> 24773.449 | V22: =Q22+(N22*25) -> 31126.38 | W22: =(N22*5)-L22 -> -19697.069 | X22: =(N22*10)-L22 -> -13344.138 | Y22: =(N22*15)-L22 -> -6991.2068 | Z22: =(N22*20)-L22 -> -638.27575 | AA22: =(N22*25)-L22 -> 5714.6553 | AB22: =(N22-L22)/L22 -> -0.9512251 | AC22: =(($N22*5)-$L22)/$L22 -> -0.75612549 | AD22: =(($N22*10)-$L22)/$L22 -> -0.51225097 | AE22: =(($N22*25)-$L22)/$L22 -> 0.21937256 | AF22: =(((($N22*25)-$L22)/$L22)/25)*(0.89392) -> 0.0078440609 | AG22: =F22/E22 -> 0.90868056
... C44: 3600031 | D44: 12255 | E44: 4700 | F44: 4236 | G44: =Table3[[#This Row],[Price]]/Table3[[#This Row],[STC Watts]] -> 2.6074468 | H44: 635.4 | I44: =Table3[[#This Row],[Theoretical Monthly Output]]/Table3[[#This Row],[STC Watts]] -> 0.13519149 | J44: =((H44*$D$3)/5)*(Table3[[#This Row],[PTC Watts]]/Table3[[#This Row],[STC Watts]]) -> 515.40403 | K44: 20 | L44: =D44+(K44*75) -> 13755 | M44: =J44/$B$10 -> 0.24152017 | N44: =($B$10*$D$2*12)*M44 -> 680.33332 | O44: =L44/N44 -> 20.218031 | P44: =N44*20 -> 13606.666 | Q44: =P44-L44 -> -148.3335 | R44: =Q44+(N44*5) -> 3253.3331 | S44: =Q44+(N44*10) -> 6654.9997 | T44: =Q44+(N44*15) -> 10056.666 | U44: =Q44+(N44*20) -> 13458.333 | V44: =Q44+(N44*25) -> 16860 | W44: =(N44*5)-L44 -> -10353.333 | X44: =(N44*10)-L44 -> -6951.6668 | Y44: =(N44*15)-L44 -> -3550.0001 | Z44: =(N44*20)-L44 -> -148.3335 | AA44: =(N44*25)-L44 -> 3253.3331 | AB44: =(N44-L44)/L44 -> -0.9505392 | AC44: =(($N44*5)-$L44)/$L44 -> -0.75269599 | AD44: =(($N44*10)-$L44)/$L44 -> -0.50539198 | AE44: =(($N44*25)-$L44)/$L44 -> 0.23652004 | AF44: =(((($N44*25)-$L44)/$L44)/25)*(0.89392) -> 0.0084571997 | AG44: =F44/E44 -> 0.9012766
B45: x | C45: 3600060 | D45: 11411 | E45: 5760 | F45: 5234.5 | G45: =Table3[[#This Row],[Price]]/Table3[[#This Row],[STC Watts]] -> 1.9810764 | H45: 785 | I45: =Table3[[#This Row],[Theoretical Monthly Output]]/Table3[[#This Row],[STC Watts]] -> 0.13628472 | J45: =((H45*$D$3)/5)*(Table3[[#This Row],[PTC Watts]]/Table3[[#This Row],[STC Watts]]) -> 642.04414 | K45: 24 | L45: =D45+(K45*75) -> 13211 | M45: =J45/$B$10 -> 0.30086417 | N45: =($B$10*$D$2*12)*M45 -> 847.49827 | O45: =L45/N45 -> 15.588232 | P45: =N45*20 -> 16949.965 | Q45: =P45-L45 -> 3738.9653 | R45: =Q45+(N45*5) -> 7976.4566 | S45: =Q45+(N45*10) -> 12213.948 | T45: =Q45+(N45*15) -> 16451.439 | U45: =Q45+(N45*20) -> 20688.931 | V45: =Q45+(N45*25) -> 24926.422 | W45: =(N45*5)-L45 -> -8973.5087 | X45: =(N45*10)-L45 -> -4736.0173 | Y45: =(N45*15)-L45 -> -498.52602 | Z45: =(N45*20)-L45 -> 3738.9653 | AA45: =(N45*25)-L45 -> 7976.4566 | AB45: =(N45-L45)/L45 -> -0.93584905 | AC45: =(($N45*5)-$L45)/$L45 -> -0.67924523 | AD45: =(($N45*10)-$L45)/$L45 -> -0.35849045 | AE45: =(($N45*25)-$L45)/$L45 -> 0.60377387 | AF45: =(((($N45*25)-$L45)/$L45)/25)*(0.89392) -> 0.021589022 | AG45: =F45/E45 -> 0.90876736
C46: 3600113 | D46: 11700 | E46: 4700 | F46: 4236 | G46: =Table3[[#This Row],[Price]]/Table3[[#This Row],[STC Watts]] -> 2.4893617 | H46: 635 | I46: =Table3[[#This Row],[Theoretical Monthly Output]]/Table3[[#This Row],[STC Watts]] -> 0.13510638 | J46: =((H46*$D$3)/5)*(Table3[[#This Row],[PTC Watts]]/Table3[[#This Row],[STC Watts]]) -> 515.07957 | K46: 20 | L46: =D46+(K46*75) -> 13200 | M46: =J46/$B$10 -> 0.24136812 | N46: =($B$10*$D$2*12)*M46 -> 679.90504 | O46: =L46/N46 -> 19.414476 | P46: =N46*20 -> 13598.101 | Q46: =P46-L46 -> 398.10077 | R46: =Q46+(N46*5) -> 3797.626 | S46: =Q46+(N46*10) -> 7197.1511 | T46: =Q46+(N46*15) -> 10596.676 | U46: =Q46+(N46*20) -> 13996.202 | V46: =Q46+(N46*25) -> 17395.727 | W46: =(N46*5)-L46 -> -9800.4748 | X46: =(N46*10)-L46 -> -6400.9496 | Y46: =(N46*15)-L46 -> -3001.4244 | Z46: =(N46*20)-L46 -> 398.10077 | AA46: =(N46*25)-L46 -> 3797.626 | AB46: =(N46-L46)/L46 -> -0.94849204 | AC46: =(($N46*5)-$L46)/$L46 -> -0.74246021 | AD46: =(($N46*10)-$L46)/$L46 -> -0.48492043 | AE46: =(($N46*25)-$L46)/$L46 -> 0.28769894 | AF46: =(((($N46*25)-$L46)/$L46)/25)*(0.89392) -> 0.010287193 | AG46: =F46/E46 -> 0.9012766
C47: 3600059 | D47: 10791 | E47: 4800 | F47: 4362 | G47: =Table3[[#This Row],[Price]]/Table3[[#This Row],[STC Watts]] -> 2.248125 | H47: 654 | I47: =Table3[[#This Row],[Theoretical Monthly Output]]/Table3[[#This Row],[STC Watts]] -> 0.13625 | J47: =((H47*$D$3)/5)*(Table3[[#This Row],[PTC Watts]]/Table3[[#This Row],[STC Watts]]) -> 534.89025 | K47: 20 | L47: =D47+(K47*75) -> 12291 | M47: =J47/$B$10 -> 0.25065148 | N47: =($B$10*$D$2*12)*M47 -> 706.05513 | O47: =L47/N47 -> 17.407989 | P47: =N47*20 -> 14121.103 | Q47: =P47-L47 -> 1830.1026 | R47: =Q47+(N47*5) -> 5360.3783 | S47: =Q47+(N47*10) -> 8890.6539 | T47: =Q47+(N47*15) -> 12420.93 | U47: =Q47+(N47*20) -> 15951.205 | V47: =Q47+(N47*25) -> 19481.481 | W47: =(N47*5)-L47 -> -8760.7244 | X47: =(N47*10)-L47 -> -5230.4487 | Y47: =(N47*15)-L47 -> -1700.173 | Z47: =(N47*20)-L47 -> 1830.1026 | AA47: =(N47*25)-L47 -> 5360.3783 | AB47: =(N47-L47)/L47 -> -0.94255511 | AC47: =(($N47*5)-$L47)/$L47 -> -0.71277556 | AD47: =(($N47*10)-$L47)/$L47 -> -0.42555111 | AE47: =(($N47*25)-$L47)/$L47 -> 0.43612222 | AF47: =(((($N47*25)-$L47)/$L47)/25)*(0.89392) -> 0.015594335 | AG47: =F47/E47 -> 0.90875
C48: 3600161 | D48: 10750 | E48: 4990 | F48: 4428 | G48: =Table3[[#This Row],[Price]]/Table3[[#This Row],[STC Watts]] -> 2.1543086 | H48: 664 | I48: =Table3[[#This Row],[Theoretical Monthly Output]]/Table3[[#This Row],[STC Watts]] -> 0.13306613 | J48: =((H48*$D$3)/5)*(Table3[[#This Row],[PTC Watts]]/Table3[[#This Row],[STC Watts]]) -> 530.29515 | K48: 20 | L48: =D48+(K48*75) -> 12250 | M48: =J48/$B$10 -> 0.2484982 | N48: =($B$10*$D$2*12)*M48 -> 699.9896 | O48: =L48/N48 -> 17.50026 | P48: =N48*20 -> 13999.792 | Q48: =P48-L48 -> 1749.792 | R48: =Q48+(N48*5) -> 5249.74 | S48: =Q48+(N48*10) -> 8749.688 | T48: =Q48+(N48*15) -> 12249.636 | U48: =Q48+(N48*20) -> 15749.584 | V48: =Q48+(N48*25) -> 19249.532 | W48: =(N48*5)-L48 -> -8750.052 | X48: =(N48*10)-L48 -> -5250.104 | Y48: =(N48*15)-L48 -> -1750.156 | Z48: =(N48*20)-L48 -> 1749.792 | AA48: =(N48*25)-L48 -> 5249.74 | AB48: =(N48-L48)/L48 -> -0.94285799 | AC48: =(($N48*5)-$L48)/$L48 -> -0.71428996 | AD48: =(($N48*10)-$L48)/$L48 -> -0.42857992 | AE48: =(($N48*25)-$L48)/$L48 -> 0.4285502 | AF48: =(((($N48*25)-$L48)/$L48)/25)*(0.89392) -> 0.015323584 | AG48: =F48/E48 -> 0.88737475
C49: 1049874 | D49: 10675 | E49: 4900 | F49: 4428 | G49: =Table3[[#This Row],[Price]]/Table3[[#This Row],[STC Watts]] -> 2.1785714 | H49: 664 | I49: =Table3[[#This Row],[Theoretical Monthly Output]]/Table3[[#This Row],[STC Watts]] -> 0.1355102 | J49: =((H49*$D$3)/5)*(Table3[[#This Row],[PTC Watts]]/Table3[[#This Row],[STC Watts]]) -> 540.03527 | K49: 20 | L49: =D49+(K49*75) -> 12175 | M49: =J49/$B$10 -> 0.25306245 | N49: =($B$10*$D$2*12)*M49 -> 712.84655 | O49: =L49/N49 -> 17.079412 | P49: =N49*20 -> 14256.931 | Q49: =P49-L49 -> 2081.931 | R49: =Q49+(N49*5) -> 5646.1638 | S49: =Q49+(N49*10) -> 9210.3965 | T49: =Q49+(N49*15) -> 12774.629 | U49: =Q49+(N49*20) -> 16338.862 | V49: =Q49+(N49*25) -> 19903.095 | W49: =(N49*5)-L49 -> -8610.7672 | X49: =(N49*10)-L49 -> -5046.5345 | Y49: =(N49*15)-L49 -> -1482.3017 | Z49: =(N49*20)-L49 -> 2081.931 | AA49: =(N49*25)-L49 -> 5646.1638 | AB49: =(N49-L49)/L49 -> -0.94144998 | AC49: =(($N49*5)-$L49)/$L49 -> -0.70724988 | AD49: =(($N49*10)-$L49)/$L49 -> -0.41449975 | AE49: =(($N49*25)-$L49)/$L49 -> 0.46375062 | AF49: =(((($N49*25)-$L49)/$L49)/25)*(0.89392) -> 0.016582238 | AG49: =F49/E49 -> 0.90367347
C50: 3600081 | D50: 10210 | E50: 4700 | F50: 4180 | G50: =Table3[[#This Row],[Price]]/Table3[[#This Row],[STC Watts]] -> 2.1723404 | H50: 627 | I50: =Table3[[#This Row],[Theoretical Monthly Output]]/Table3[[#This Row],[STC Watts]] -> 0.13340426 | J50: =((H50*$D$3)/5)*(Table3[[#This Row],[PTC Watts]]/Table3[[#This Row],[STC Watts]]) -> 501.86681 | K50: 20 | L50: =D50+(K50*75) -> 11710 | M50: =J50/$B$10 -> 0.23517657 | N50: =($B$10*$D$2*12)*M50 -> 662.46419 | O50: =L50/N50 -> 17.676427 | P50: =N50*20 -> 13249.284 | Q50: =P50-L50 -> 1539.2837 | R50: =Q50+(N50*5) -> 4851.6047 | S50: =Q50+(N50*10) -> 8163.9256 | T50: =Q50+(N50*15) -> 11476.247 | U50: =Q50+(N50*20) -> 14788.567 | V50: =Q50+(N50*25) -> 18100.888 | W50: =(N50*5)-L50 -> -8397.6791 | X50: =(N50*10)-L50 -> -5085.3581 | Y50: =(N50*15)-L50 -> -1773.0372 | Z50: =(N50*20)-L50 -> 1539.2837 | AA50: =(N50*25)-L50 -> 4851.6047 | AB50: =(N50-L50)/L50 -> -0.94342748 | AC50: =(($N50*5)-$L50)/$L50 -> -0.71713741 | AD50: =(($N50*10)-$L50)/$L50 -> -0.43427482 | AE50: =(($N50*25)-$L50)/$L50 -> 0.41431295 | AF50: =(((($N50*25)-$L50)/$L50)/25)*(0.89392) -> 0.014814505 | AG50: =F50/E50 -> 0.8893617
C51: 3600030 | D51: 9615 | E51: 3525 | F51: 3177 | G51: =Table3[[#This Row],[Price]]/Table3[[#This Row],[STC Watts]] -> 2.7276596 | H51: 476.6 | I51: =Table3[[#This Row],[Theoretical Monthly Output]]/Table3[[#This Row],[STC Watts]] -> 0.13520567 | J51: =((H51*$D$3)/5)*(Table3[[#This Row],[PTC Watts]]/Table3[[#This Row],[STC Watts]]) -> 386.59358 | K51: 15 | L51: =D51+(K51*75) -> 10740 | M51: =J51/$B$10 -> 0.18115913 | N51: =($B$10*$D$2*12)*M51 -> 510.30353 | O51: =L51/N51 -> 21.046298 | P51: =N51*20 -> 10206.071 | Q51: =P51-L51 -> -533.92941 | R51: =Q51+(N51*5) -> 2017.5882 | S51: =Q51+(N51*10) -> 4569.1059 | T51: =Q51+(N51*15) -> 7120.6235 | U51: =Q51+(N51*20) -> 9672.1412 | V51: =Q51+(N51*25) -> 12223.659 | W51: =(N51*5)-L51 -> -8188.4824 | X51: =(N51*10)-L51 -> -5636.9647 | Y51: =(N51*15)-L51 -> -3085.4471 | Z51: =(N51*20)-L51 -> -533.92941 | AA51: =(N51*25)-L51 -> 2017.5882 | AB51: =(N51-L51)/L51 -> -0.9524857 | AC51: =(($N51*5)-$L51)/$L51 -> -0.76242852 | AD51: =(($N51*10)-$L51)/$L51 -> -0.52485705 | AE51: =(($N51*25)-$L51)/$L51 -> 0.18785738 | AF51: =(((($N51*25)-$L51)/$L51)/25)*(0.89392) -> 0.0067171787 | AG51: =F51/E51 -> 0.9012766
C52: 5500103 | D52: 9593 | E52: 3525 | F52: 3135 | G52: =Table3[[#This Row],[Price]]/Table3[[#This Row],[STC Watts]] -> 2.7214184 | H52: 470.25 | I52: =Table3[[#This Row],[Theoretical Monthly Output]]/Table3[[#This Row],[STC Watts]] -> 0.13340426 | J52: =((H52*$D$3)/5)*(Table3[[#This Row],[PTC Watts]]/Table3[[#This Row],[STC Watts]]) -> 376.40011 | K52: 15 | L52: =D52+(K52*75) -> 10718 | M52: =J52/$B$10 -> 0.17638243 | N52: =($B$10*$D$2*12)*M52 -> 496.84814 | O52: =L52/N52 -> 21.571984 | P52: =N52*20 -> 9936.9628 | Q52: =P52-L52 -> -781.03719 | R52: =Q52+(N52*5) -> 1703.2035 | S52: =Q52+(N52*10) -> 4187.4442 | T52: =Q52+(N52*15) -> 6671.6849 | U52: =Q52+(N52*20) -> 9155.9256 | V52: =Q52+(N52*25) -> 11640.166 | W52: =(N52*5)-L52 -> -8233.7593 | X52: =(N52*10)-L52 -> -5749.5186 | Y52: =(N52*15)-L52 -> -3265.2779 | Z52: =(N52*20)-L52 -> -781.03719 | AA52: =(N52*25)-L52 -> 1703.2035 | AB52: =(N52-L52)/L52 -> -0.95364358 | AC52: =(($N52*5)-$L52)/$L52 -> -0.76821789 | AD52: =(($N52*10)-$L52)/$L52 -> -0.53643577 | AE52: =(($N52*25)-$L52)/$L52 -> 0.15891057 | AF52: =(((($N52*25)-$L52)/$L52)/25)*(0.89392) -> 0.0056821335 | AG52: =F52/E52 -> 0.8893617
C53: 1049873 | D53: 8500 | E53: 3675 | F53: 3321 | G53: =Table3[[#This Row],[Price]]/Table3[[#This Row],[STC Watts]] -> 2.3129252 | H53: 498 | I53: =Table3[[#This Row],[Theoretical Monthly Output]]/Table3[[#This Row],[STC Watts]] -> 0.1355102 | J53: =((H53*$D$3)/5)*(Table3[[#This Row],[PTC Watts]]/Table3[[#This Row],[STC Watts]]) -> 405.02645 | K53: 15 | L53: =D53+(K53*75) -> 9625 | M53: =J53/$B$10 -> 0.18979684 | N53: =($B$10*$D$2*12)*M53 -> 534.63491 | O53: =L53/N53 -> 18.00294 | P53: =N53*20 -> 10692.698 | Q53: =P53-L53 -> 1067.6983 | R53: =Q53+(N53*5) -> 3740.8728 | S53: =Q53+(N53*10) -> 6414.0474 | T53: =Q53+(N53*15) -> 9087.2219 | U53: =Q53+(N53*20) -> 11760.397 | V53: =Q53+(N53*25) -> 14433.571 | W53: =(N53*5)-L53 -> -6951.8254 | X53: =(N53*10)-L53 -> -4278.6509 | Y53: =(N53*15)-L53 -> -1605.4763 | Z53: =(N53*20)-L53 -> 1067.6983 | AA53: =(N53*25)-L53 -> 3740.8728 | AB53: =(N53-L53)/L53 -> -0.94445352 | AC53: =(($N53*5)-$L53)/$L53 -> -0.72226758 | AD53: =(($N53*10)-$L53)/$L53 -> -0.44453516 | AE53: =(($N53*25)-$L53)/$L53 -> 0.38866211 | AF53: =(((($N53*25)-$L53)/$L53)/25)*(0.89392) -> 0.013897313 | AG53: =F53/E53 -> 0.90367347
C54: 3600080 | D54: 8070 | E54: 3525 | F54: 3135 | G54: =Table3[[#This Row],[Price]]/Table3[[#This Row],[STC Watts]] -> 2.2893617 | H54: 470.25 | I54: =Table3[[#This Row],[Theoretical Monthly Output]]/Table3[[#This Row],[STC Watts]] -> 0.13340426 | J54: =((H54*$D$3)/5)*(Table3[[#This Row],[PTC Watts]]/Table3[[#This Row],[STC Watts]]) -> 376.40011 | K54: 15 | L54: =D54+(K54*75) -> 9195 | M54: =J54/$B$10 -> 0.17638243 | N54: =($B$10*$D$2*12)*M54 -> 496.84814 | O54: =L54/N54 -> 18.506661 | P54: =N54*20 -> 9936.9628 | Q54: =P54-L54 -> 741.96281 | R54: =Q54+(N54*5) -> 3226.2035 | S54: =Q54+(N54*10) -> 5710.4442 | T54: =Q54+(N54*15) -> 8194.6849 | U54: =Q54+(N54*20) -> 10678.926 | V54: =Q54+(N54*25) -> 13163.166 | W54: =(N54*5)-L54 -> -6710.7593 | X54: =(N54*10)-L54 -> -4226.5186 | Y54: =(N54*15)-L54 -> -1742.2779 | Z54: =(N54*20)-L54 -> 741.96281 | AA54: =(N54*25)-L54 -> 3226.2035 | AB54: =(N54-L54)/L54 -> -0.9459654 | AC54: =(($N54*5)-$L54)/$L54 -> -0.729827 | AD54: =(($N54*10)-$L54)/$L54 -> -0.45965401 | AE54: =(($N54*25)-$L54)/$L54 -> 0.35086498 | AF54: =(((($N54*25)-$L54)/$L54)/25)*(0.89392) -> 0.012545809 | AG54: =F54/E54 -> 0.8893617
C55: 3600112 | D55: 7365 | E55: 2820 | F55: 2542 | G55: =Table3[[#This Row],[Price]]/Table3[[#This Row],[STC Watts]] -> 2.6117021 | H55: 381 | I55: =Table3[[#This Row],[Theoretical Monthly Output]]/Table3[[#This Row],[STC Watts]] -> 0.13510638 | J55: =((H55*$D$3)/5)*(Table3[[#This Row],[PTC Watts]]/Table3[[#This Row],[STC Watts]]) -> 309.09638 | K55: 12 | L55: =D55+(K55*75) -> 8265 | M55: =J55/$B$10 -> 0.14484367 | N55: =($B$10*$D$2*12)*M55 -> 408.00723 | O55: =L55/N55 -> 20.256994 | P55: =N55*20 -> 8160.1445 | Q55: =P55-L55 -> -104.85549 | R55: =Q55+(N55*5) -> 1935.1806 | S55: =Q55+(N55*10) -> 3975.2168 | T55: =Q55+(N55*15) -> 6015.2529 | U55: =Q55+(N55*20) -> 8055.289 | V55: =Q55+(N55*25) -> 10095.325 | W55: =(N55*5)-L55 -> -6224.9639 | X55: =(N55*10)-L55 -> -4184.9277 | Y55: =(N55*15)-L55 -> -2144.8916 | Z55: =(N55*20)-L55 -> -104.85549 | AA55: =(N55*25)-L55 -> 1935.1806 | AB55: =(N55-L55)/L55 -> -0.95063433 | AC55: =(($N55*5)-$L55)/$L55 -> -0.75317167 | AD55: =(($N55*10)-$L55)/$L55 -> -0.50634334 | AE55: =(($N55*25)-$L55)/$L55 -> 0.23414164 | AF55: =(((($N55*25)-$L55)/$L55)/25)*(0.89392) -> 0.0083721557 | AG55: =F55/E55 -> 0.90141844
C56: 3610029 | D56: 7005 | E56: 2350 | F56: 2118 | G56: =Table3[[#This Row],[Price]]/Table3[[#This Row],[STC Watts]] -> 2.9808511 | H56: 317.7 | I56: =Table3[[#This Row],[Theoretical Monthly Output]]/Table3[[#This Row],[STC Watts]] -> 0.13519149 | J56: =((H56*$D$3)/5)*(Table3[[#This Row],[PTC Watts]]/Table3[[#This Row],[STC Watts]]) -> 257.70202 | K56: 10 | L56: =D56+(K56*75) -> 7755 | M56: =J56/$B$10 -> 0.12076008 | N56: =($B$10*$D$2*12)*M56 -> 340.16666 | O56: =L56/N56 -> 22.797648 | P56: =N56*20 -> 6803.3332 | Q56: =P56-L56 -> -951.66675 | R56: =Q56+(N56*5) -> 749.16656 | S56: =Q56+(N56*10) -> 2449.9999 | T56: =Q56+(N56*15) -> 4150.8332 | U56: =Q56+(N56*20) -> 5851.6665 | V56: =Q56+(N56*25) -> 7552.4998 | W56: =(N56*5)-L56 -> -6054.1667 | X56: =(N56*10)-L56 -> -4353.3334 | Y56: =(N56*15)-L56 -> -2652.5001 | Z56: =(N56*20)-L56 -> -951.66675 | AA56: =(N56*25)-L56 -> 749.16656 | AB56: =(N56-L56)/L56 -> -0.95613583 | AC56: =(($N56*5)-$L56)/$L56 -> -0.78067913 | AD56: =(($N56*10)-$L56)/$L56 -> -0.56135827 | AE56: =(($N56*25)-$L56)/$L56 -> 0.096604328 | AF56: =(((($N56*25)-$L56)/$L56)/25)*(0.89392) -> 0.0034542616 | AG56: =F56/E56 -> 0.9012766
C57: 3600058 | D57: 6732 | E57: 2880 | F57: 2617.2 | G57: =Table3[[#This Row],[Price]]/Table3[[#This Row],[STC Watts]] -> 2.3375 | H57: 392.58 | I57: =Table3[[#This Row],[Theoretical Monthly Output]]/Table3[[#This Row],[STC Watts]] -> 0.1363125 | J57: =((H57*$D$3)/5)*(Table3[[#This Row],[PTC Watts]]/Table3[[#This Row],[STC Watts]]) -> 321.08137 | K57: 12 | L57: =D57+(K57*75) -> 7632 | M57: =J57/$B$10 -> 0.15045987 | N57: =($B$10*$D$2*12)*M57 -> 423.82741 | O57: =L57/N57 -> 18.00733 | P57: =N57*20 -> 8476.5481 | Q57: =P57-L57 -> 844.5481 | R57: =Q57+(N57*5) -> 2963.6851 | S57: =Q57+(N57*10) -> 5082.8222 | T57: =Q57+(N57*15) -> 7201.9592 | U57: =Q57+(N57*20) -> 9321.0962 | V57: =Q57+(N57*25) -> 11440.233 | W57: =(N57*5)-L57 -> -5512.863 | X57: =(N57*10)-L57 -> -3393.7259 | Y57: =(N57*15)-L57 -> -1274.5889 | Z57: =(N57*20)-L57 -> 844.5481 | AA57: =(N57*25)-L57 -> 2963.6851 | AB57: =(N57-L57)/L57 -> -0.94446706 | AC57: =(($N57*5)-$L57)/$L57 -> -0.7223353 | AD57: =(($N57*10)-$L57)/$L57 -> -0.44467059 | AE57: =(($N57*25)-$L57)/$L57 -> 0.38832352 | AF57: =(((($N57*25)-$L57)/$L57)/25)*(0.89392) -> 0.013885207 | AG57: =F57/E57 -> 0.90875
... C62: 1049871 | D62: 5280 | E62: 1960 | F62: 1771 | G62: =Table3[[#This Row],[Price]]/Table3[[#This Row],[STC Watts]] -> 2.6938776 | H62: 265.7 | I62: =Table3[[#This Row],[Theoretical Monthly Output]]/Table3[[#This Row],[STC Watts]] -> 0.13556122 | J62: =((H62*$D$3)/5)*(Table3[[#This Row],[PTC Watts]]/Table3[[#This Row],[STC Watts]]) -> 216.07104 | K62: 8 | L62: =D62+(K62*75) -> 5880 | M62: =J62/$B$10 -> 0.10125166 | N62: =($B$10*$D$2*12)*M62 -> 285.21377 | O62: =L62/N62 -> 20.616116 | P62: =N62*20 -> 5704.2753 | Q62: =P62-L62 -> -175.72466 | R62: =Q62+(N62*5) -> 1250.3442 | S62: =Q62+(N62*10) -> 2676.413 | T62: =Q62+(N62*15) -> 4102.4819 | U62: =Q62+(N62*20) -> 5528.5507 | V62: =Q62+(N62*25) -> 6954.6195 | W62: =(N62*5)-L62 -> -4453.9312 | X62: =(N62*10)-L62 -> -3027.8623 | Y62: =(N62*15)-L62 -> -1601.7935 | Z62: =(N62*20)-L62 -> -175.72466 | AA62: =(N62*25)-L62 -> 1250.3442 | AB62: =(N62-L62)/L62 -> -0.95149426 | AC62: =(($N62*5)-$L62)/$L62 -> -0.75747129 | AD62: =(($N62*10)-$L62)/$L62 -> -0.51494257 | AE62: =(($N62*25)-$L62)/$L62 -> 0.21264357 | AF62: =(((($N62*25)-$L62)/$L62)/25)*(0.89392) -> 0.0076034535 | AG62: =F62/E62 -> 0.90357143
B63: x | C63: 3600078 | D63: 4955 | E63: 1880 | F63: 1672 | G63: =Table3[[#This Row],[Price]]/Table3[[#This Row],[STC Watts]] -> 2.6356383 | H63: 313.5 | I63: =Table3[[#This Row],[Theoretical Monthly Output]]/Table3[[#This Row],[STC Watts]] -> 0.16675532 | J63: =((H63*$D$3)/5)*(Table3[[#This Row],[PTC Watts]]/Table3[[#This Row],[STC Watts]]) -> 250.9334 | K63: 8 | L63: =D63+(K63*75) -> 5555 | M63: =J63/$B$10 -> 0.11758829 | N63: =($B$10*$D$2*12)*M63 -> 331.23209 | O63: =L63/N63 -> 16.770718 | P63: =N63*20 -> 6624.6419 | Q63: =P63-L63 -> 1069.6419 | R63: =Q63+(N63*5) -> 2725.8023 | S63: =Q63+(N63*10) -> 4381.9628 | T63: =Q63+(N63*15) -> 6038.1233 | U63: =Q63+(N63*20) -> 7694.2837 | V63: =Q63+(N63*25) -> 9350.4442 | W63: =(N63*5)-L63 -> -3898.8395 | X63: =(N63*10)-L63 -> -2242.6791 | Y63: =(N63*15)-L63 -> -586.5186 | Z63: =(N63*20)-L63 -> 1069.6419 | AA63: =(N63*25)-L63 -> 2725.8023 | AB63: =(N63-L63)/L63 -> -0.94037226 | AC63: =(($N63*5)-$L63)/$L63 -> -0.7018613 | AD63: =(($N63*10)-$L63)/$L63 -> -0.4037226 | AE63: =(($N63*25)-$L63)/$L63 -> 0.49069349 | AF63: =(((($N63*25)-$L63)/$L63)/25)*(0.89392) -> 0.017545629 | AG63: =F63/E63 -> 0.8893617
C64: 2800355 | D64: 3625 | E64: 1000 | F64: 896 | G64: =Table3[[#This Row],[Price]]/Table3[[#This Row],[STC Watts]] -> 3.625 | H64: 134.5 | I64: =Table3[[#This Row],[Theoretical Monthly Output]]/Table3[[#This Row],[STC Watts]] -> 0.1345 | J64: =((H64*$D$3)/5)*(Table3[[#This Row],[PTC Watts]]/Table3[[#This Row],[STC Watts]]) -> 108.4608 | K64: 4 | L64: =D64+(K64*75) -> 3925 | M64: =J64/$B$10 -> 0.050825117 | N64: =($B$10*$D$2*12)*M64 -> 143.16826 | O64: =L64/N64 -> 27.415295 | P64: =N64*20 -> 2863.3651 | Q64: =P64-L64 -> -1061.6349 | R64: =Q64+(N64*5) -> -345.7936 | S64: =Q64+(N64*10) -> 370.04768 | T64: =Q64+(N64*15) -> 1085.889 | U64: =Q64+(N64*20) -> 1801.7302 | V64: =Q64+(N64*25) -> 2517.5715 | W64: =(N64*5)-L64 -> -3209.1587 | X64: =(N64*10)-L64 -> -2493.3174 | Y64: =(N64*15)-L64 -> -1777.4762 | Z64: =(N64*20)-L64 -> -1061.6349 | AA64: =(N64*25)-L64 -> -345.7936 | AB64: =(N64-L64)/L64 -> -0.96352401 | AC64: =(($N64*5)-$L64)/$L64 -> -0.81762006 | AD64: =(($N64*10)-$L64)/$L64 -> -0.63524011 | AE64: =(($N64*25)-$L64)/$L64 -> -0.08810028 | AF64: =(((($N64*25)-$L64)/$L64)/25)*(0.89392) -> -0.0031501841 | AG64: =F64/E64 -> 0.896
C65: 2800356 | D65: 2740 | E65: 750 | F65: 672 | G65: =Table3[[#This Row],[Price]]/Table3[[#This Row],[STC Watts]] -> 3.6533333 | H65: 100.8 | I65: =Table3[[#This Row],[Theoretical Monthly Output]]/Table3[[#This Row],[STC Watts]] -> 0.1344 | J65: =((H65*$D$3)/5)*(Table3[[#This Row],[PTC Watts]]/Table3[[#This Row],[STC Watts]]) -> 81.28512 | K65: 3 | L65: =D65+(K65*75) -> 2965 | M65: =J65/$B$10 -> 0.038090497 | N65: =($B$10*$D$2*12)*M65 -> 107.29636 | O65: =L65/N65 -> 27.633743 | P65: =N65*20 -> 2145.9272 | Q65: =P65-L65 -> -819.07283 | R65: =Q65+(N65*5) -> -282.59104 | S65: =Q65+(N65*10) -> 253.89075 | T65: =Q65+(N65*15) -> 790.37254 | U65: =Q65+(N65*20) -> 1326.8543 | V65: =Q65+(N65*25) -> 1863.3361 | W65: =(N65*5)-L65 -> -2428.5182 | X65: =(N65*10)-L65 -> -1892.0364 | Y65: =(N65*15)-L65 -> -1355.5546 | Z65: =(N65*20)-L65 -> -819.07283 | AA65: =(N65*25)-L65 -> -282.59104 | AB65: =(N65-L65)/L65 -> -0.96381236 | AC65: =(($N65*5)-$L65)/$L65 -> -0.81906179 | AD65: =(($N65*10)-$L65)/$L65 -> -0.63812358 | AE65: =(($N65*25)-$L65)/$L65 -> -0.095308951 | AF65: =(((($N65*25)-$L65)/$L65)/25)*(0.89392) -> -0.0034079431 | AG65: =F65/E65 -> 0.896
...

Sheet Sheet5

Sheet 15yr, by $watt
A1: SUMMARY OUTPUT
A3: Regression Statistics
A4: Multiple R | B4: 0.64537414
A5: R Square | B5: 0.41650779
A6: Adjusted R Square | B6: 0.40661809
A7: Standard Error | B7: 6949.2847
A8: Observations | B8: 61
A10: ANOVA
B11: df | C11: SS | D11: MS | E11: F | F11: Significance F
A12: Regression | B12: 1 | C12: 2.0338564e+09 | D12: 2.0338564e+09 | E12: 42.115317 | F12: 1.9652728e-08
A13: Residual | B13: 59 | C13: 2.8492609e+09 | D13: 48292558
A14: Total | B14: 60 | C14: 4.8831173e+09
B16: Coefficients | C16: Standard Error | D16: t Stat | E16: P-value | F16: Lower 95% | G16: Upper 95% | H16: Lower 95.0% | I16: Upper 95.0%
A17: Intercept | B17: 33758.105 | C17: 3584.0528 | D17: 9.4189753 | E17: 2.3051333e-13 | F17: 26586.432 | G17: 40929.778 | H17: 26586.432 | I17: 40929.778
A18: $/Watt | B18: -9441.7837 | C18: 1454.9029 | D18: -6.4896315 | E18: 1.9652728e-08 | F18: -12353.038 | G18: -6530.5297 | H18: -12353.038 | I18: -6530.5297

Sheet yrpayback, by $watt
A1: SUMMARY OUTPUT
A3: Regression Statistics
A4: Multiple R | B4: 0.9916602
A5: R Square | B5: 0.98338995
A6: Adjusted R Square | B6: 0.98311311
A7: Standard Error | B7: 0.74608885
A8: Observations | B8: 62
A10: ANOVA
B11: df | C11: SS | D11: MS | E11: F | F11: Significance F
A12: Regression | B12: 1 | C12: 1977.3662 | D12: 1977.3662 | E12: 3552.2703 | F12: 4.2238089e-55
A13: Residual | B13: 60 | C13: 33.398914 | D13: 0.55664857
A14: Total | B14: 61 | C14: 2010.7651
B16: Coefficients | C16: Standard Error | D16: t Stat | E16: P-value | F16: Lower 95% | G16: Upper 95% | H16: Lower 95.0% | I16: Upper 95.0%
A17: Intercept | B17: 1.967556 | C17: 0.38459964 | D17: 5.1158549 | E17: 3.4558003e-06 | F17: 1.1982422 | G17: 2.7368698 | H17: 1.1982422 | I17: 2.7368698
A18: $/Watt | B18: 9.3097379 | C18: 0.15620123 | D18: 59.600925 | E18: 4.2238089e-55 | F18: 8.9972889 | G18: 9.6221869 | H18: 8.9972889 | I18: 9.6221869
F20: 1.5
C22: =B17+B18*(F20) -> 15.932163

Sheet 15yr w0, by watt
A1: SUMMARY OUTPUT
A3: Regression Statistics
A4: Multiple R | B4: 0.15751618
A5: R Square | B5: 0.024811346
A6: Adjusted R Square | B6: 0.008558202
A7: Standard Error | B7: 4048.4266
A8: Observations | B8: 62
A10: ANOVA
B11: df | C11: SS | D11: MS | E11: F | F11: Significance F
A12: Regression | B12: 1 | C12: 25019895 | D12: 25019895 | E12: 1.5265567 | F12: 0.22144585
A13: Residual | B13: 60 | C13: 9.8338547e+08 | D13: 16389758
A14: Total | B14: 61 | C14: 1.0084054e+09
B16: Coefficients | C16: Standard Error | D16: t Stat | E16: P-value | F16: Lower 95% | G16: Upper 95% | H16: Lower 95.0% | I16: Upper 95.0%
A17: Intercept | B17: -8679.2073 | C17: 2086.9142 | D17: -4.1588711 | E17: 0.00010334599 | F17: -12853.657 | G17: -4504.7573 | H17: -12853.657 | I17: -4504.7573
A18: $/Watt | B18: 1047.2169 | C18: 847.57897 | D18: 1.235539 | E18: 0.22144585 | F18: -648.19347 | G18: 2742.6273 | H18: -648.19347 | I18: 2742.6273

Sheet Sheet2
C3: SolarEdge Astronergy Grid-tie System 3,525 watts | D3: 3,525/3,135 | E3: Not Included** | F3: up to 470.25 kWh | G3: 15 | H3: 1 SE 3800 | I3: 3600080 | J3: 2.29 | K3: 8070
C4: SolarEdge Astronergy Grid-tie System 4,700 watts | D4: 4,700/4,180 | E4: Not Included** | F4: up to 627.00 kWh | G4: 20 | H4: 1 SE 5000 | I4: 3600081 | J4: 2.17 | K4: 10210
C5: SolarEdge Astronergy Grid-tie System 5,640 watts | D5: 5,640 / 5,016 | E5: Not Included** | F5: up to 752.4 kWh | G5: 24 | H5: 1 SE 6000 | I5: 3600133 | J5: 2.12 | K5: 11975
C6: SolarEdge Astronergy Grid-tie System 9,400 watts | D6: 9,400/8,360 | E6: Not Included** | F6: up to 1,254 kWh | G6: 40 | H6: 2 SE 5000 | I6: 3610022 | J6: 2.17 | K6: 20420
C7: SolarEdge Astronergy Grid-tie System 11,750 watts | D7: 11,750/10,450 | E7: Not Included** | F7: up to 1,567.5 kWh | G7: 50 | H7: 2 SE 6000 | I7: 3600023 | J7: 2.11 | K7: 24820

Sheet Sheet3
D3: Initial Investment | E3: 48000 | G3: after 10 years 4% int | I3: =FV(0.04,10,0,-48000) -> 71051.726
D4: yr 1 gain | E4: 2800
D5: # years | E5: 10
D6: total gain | E6: =E4*E5 -> 28000
D7: total worth | E7: =E6+E3 -> 76000 | F7: =((E7-E3)/E3)/E5 -> 0.058333333
D8: minus depreciation | E8: =E5*1000 -> 10000
D9: Net Worth | E9: =E7-E8 -> 66000 | F9: =(((E9-((E3+E8)))/(E3+E8)))/E5 -> 0.013793103
D12: Initial Investment | E12: 48000 | G12: after 20 years 4% int | I12: =FV(0.04,20,0,-48000) -> 105173.91
D13: yr 1 gain | E13: 5000 | F13: =E13/E12 -> 0.10416667 | G13: its currently 4.35 %
D14: # years | E14: 20
D15: total gain | E15: =E13*E14 -> 100000
D16: total worth | E16: =E15+E12 -> 148000 | F16: =((E16-E12)/E12)/E14 -> 0.10416667
D17: minus depreciation | E17: =E14*1000 -> 20000
D18: Net Worth | E18: =E16-E17 -> 128000 | F18: =(((E18-((E12+E17)))/(E12+E17)))/E14 -> 0.044117647

Sheet kkk
A1: SUMMARY OUTPUT
A3: Regression Statistics
A4: Multiple R | B4: 0.84413858
A5: R Square | B5: 0.71256994 | H5: $/watt by ROI 10 year
A6: Adjusted R Square | B6: 0.70769824
A7: Standard Error | B7: 0.3333851
A8: Observations | B8: 61
A10: ANOVA
B11: df | C11: SS | D11: MS | E11: F | F11: Significance F
A12: Regression | B12: 1 | C12: 16.256973 | D12: 16.256973 | E12: 146.26733 | F12: 1.2945896e-17
A13: Residual | B13: 59 | C13: 6.5575917 | D13: 0.11114562
A14: Total | B14: 60 | C14: 22.814565
B16: Coefficients | C16: Standard Error | D16: t Stat | E16: P-value | F16: Lower 95% | G16: Upper 95% | H16: Lower 95.0% | I16: Upper 95.0%
A17: Intercept | B17: 0.064288238 | C17: 0.19668413 | D17: 0.32686033 | E17: 0.74493032 | F17: -0.32927579 | G17: 0.45785227 | H17: -0.32927579 | I17: 0.45785227
A18: ROI 10 ye | B18: -4.7526442 | C18: 0.39297203 | D18: -12.094103 | E18: 1.2945896e-17 | F18: -5.5389795 | G18: -3.966309 | H18: -5.5389795 | I18: -3.966309
A21: SUMMARY OUTPUT
A23: Regression Statistics
A24: Multiple R | B24: 0.84413858
A25: R Square | B25: 0.71256994
A26: Adjusted R Square | B26: 0.70769824
A27: Standard Error | B27: 0.059214031 | I27: ROI 10 yr by $Watt
A28: Observations | B28: 61
A30: ANOVA
B31: df | C31: SS | D31: MS | E31: F | F31: Significance F
A32: Regression | B32: 1 | C32: 0.51285734 | D32: 0.51285734 | E32: 146.26733 | F32: 1.2945896e-17
A33: Residual | B33: 59 | C33: 0.20687178 | D33: 0.0035063014
A34: Total | B34: 60 | C34: 0.71972912
B36: Coefficients | C36: Standard Error | D36: t Stat | E36: P-value | F36: Lower 95% | G36: Upper 95% | H36: Lower 95.0% | I36: Upper 95.0%
A37: Intercept | B37: -0.13079233 | C37: 0.030539289 | D37: -4.2827563 | E37: 6.8945782e-05 | F37: -0.19190131 | G37: -0.069683356 | H37: -0.19190131 | I37: -0.069683356
A38: $/Watt | B38: -0.14993126 | C38: 0.012397055 | D38: -12.094103 | E38: 1.2945896e-17 | F38: -0.17473771 | G38: -0.12512481 | H38: -0.17473771 | I38: -0.12512481

Sheet Calc of Avg Eff
N5: 100
N6: 97
N7: 96.3
N8: 95.6
N9: 94.9
N10: 94.2
N11: 93.5
N12: 92.8
N13: 92.1
N14: 91.4
N15: 90.7
N16: 90
... N29: 80.9
J30: avg reduction in eff over 25 years | N30: =AVERAGE(N5:N29) -> 89.392 | O30: =N30-100 -> -10.608

Sheet Cost Data
A1: Cost of Installation | E1: *Doesn’t Include Incentives, Includes Panals/interter/amp/cable ext..etc
C7: ROI= ((Rate per KwH*Standard Testing Conditions Watts produced*Efficiency of Solar Panel*12 months*25 years)-(price + (#panels*price per panel)/ (price+ (#panels*price per panel))/25 years)*Average Reduced Efficiency over 25 years

Sheet ROI by $watt Analysis
A1: SUMMARY OUTPUT
A3: Regression Statistics
A4: Multiple R | B4: 0.84413858
A5: R Square | B5: 0.71256994
A6: Adjusted R Square | B6: 0.70769824
A7: Standard Error | B7: 0.3333851
A8: Observations | B8: 61
A10: ANOVA
B11: df | C11: SS | D11: MS | E11: F | F11: Significance F
A12: Regression | B12: 1 | C12: 16.256973 | D12: 16.256973 | E12: 146.26733 | F12: 1.2945896e-17
A13: Residual | B13: 59 | C13: 6.5575917 | D13: 0.11114562
A14: Total | B14: 60 | C14: 22.814565
B16: Coefficients | C16: Standard Error | D16: t Stat | E16: P-value | F16: Lower 95% | G16: Upper 95% | H16: Lower 95.0% | I16: Upper 95.0%
A17: Intercept | B17: 3.0886982 | C17: 0.072076161 | D17: 42.853256 | E17: 3.7090285e-46 | F17: 2.9444741 | G17: 3.2329223 | H17: 2.9444741 | I17: 3.2329223
A18: Avg ROI per year (25years) Inc Red Eff | B18: -48.333024 | C18: 3.9964125 | D18: -12.094103 | E18: 1.2945896e-17 | F18: -56.329827 | G18: -40.336221 | H18: -56.329827 | I18: -40.336221
A21: SUMMARY OUTPUT
A23: Regression Statistics
A24: Multiple R | B24: 0.84413858
A25: R Square | B25: 0.71256994
A26: Adjusted R Square | B26: 0.70769824
A27: Standard Error | B27: 0.0058225867
A28: Observations | B28: 61
A30: ANOVA
B31: df | C31: SS | D31: MS | E31: F | F31: Significance F
A32: Regression | B32: 1 | C32: 0.0049588304 | D32: 0.0049588304 | E32: 146.26733 | F32: 1.2945896e-17
A33: Residual | B33: 59 | C33: 0.0020002484 | D33: 3.3902516e-05
A34: Total | B34: 60 | C34: 0.0069590788
B36: Coefficients | C36: Standard Error | D36: t Stat | E36: P-value | F36: Lower 95% | G36: Upper 95% | H36: Lower 95.0% | I36: Upper 95.0%
A37: Intercept | B37: 0.049713433 | C37: 0.0030029649 | D37: 16.554783 | E37: 7.6064313e-24 | F37: 0.043704514 | G37: 0.055722352 | H37: 0.043704514 | I37: 0.055722352
A38: $/Watt | B38: -0.014742921 | C38: 0.0012190173 | D38: -12.094103 | E38: 1.2945896e-17 | F38: -0.017182169 | G38: -0.012303673 | H38: -0.017182169 | I38: -0.012303673
C42: avg roi per 25 | D42: =$B$37 -> 0.049713433 | E42: $/watt | F42: =$B$38 -> -0.014742921 | G42: plus or minus | H42: standard error | J42: plus | K42: minus
C43: =D43+E43*F43 -> 0.0054846708 | D43: =$B$37 -> 0.049713433 | E43: 3 | F43: =$B$38 -> -0.014742921 | H43: =$B$27 -> 0.0058225867 | J43: =C43+(C43*H43) -> 0.0055166057 | K43: =C43-(C43*H43) -> 0.0054527358
C44: =D44+E44*F44 -> 0.020227592 | D44: =$B$37 -> 0.049713433 | E44: 2 | F44: =$B$38 -> -0.014742921 | H44: =$B$27 -> 0.0058225867 | J44: =C44+(C44*H44) -> 0.020345368 | K44: =C44-(C44*H44) -> 0.020109815
C45: =D45+E45*F45 -> 0.027599052 | D45: =$B$37 -> 0.049713433 | E45: 1.5 | F45: =$B$38 -> -0.014742921 | H45: =$B$27 -> 0.0058225867 | J45: =C45+(C45*H45) -> 0.02775975 | K45: =C45-(C45*H45) -> 0.027438354
C46: =D46+E46*F46 -> 0.031284782 | D46: =$B$37 -> 0.049713433 | E46: 1.25 | F46: =$B$38 -> -0.014742921 | H46: =$B$27 -> 0.0058225867 | J46: =C46+(C46*H46) -> 0.03146694 | K46: =C46-(C46*H46) -> 0.031102624
C47: =D47+E47*F47 -> 0.034970512 | D47: =$B$37 -> 0.049713433 | E47: 1 | F47: =$B$38 -> -0.014742921 | H47: =$B$27 -> 0.0058225867 | J47: =C47+(C47*H47) -> 0.035174131 | K47: =C47-(C47*H47) -> 0.034766893
C48: =D48+E48*F48 -> 0.038656242 | D48: =$B$37 -> 0.049713433 | E48: 0.75 | F48: =$B$38 -> -0.014742921 | H48: =$B$27 -> 0.0058225867 | J48: =C48+(C48*H48) -> 0.038881322 | K48: =C48-(C48*H48) -> 0.038431163
C49: =D49+E49*F49 -> 0.042341973 | D49: =$B$37 -> 0.049713433 | E49: 0.5 | F49: =$B$38 -> -0.014742921 | H49: =$B$27 -> 0.0058225867 | J49: =C49+(C49*H49) -> 0.042588512 | K49: =C49-(C49*H49) -> 0.042095433
C50: =D50+E50*F50 -> 0.046027703 | D50: =$B$37 -> 0.049713433 | E50: 0.25 | F50: =$B$38 -> -0.014742921 | H50: =$B$27 -> 0.0058225867 | J50: =C50+(C50*H50) -> 0.046295703 | K50: =C50-(C50*H50) -> 0.045759703
C51: =D51+E51*F51 -> 0.048239141 | D51: =$B$37 -> 0.049713433 | E51: 0.1 | F51: =$B$38 -> -0.014742921 | H51: =$B$27 -> 0.0058225867 | J51: =C51+(C51*H51) -> 0.048520018 | K51: =C51-(C51*H51) -> 0.047958264

Sheet ROI by Real Output
A1: SUMMARY OUTPUT | K1: SUMMARY OUTPUT
A3: Regression Statistics | K3: Regression Statistics
A4: Multiple R | B4: 0.54796288 | K4: Multiple R | L4: 0.84786779
A5: R Square | B5: 0.30026331 | K5: R Square | L5: 0.7188798
A6: Adjusted R Square | B6: 0.28840337 | K6: Adjusted R Square | L6: 0.704084
A7: Standard Error | B7: 0.0090848381 | K7: Standard Error | L7: 0.0058584736
A8: Observations | B8: 61 | K8: Observations | L8: 61
A10: ANOVA | K10: ANOVA
B11: df | C11: SS | D11: MS | E11: F | F11: Significance F | L11: df | M11: SS | N11: MS | O11: F | P11: Significance F
A12: Regression | B12: 1 | C12: 0.0020895561 | D12: 0.0020895561 | E12: 25.317431 | F12: 4.8552412e-06 | K12: Regression | L12: 3 | M12: 0.0050027411 | N12: 0.0016675804 | O12: 48.586747 | P12: 1.0235964e-15
A13: Residual | B13: 59 | C13: 0.0048695227 | D13: 8.2534284e-05 | K13: Residual | L13: 57 | M13: 0.0019563377 | N13: 3.4321713e-05
A14: Total | B14: 60 | C14: 0.0069590788 | K14: Total | L14: 60 | M14: 0.0069590788
B16: Coefficients | C16: Standard Error | D16: t Stat | E16: P-value | F16: Lower 95% | G16: Upper 95% | H16: Lower 95.0% | I16: Upper 95.0% | L16: Coefficients | M16: Standard Error | N16: t Stat | O16: P-value | P16: Lower 95% | Q16: Upper 95% | R16: Lower 95.0% | S16: Upper 95.0%
