Workbook

Sheet Raw Data
A1: Analysis run on Agilent 770 ICP-MS at Gustavus Adolphus College
A2: Internal standard GAC-1 prepared by Inorganic Ventures
A3: Error within +/-5%
A4: Blanks indicate start of new run
B8: 24 Mg [ He ] | D8: 43 Ca [ He ] | F8: 44 Ca [ He ] | H8: 51 V [ He ] | J8: 52 Cr [ He ] | L8: 54 Fe [ He ] | N8: 55 Mn [ He ] | P8: 56 Fe [ He ] | R8: 63 Cu [ He ] | T8: 64 Zn [ He ] | V8: 65 Cu [ He ] | X8: 66 Zn [ He ] | Z8: 85 Rb [ He ] | AB8: 88 Sr [ He ] | AD8: 95 Mo [ No Gas ] | AF8: 95 Mo [ He ] | AH8: 98 Mo [ No Gas ] | AJ8: 98 Mo [ He ] | AL8: 118 [In] [ No Gas ] | AN8: 137 Ba [ No Gas ] | AP8: 206 [Pb] [ No Gas ] | AR8: 207 [Pb] [ No Gas ] | AT8: 208 Pb [ No Gas ] | AV8: 9 Be ( ISTD ) [ He ] | AW8: 45 Sc ( ISTD ) [ He ] | AX8: 71 Ga ( ISTD ) [ No Gas ] | AY8: 115 In ( ISTD ) [ No Gas ] | AZ8: 115 In ( ISTD ) [ He ] | BA8: 159 Tb ( ISTD ) [ No Gas ] | BB8: 209 Bi ( ISTD ) [ No Gas ]
A9: Sample Name | B9: CPS | C9: Conc. [ ppb ] | D9: CPS | E9: Conc. [ ppb ] | F9: CPS | G9: Conc. [ ppb ] | H9: CPS | I9: Conc. [ ppb ] | J9: CPS | K9: Conc. [ ppb ] | L9: CPS | M9: Conc. [ ppb ] | N9: CPS | O9: Conc. [ ppb ] | P9: CPS | Q9: Conc. [ ppb ] | R9: CPS | S9: Conc. [ ppb ] | T9: CPS | U9: Conc. [ ppb ] | V9: CPS | W9: Conc. [ ppb ] | X9: CPS | Y9: Conc. [ ppb ] | Z9: CPS | AA9: Conc. [ ppb ] | AB9: CPS | AC9: Conc. [ ppb ] | AD9: CPS | AE9: Conc. [ ppb ] | AF9: CPS | AG9: Conc. [ ppb ] | AH9: CPS | AI9: Conc. [ ppb ] | AJ9: CPS | AK9: Conc. [ ppb ] | AL9: CPS | AM9: Conc. [ ppb ] | AN9: CPS | AO9: Conc. [ ppb ] | AP9: CPS | AQ9: Conc. [ ppb ] | AR9: CPS | AS9: Conc. [ ppb ] | AT9: CPS | AU9: Conc. [ ppb ] | AV9: CPS | AW9: CPS | AX9: CPS | AY9: CPS | AZ9: CPS | BA9: CPS | BB9: CPS
A10: blank | B10: 3947 | D10: 127 | F10: 1490 | H10: 91 | J10: 934 | L10: 2300 | N10: 387 | P10: 33739 | R10: 18876 | T10: 3694 | V10: 9820 | X10: 2057 | Z10: 140 | AB10: 2340 | AD10: 357 | AF10: 23 | AH10: 543 | AJ10: 23 | AL10: 4171 | AN10: 15035 | AP10: 8825 | AR10: 7471 | AT10: 34776 | AV10: 4578 | AW10: 92284 | AX10: 5057690 | AY10: 13094213 | AZ10: 2046862 | BA10: 14486370 | BB10: 6997409
A11: blank | B11: -167 | C11: <0.000 | D11: -40 | E11: <0.000 | F11: -13 | G11: <0.000 | H11: 18 | I11: 0.007 | J11: 148 | K11: 0.026 | L11: 267 | M11: 0.095 | N11: -20 | O11: <0.000 | P11: 6474 | Q11: 0.13 | R11: 6303 | S11: 0.669 | T11: 503 | U11: 0.254 | V11: 2572 | W11: 0.532 | X11: 550 | Y11: 0.444 | Z11: 3 | AA11: 0.001 | AB11: 296 | AC11: 0.04 | AD11: -13 | AE11: <0.000 | AF11: 11 | AG11: 0.006 | AH11: -83 | AI11: <0.000 | AJ11: 20 | AK11: 0.006 | AL11: 464 | AN11: 6602 | AO11: 0.366 | AP11: 1539 | AR11: 1340 | AT11: 5742 | AU11: 0.06 | AV11: 4631 | AW11: 89683 | AX11: 5186224 | AY11: 13422275 | AZ11: 2061298 | BA11: 14918493 | BB11: 7278998
A12: ME5 | B12: 155123 | C12: 220.407 | D12: 18455 | E12: 10512.722 | F12: 323626 | G12: 10267.58 | H12: -56 | I12: <0.000 | J12: -414 | K12: <0.000 | L12: 17547 | M12: 5.025 | N12: 2814 | O12: 0.481 | P12: 337260 | Q12: 5.447 | R12: 18411 | S12: 1.576 | T12: -874 | U12: <0.000 | V12: 8568 | W12: 1.429 | X12: -363 | Y12: <0.000 | Z12: -73 | AA12: <0.000 | AB12: -591 | AC12: <0.000 | AD12: 729 | AE12: 0.03 | AF12: 56 | AG12: 0.027 | AH12: 977 | AI12: 0.025 | AJ12: 130 | AK12: 0.036 | AL12: 45140 | AN12: -12235 | AO12: <0.000 | AP12: 13576 | AR12: 10298 | AT12: 49318 | AU12: 0.571 | AV12: 5381 | AW12: 111475 | AX12: 5495550 | AY12: 14354127 | AZ12: 2232638 | BA12: 15778347 | BB12: 6547982
A13: ME4 | B13: 1861165 | C13: 2512.814 | D13: 48024 | E13: 25965.317 | F13: 847587 | G13: 25532.641 | H13: -37 | I13: <0.000 | J13: 5738 | K13: 0.784 | L13: 202723 | M13: 55.091 | N13: 1453 | O13: 0.236 | P13: 3775917 | Q13: 57.877 | R13: 157482 | S13: 12.804 | T13: 1220 | U13: 0.469 | V13: 78797 | W13: 12.478 | X13: 970 | Y13: 0.603 | Z13: 313 | AA13: 0.049 | AB13: 1297 | AC13: 0.169 | AD13: 438 | AE13: 0.018 | AF13: 17 | AG13: 0.008 | AH13: 513 | AI13: 0.014 | AJ13: 60 | AK13: 0.017 | AL13: 630 | AN13: -11011 | AO13: <0.000 | AP13: -3388 | AR13: -3005 | AT13: -13531 | AU13: <0.000 | AV13: 5665 | AW13: 117415 | AX13: 5393409 | AY13: 14085107 | AZ13: 2158118 | BA13: 15562823 | BB13: 7210436
A14: ME3 | B14: 13578399 | C14: 20617.441 | D14: 91751 | E14: 49414.797 | F14: 1655614 | G14: 49680.163 | H14: -34 | I14: <0.000 | J14: -241 | K14: <0.000 | L14: 1844950 | M14: 499.491 | N14: 3097 | O14: 0.501 | P14: 32689714 | Q14: 499.208 | R14: -11324 | S14: <0.000 | T14: 1984 | U14: 0.76 | V14: -5926 | W14: <0.000 | X14: 1090 | Y14: 0.673 | Z14: -73 | AA14: <0.000 | AB14: 2396 | AC14: 0.357 | AD14: 354 | AE14: 0.015 | AF14: 39 | AG14: 0.022 | AH14: 567 | AI14: 0.016 | AJ14: 70 | AK14: 0.023 | AL14: 864 | AN14: -11281 | AO14: <0.000 | AP14: 2847 | AR14: 2339 | AT14: 10801 | AU14: 0.124 | AV14: 5074 | AW14: 117870 | AX14: 5166848 | AY14: 13392595 | AZ14: 1884731 | BA14: 14850450 | BB14: 6624358
A15: ME2 | B15: 68473705 | C15: 99866.215 | D15: 205093 | E15: 86926.055 | F15: 3634387 | G15: 85802.565 | H15: 6 | I15: 0.001 | J15: 171 | K15: 0.018 | L15: 3643088 | M15: 775.953 | N15: 14651 | O15: 1.861 | P15: 65825298 | Q15: 790.305 | R15: 7692 | S15: 0.488 | T15: 9092 | U15: 2.742 | V15: 3329 | W15: 0.415 | X15: 5789 | Y15: 2.811 | Z15: -10 | AA15: <0.000 | AB15: 8413 | AC15: 1.298 | AD15: 623 | AE15: 0.029 | AF15: 93 | AG15: 0.055 | AH15: 1210 | AI15: 0.036 | AJ15: 143 | AK15: 0.048 | AL15: 1627 | AN15: -8637 | AO15: <0.000 | AP15: 6829 | AR15: 5876 | AT15: 26438 | AU15: 0.346 | AV15: 5241 | AW15: 149969 | AX15: 4919775 | AY15: 12619841 | AZ15: 1821189 | BA15: 14038553 | BB15: 5803435
A16: TRRE4 | B16: 1437 | C16: 1.834 | D16: 297 | E16: 146.939 | F16: 3191 | G16: 88.027 | H16: 16597 | I16: 4.841 | J16: 43818 | K16: 5.491 | L16: 1567 | M16: 0.393 | N16: 34244 | O16: 5.1 | P16: 5084 | Q16: 0.072 | R16: 95114 | S16: 7.094 | T16: 12289 | U16: 4.338 | V16: 46616 | W16: 6.774 | X16: 8514 | Y16: 4.842 | Z16: 36082 | AA16: 4.792 | AB16: 439687 | AC16: 49.031 | AD16: 124544 | AE16: 4.92 | AF16: 10814 | AG16: 4.586 | AH16: 196616 | AI16: 4.946 | AJ16: 18235 | AK16: 4.475 | AL16: 2961 | AN16: 68644 | AO16: 3.535 | AP16: 123490 | AR16: 108626 | AT16: 497461 | AU16: 4.89 | AV16: 5938 | AW16: 128062 | AX16: 5846644 | AY16: 14743511 | AZ16: 2521817 | BA16: 16070786 | BB16: 7717748
A17: TRRE3 | B17: 100 | C17: 0.138 | D17: 2957 | E17: 1633.863 | F17: 28698 | G17: 883.472 | H17: 149309 | I17: 48.529 | J17: 372925 | K17: 52.059 | L17: 12454 | M17: 3.461 | N17: 314728 | O17: 52.234 | P17: 6369 | Q17: 0.1 | R17: 731374 | S17: 60.784 | T17: 128677 | U17: 50.618 | V17: 363322 | W17: 58.8 | X17: 84094 | Y17: 53.298 | Z17: 340518 | AA17: 47.745 | AB17: 4117770 | AC17: 484.694 | AD17: 1254152 | AE17: 48.83 | AF17: 99180 | AG17: 44.382 | AH17: 2037498 | AI17: 50.516 | AJ17: 167070 | AK17: 43.288 | AL17: -330 | AN17: 807614 | AO17: 40.295 | AP17: 1285736 | AR17: 1119641 | AT17: 5174655 | AU17: 49.944 | AV17: 5798 | AW17: 114900 | AX17: 5890841 | AY17: 14960414 | AZ17: 2389076 | BA17: 16588194 | BB17: 7860156
A18: TRRE2 | B18: 87 | C18: 0.1 | D18: 6742 | E18: 3414.555 | F18: 64645 | G18: 1824.806 | H18: 323866 | I18: 96.596 | J18: 789430 | K18: 101.139 | L18: 25704 | M18: 6.554 | N18: 672039 | O18: 102.33 | P18: -1851 | Q18: <0.000 | R18: 1417200 | S18: 108.105 | T18: 269144 | U18: 97.177 | V18: 694819 | W18: 103.241 | X18: 173695 | Y18: 101.054 | Z18: 723206 | AA18: 97.112 | AB18: 8553892 | AC18: 964.988 | AD18: 2469090 | AE18: 99.787 | AF18: 220722 | AG18: 94.585 | AH18: 3928560 | AI18: 101.1 | AJ18: 372811 | AK18: 92.457 | AL18: -607 | AN18: 1628416 | AO18: 84.487 | AP18: 2546312 | AR18: 2230898 | AT18: 10122229 | AU18: 100.663 | AV18: 6302 | AW18: 125206 | AX18: 5557105 | AY18: 14409890 | AZ18: 2495633 | BA18: 15951397 | BB18: 7627968
A19: TRRE1 | B19: 14481 | C19: 17.49 | D19: 44960 | E19: 22390.738 | F19: 429617 | G19: 11906.49 | H19: 2052467 | I19: 600.691 | J19: 4772013 | K19: 599.634 | L19: 151282 | M19: 37.852 | N19: 4011143 | O19: 599.425 | P19: 7308 | Q19: 0.103 | R19: 7986278 | S19: 597.733 | T19: 1694154 | U19: 600.425 | V19: 4106033 | W19: 598.712 | X19: 1050234 | Y19: 599.551 | Z19: 4408668 | AA19: 600.671 | AB19: 52521734 | AC19: 6007.119 | AD19: 14909146 | AE19: 600.134 | AF19: 1382719 | AG19: 601.374 | AH19: 23402454 | AI19: 599.774 | AJ19: 2390428 | AK19: 601.821 | AL19: 47 | AN19: 11596456 | AO19: 603.406 | AP19: 14951645 | AR19: 12887284 | AT19: 59374034 | AU19: 599.895 | AV19: 6335 | AW19: 127658 | AX19: 5592510 | AY19: 14468605 | AZ19: 2458589 | BA19: 15904042 | BB19: 7507948
A20: Blank | B20: 3214 | C20: 4.686 | D20: 103 | E20: 61.412 | F20: 1390 | G20: 46.19 | H20: 219 | I20: 0.077 | J20: 1331 | K20: 0.2 | L20: 2677 | M20: 0.802 | N20: 510 | O20: 0.091 | P20: 39671 | Q20: 0.67 | R20: 13940 | S20: 1.25 | T20: 2930 | U20: 1.244 | V20: 6622 | W20: 1.156 | X20: 1790 | Y20: 1.224 | Z20: 320 | AA20: 0.049 | AB20: 3438 | AC20: 0.441 | AD20: 29931 | AE20: 1.298 | AF20: 2279 | AG20: 1.115 | AH20: 48209 | AI20: 1.331 | AJ20: 3997 | AK20: 1.132 | AL20: 3511 | AN20: 8356 | AO20: 0.472 | AP20: 9468 | AR20: 8077 | AT20: 37445 | AU20: 0.413 | AV20: 5248 | AW20: 106485 | AX20: 5175482 | AY20: 13431481 | AZ20: 2186684 | BA20: 14659049 | BB20: 6881698
A21: 171902056AT | B21: 2650615 | C21: 3640.279 | D21: 87963 | E21: 44885.586 | F21: 1628511 | G21: 46284.596 | H21: -23 | I21: <0.000 | J21: -11 | K21: <0.000 | L21: 270 | M21: 0.069 | N21: 8233 | O21: 1.262 | P21: 61284 | Q21: 0.886 | R21: -2822 | S21: <0.000 | T21: 8565 | U21: 3.111 | V21: -660 | W21: <0.000 | X21: 5288 | Y21: 3.094 | Z21: -17 | AA21: <0.000 | AB21: 2693431 | AC21: 369.662 | AD21: -20949 | AE21: <0.000 | AF21: -1424 | AG21: <0.000 | AH21: -33034 | AI21: <0.000 | AJ21: -2601 | AK21: <0.000 | AL21: 142715 | AN21: 47061 | AO21: 2.814 | AP21: 5454 | AR21: 4956 | AT21: 21911 | AU21: 0.27 | AV21: 5575 | AW21: 124432 | AX21: 4844963 | AY21: 12471282 | AZ21: 2049127 | BA21: 13841197 | BB21: 6149085
A22: 171902056AR | B22: 736336 | C22: 1030.746 | D22: 26698 | E22: 14089.008 | F22: 449938 | G22: 13215.059 | H22: -80 | I22: <0.000 | J22: -244 | K22: <0.000 | L22: 170 | M22: 0.046 | N22: 2404 | O22: 0.381 | P22: 20061 | Q22: 0.3 | R22: -7559 | S22: <0.000 | T22: 167 | U22: 0.056 | V22: -3245 | W22: <0.000 | X22: 133 | Y22: 0.077 | Z22: -190 | AA22: <0.000 | AB22: 760571 | AC22: 95.393 | AD22: -24750 | AE22: <0.000 | AF22: -1796 | AG22: <0.000 | AH22: -40350 | AI22: <0.000 | AJ22: -3171 | AK22: <0.000 | AL22: 42348 | AN22: 7630 | AO22: 0.452 | AP22: -962 | AR22: -459 | AT22: -3598 | AU22: <0.000 | AV22: 5471 | AW22: 120557 | AX22: 4968128 | AY22: 12611359 | AZ22: 2243053 | BA22: 13976223 | BB22: 6501251
A23: 171902056AE | B23: 2367656 | C23: 3224.65 | D23: 80557 | E23: 44507.905 | F23: 1451986 | G23: 44674.513 | H23: -48 | I23: <0.000 | J23: -369 | K23: <0.000 | L23: -280 | M23: <0.000 | N23: 8750 | O23: 1.45 | P23: 49969 | Q23: 0.783 | R23: -6241 | S23: <0.000 | T23: 3401 | U23: 1.337 | V23: -2998 | W23: <0.000 | X23: 1957 | Y23: 1.244 | Z23: -197 | AA23: <0.000 | AB23: 2326192 | AC23: 329.34 | AD23: -26532 | AE23: <0.000 | AF23: -1949 | AG23: <0.000 | AH23: -42491 | AI23: <0.000 | AJ23: -3494 | AK23: <0.000 | AL23: 190130 | AN23: 37782 | AO23: 2.188 | AP23: -1518 | AR23: -1234 | AT23: -5853 | AU23: <0.000 | AV23: 5621 | AW23: 114974 | AX23: 4978385 | AY23: 12920403 | AZ23: 1986155 | BA23: 14290651 | BB23: 6437818
A24: 171902056AD | B24: 1982007 | C24: 2428.758 | D24: 77505 | E24: 38784.913 | F24: 1400268 | G24: 39018.67 | H24: -67 | I24: <0.000 | J24: -254 | K24: <0.000 | L24: 287 | M24: 0.07 | N24: 6922 | O24: 1.041 | P24: 53368 | Q24: 0.757 | R24: -6298 | S24: <0.000 | T24: 3418 | U24: 1.22 | V24: -2661 | W24: <0.000 | X24: 1797 | Y24: 1.028 | Z24: -213 | AA24: <0.000 | AB24: 2324965 | AC24: 307.206 | AD24: -27382 | AE24: <0.000 | AF24: -2044 | AG24: <0.000 | AH24: -44245 | AI24: <0.000 | AJ24: -3547 | AK24: <0.000 | AL24: 162137 | AN24: 38237 | AO24: 2.276 | AP24: -1393 | AR24: -1187 | AT24: -5903 | AU24: <0.000 | AV24: 6241 | AW24: 126960 | AX24: 4890176 | AY24: 12420589 | AZ24: 2128117 | BA24: 13902565 | BB24: 6265848
A25: 171902056ASPM | B25: 3397947 | C25: 4652.042 | D25: 211360 | E25: 100722.36 | F25: 3715092 | G25: 98625.327 | H25: -54 | I25: <0.000 | J25: -268 | K25: <0.000 | L25: -160 | M25: <0.000 | N25: 1080 | O25: 0.154 | P25: 128864 | Q25: 1.741 | R25: -8909 | S25: <0.000 | T25: 2001 | U25: 0.678 | V25: -3955 | W25: <0.000 | X25: 1070 | Y25: 0.585 | Z25: -183 | AA25: <0.000 | AB25: 4409670 | AC25: 645.505 | AD25: -28060 | AE25: <0.000 | AF25: -2092 | AG25: <0.000 | AH25: -44992 | AI25: <0.000 | AJ25: -3661 | AK25: <0.000 | AL25: 86743 | AN25: 9188 | AO25: 0.559 | AP25: -2321 | AR25: -1868 | AT25: -8858 | AU25: <0.000 | AV25: 5595 | AW25: 133292 | AX25: 4724549 | AY25: 12290222 | AZ25: 1921519 | BA25: 13603087 | BB25: 5955063
A26: 171902056ASPD | B26: 2262213 | C26: 2843.544 | D26: 128482 | E26: 59243.477 | F26: 2342401 | G26: 60166.044 | H26: -54 | I26: <0.000 | J26: -142 | K26: <0.000 | L26: -7 | M26: <0.000 | N26: 980 | O26: 0.135 | P26: 85901 | Q26: 1.124 | R26: -7902 | S26: <0.000 | T26: 127 | U26: 0.044 | V26: -3528 | W26: <0.000 | X26: -127 | Y26: <0.000 | Z26: -147 | AA26: <0.000 | AB26: 2752994 | AC26: 362.668 | AD26: -28275 | AE26: <0.000 | AF26: -2104 | AG26: <0.000 | AH26: -45679 | AI26: <0.000 | AJ26: -3754 | AK26: <0.000 | AL26: 145841 | AN26: 3379 | AO26: 0.2 | AP26: -1778 | AR26: -1541 | AT26: -7002 | AU26: <0.000 | AV26: 6088 | AW26: 137799 | AX26: 4957378 | AY26: 12690945 | AZ26: 2134872 | BA26: 13972522 | BB26: 6141696
A27: 171902056ASPP | B27: 2560976 | C27: 2563.847 | D27: 160667 | E27: 57227.072 | F27: 2785777 | G27: 55260.258 | H27: 18 | I27: 0.003 | J27: 492 | K27: 0.043 | L27: 994 | M27: 0.174 | N27: 1257 | O27: 0.133 | P27: 115219 | Q27: 1.158 | R27: 1331 | S27: 0.062 | T27: 1500 | U27: 0.373 | V27: 964 | W27: 0.096 | X27: 860 | Y27: 0.337 | Z27: -143 | AA27: <0.000 | AB27: 3136099 | AC27: 347.297 | AD27: -28528 | AE27: <0.000 | AF27: -2126 | AG27: <0.000 | AH27: -45812 | AI27: <0.000 | AJ27: -3674 | AK27: <0.000 | AL27: 346864 | AN27: 5918 | AO27: 0.351 | AP27: -1751 | AR27: -1619 | AT27: -7409 | AU27: <0.000 | AV27: 7659 | AW27: 178560 | AX27: 4956934 | AY27: 12902562 | AZ27: 2539035 | BA27: 13961571 | BB27: 6189244
A28: 171902056AAMD | B28: 4690818 | C28: 5915.734 | D28: 178117 | E28: 76635.631 | F28: 3054000 | G28: 73195.515 | H28: -10 | I28: <0.000 | J28: -154 | K28: <0.000 | L28: 300 | M28: 0.065 | N28: 5695 | O28: 0.736 | P28: 110538 | Q28: 1.348 | R28: -5177 | S28: <0.000 | T28: 1957 | U28: 0.599 | V28: -2101 | W28: <0.000 | X28: 957 | Y28: 0.472 | Z28: -167 | AA28: <0.000 | AB28: 4917056 | AC28: 656.052 | AD28: -28593 | AE28: <0.000 | AF28: -2134 | AG28: <0.000 | AH28: -46199 | AI28: <0.000 | AJ28: -3791 | AK28: <0.000 | AL28: 135132 | AN28: 59390 | AO28: 3.601 | AP28: -2197 | AR28: -1791 | AT28: -8193 | AU28: <0.000 | AV28: 6061 | AW28: 147563 | AX28: 4894422 | AY28: 12417963 | AZ28: 2107496 | BA28: 13649936 | BB28: 6006864
A29: 171902056AIAD | B29: 5838785 | C29: 7319.347 | D29: 243803 | E29: 97889.271 | F29: 4250009 | G29: 95042.287 | H29: 9 | I29: 0.002 | J29: 532 | K29: 0.054 | L29: 1224 | M29: 0.247 | N29: 11599 | O29: 1.399 | P29: 161448 | Q29: 1.838 | R29: 2179 | S29: 0.131 | T29: 7113 | U29: 2.032 | V29: 1311 | W29: 0.154 | X29: 3914 | Y29: 1.803 | Z29: -200 | AA29: <0.000 | AB29: 6399098 | AC29: 847.119 | AD29: -28855 | AE29: <0.000 | AF29: -2121 | AG29: <0.000 | AH29: -46289 | AI29: <0.000 | AJ29: -3764 | AK29: <0.000 | AL29: 471165 | AN29: 70476 | AO29: 4.343 | AP29: -1896 | AR29: -1427 | AT29: -7386 | AU29: <0.000 | AV29: 6105 | AW29: 158156 | AX29: 4859453 | AY29: 12241736 | AZ29: 2124216 | BA29: 13428449 | BB29: 5819780
A30: 171902056AIAP | B30: 6333058 | C30: 7350.989 | D30: 233835 | E30: 96999.793 | F30: 4107389 | G30: 94923.277 | H30: 22 | I30: 0.006 | J30: 26 | K30: 0.003 | L30: 577 | M30: 0.121 | N30: 11272 | O30: 1.403 | P30: 155372 | Q30: 1.828 | R30: -7192 | S30: <0.000 | T30: 3214 | U30: 0.949 | V30: -3001 | W30: <0.000 | X30: 1554 | Y30: 0.738 | Z30: -140 | AA30: <0.000 | AB30: 6197720 | AC30: 830.15 | AD30: -28925 | AE30: <0.000 | AF30: -2181 | AG30: <0.000 | AH30: -46646 | AI30: <0.000 | AJ30: -3827 | AK30: <0.000 | AL30: 197605 | AN30: 68223 | AO30: 4.111 | AP30: -1897 | AR30: -1715 | AT30: -8049 | AU30: <0.000 | AV30: 6595 | AW30: 153114 | AX30: 4928695 | AY30: 12533131 | AZ30: 2099406 | BA30: 13734887 | BB30: 5945262
A31: 171902056AAMP | B31: 5013300 | C31: 5908.893 | D31: 183452 | E31: 76571.431 | F31: 3203145 | G31: 74556.439 | H31: 90 | I31: 0.022 | J31: 172 | K31: 0.018 | L31: 577 | M31: 0.119 | N31: 8240 | O31: 1.034 | P31: 124266 | Q31: 1.473 | R31: -1528 | S31: <0.000 | T31: 3288 | U31: 0.977 | V31: -313 | W31: <0.000 | X31: 1607 | Y31: 0.772 | Z31: -197 | AA31: <0.000 | AB31: 4836408 | AC31: 637.26 | AD31: -28893 | AE31: <0.000 | AF31: -2177 | AG31: <0.000 | AH31: -46616 | AI31: <0.000 | AJ31: -3844 | AK31: <0.000 | AL31: 140568 | AN31: 51401 | AO31: 2.983 | AP31: -1826 | AR31: -1575 | AT31: -7761 | AU31: <0.000 | AV31: 6515 | AW31: 152146 | AX31: 5103213 | AY31: 12909860 | AZ31: 2134826 | BA31: 14259810 | BB31: 6128562
A32: 171902070B | B32: 1601362 | C32: 1937.886 | D32: 62427 | E32: 27762.583 | F32: 1076777 | G32: 26676.063 | H32: -47 | I32: <0.000 | J32: 77 | K32: 0.009 | L32: 517 | M32: 0.116 | N32: 4754 | O32: 0.635 | P32: 49043 | Q32: 0.618 | R32: -4450 | S32: <0.000 | T32: 3731 | U32: 1.181 | V32: -2051 | W32: <0.000 | X32: 1897 | Y32: 0.966 | Z32: -243 | AA32: <0.000 | AB32: 1319593 | AC32: 153.27 | AD32: -29021 | AE32: <0.000 | AF32: -2202 | AG32: <0.000 | AH32: -46986 | AI32: <0.000 | AJ32: -3874 | AK32: <0.000 | AL32: 186332 | AN32: 92889 | AO32: 5.291 | AP32: -1778 | AR32: -1285 | AT32: -7129 | AU32: <0.000 | AV32: 6322 | AW32: 142803 | AX32: 5220273 | AY32: 13394670 | AZ32: 2421008 | BA32: 14529579 | BB32: 6548674
A33: 171902070BT | B33: 11581740 | C33: 11061.153 | D33: 491141 | E33: 142696.17 | F33: 8444467 | G33: 136577.7 | H33: 231 | I33: 0.039 | J33: 400 | K33: 0.029 | L33: 1310 | M33: 0.192 | N33: 32601 | O33: 2.85 | P33: 330832 | Q33: 2.726 | R33: -3686 | S33: <0.000 | T33: 5599 | U33: 1.157 | V33: -1107 | W33: <0.000 | X33: 2371 | Y33: 0.791 | Z33: -103 | AA33: <0.000 | AB33: 10200757 | AC33: 1146.52 | AD33: -28925 | AE33: <0.000 | AF33: -2172 | AG33: <0.000 | AH33: -46566 | AI33: <0.000 | AJ33: -3764 | AK33: <0.000 | AL33: 151558 | AN33: 74092 | AO33: 4.528 | AP33: -2007 | AR33: -1889 | AT33: -8551 | AU33: <0.000 | AV33: 8002 | AW33: 218713 | AX33: 5123050 | AY33: 12740285 | AZ33: 2502172 | BA33: 13541446 | BB33: 5537307
A34: 171902070BR | B34: 8468060 | C34: 6962.997 | D34: 304997 | E34: 84005.579 | F34: 5336351 | G34: 81883.279 | H34: 154 | I34: 0.025 | J34: 433 | K34: 0.03 | L34: 1614 | M34: 0.223 | N34: 45632 | O34: 3.774 | P34: 210735 | Q34: 1.646 | R34: -4994 | S34: <0.000 | T34: 5823 | U34: 1.141 | V34: -1894 | W34: <0.000 | X34: 3178 | Y34: 1.004 | Z34: -157 | AA34: <0.000 | AB34: 6553248 | AC34: 655.484 | AD34: -29203 | AE34: <0.000 | AF34: -2169 | AG34: <0.000 | AH34: -46866 | AI34: <0.000 | AJ34: -3811 | AK34: <0.000 | AL34: 107222 | AN34: 42254 | AO34: 2.57 | AP34: -1906 | AR34: -1790 | AT34: -8236 | AU34: <0.000 | AV34: 9300 | AW34: 230527 | AX34: 5133719 | AY34: 12909631 | AZ34: 2811265 | BA34: 13607534 | BB34: 5773250
A35: 171902070BE | B35: 14684663 | C35: 13096.179 | D35: 615240 | E35: 168937.37 | F35: 10486247 | G35: 160426.21 | H35: 183 | I35: 0.03 | J35: 465 | K35: 0.032 | L35: 1937 | M35: 0.265 | N35: 31679 | O35: 2.613 | P35: 384665 | Q35: 2.994 | R35: -3476 | S35: <0.000 | T35: 11711 | U35: 2.29 | V35: -1027 | W35: <0.000 | X35: 6419 | Y35: 2.019 | Z35: -30 | AA35: <0.000 | AB35: 13505685 | AC35: 1542.884 | AD35: -29129 | AE35: <0.000 | AF35: -2148 | AG35: <0.000 | AH35: -46986 | AI35: <0.000 | AJ35: -3807 | AK35: <0.000 | AL35: 259812 | AN35: 105927 | AO35: 6.991 | AP35: -2463 | AR35: -2060 | AT35: -10161 | AU35: <0.000 | AV35: 8586 | AW35: 230919 | AX35: 4880382 | AY35: 11841003 | AZ35: 2462427 | BA35: 12536457 | BB35: 5097774
A36: 171902070BD | B36: 4801299 | C36: 2548.658 | D36: 300608 | E36: 53359.417 | F36: 5231951 | G36: 51788.948 | H36: 207 | I36: 0.018 | J36: 3986 | K36: 0.17 | L36: 5526 | M36: 0.452 | N36: 2464 | O36: 0.131 | P36: 293238 | Q36: 1.425 | R36: 19972 | S36: 0.498 | T36: 7534 | U36: 0.933 | V36: 10103 | W36: 0.498 | X36: 4145 | Y36: 0.814 | Z36: -120 | AA36: <0.000 | AB36: 4490561 | AC36: 323.117 | AD36: -29166 | AE36: <0.000 | AF36: -2136 | AG36: <0.000 | AH36: -46872 | AI36: <0.000 | AJ36: -3797 | AK36: <0.000 | AL36: 1316660 | AN36: -921 | AO36: <0.000 | AP36: -1807 | AR36: -1696 | AT36: -7367 | AU36: <0.000 | AV36: 13815 | AW36: 356992 | AX36: 5240142 | AY36: 13179194 | AZ36: 3854562 | BA36: 14383420 | BB36: 6312936
A37: 171902070BSPM | B37: 4357730 | C37: 4583.697 | D37: 262405 | E37: 90832.758 | F37: 4537441 | G37: 87530.754 | H37: 4 | I37: 0.001 | J37: 461 | K37: 0.04 | L37: 610 | M37: 0.104 | N37: 1343 | O37: 0.14 | P37: 174638 | Q37: 1.717 | R37: 2693 | S37: 0.139 | T37: 523 | U37: 0.128 | V37: 1764 | W37: 0.178 | X37: 53 | Y37: 0.022 | Z37: -217 | AA37: <0.000 | AB37: 5038698 | AC37: 589.69 | AD37: -29287 | AE37: <0.000 | AF37: -2202 | AG37: <0.000 | AH37: -47182 | AI37: <0.000 | AJ37: -3871 | AK37: <0.000 | AL37: 780306 | AN37: 5628 | AO37: 0.339 | AP37: -2306 | AR37: -1847 | AT37: -9179 | AU37: <0.000 | AV37: 7285 | AW37: 183541 | AX37: 5148575 | AY37: 12780138 | AZ37: 2403600 | BA37: 13718339 | BB37: 5828369
A38: 171902070BSPD | B38: 3218313 | C38: 3520.177 | D38: 186179 | E38: 65220.718 | F38: 3218807 | G38: 62789.697 | H38: -24 | I38: <0.000 | J38: 583 | K38: 0.052 | L38: 657 | M38: 0.116 | N38: 1950 | O38: 0.205 | P38: 123917 | Q38: 1.23 | R38: -3396 | S38: <0.000 | T38: 397 | U38: 0.098 | V38: -1114 | W38: <0.000 | X38: -40 | Y38: <0.000 | Z38: -193 | AA38: <0.000 | AB38: 3763245 | AC38: 425.019 | AD38: -29313 | AE38: <0.000 | AF38: -2198 | AG38: <0.000 | AH38: -47159 | AI38: <0.000 | AJ38: -3871 | AK38: <0.000 | AL38: 337480 | AN38: 6589 | AO38: 0.39 | AP38: -2449 | AR38: -2049 | AT38: -9502 | AU38: <0.000 | AV38: 7009 | AW38: 181277 | AX38: 5267752 | AY38: 13058811 | AZ38: 2490906 | BA38: 13971888 | BB38: 6035980
A39: 171902070BSPP | B39: 9904258 | C39: 11178.149 | D39: 373441 | E39: 133748.02 | F39: 6440870 | G39: 128497.99 | H39: 219 | I39: 0.046 | J39: 26 | K39: 0.002 | L39: 1160 | M39: 0.209 | N39: 10871 | O39: 1.169 | P39: 240508 | Q39: 2.442 | R39: -5334 | S39: <0.000 | T39: 7837 | U39: 1.997 | V39: -2268 | W39: <0.000 | X39: 4135 | Y39: 1.698 | Z39: -143 | AA39: <0.000 | AB39: 8866826 | AC39: 1089.039 | AD39: -29141 | AE39: <0.000 | AF39: -2208 | AG39: <0.000 | AH39: -46969 | AI39: <0.000 | AJ39: -3824 | AK39: <0.000 | AL39: 133863 | AN39: 49668 | AO39: 3.035 | AP39: -2267 | AR39: -1938 | AT39: -8702 | AU39: <0.000 | AV39: 6792 | AW39: 177272 | AX39: 5002128 | AY39: 12410421 | AZ39: 2289440 | BA39: 13540000 | BB39: 5629332
A40: 171902070BAMD | B40: 5802149 | C40: 6056.759 | D40: 221983 | E40: 75518.515 | F40: 3841327 | G40: 72807.934 | H40: 216 | I40: 0.043 | J40: 611 | K40: 0.053 | L40: 1177 | M40: 0.201 | N40: 8246 | O40: 0.843 | P40: 151675 | Q40: 1.463 | R40: -4387 | S40: <0.000 | T40: 4368 | U40: 1.058 | V40: -1957 | W40: <0.000 | X40: 2451 | Y40: 0.956 | Z40: -213 | AA40: <0.000 | AB40: 5366122 | AC40: 594.763 | AD40: -29251 | AE40: <0.000 | AF40: -2211 | AG40: <0.000 | AH40: -47032 | AI40: <0.000 | AJ40: -3884 | AK40: <0.000 | AL40: 148336 | AN40: 33796 | AO40: 1.99 | AP40: -2241 | AR40: -1863 | AT40: -9104 | AU40: <0.000 | AV40: 7322 | AW40: 186644 | AX40: 5253366 | AY40: 13041547 | AZ40: 2536711 | BA40: 14051401 | BB40: 5944964
A41: 171902070BIAD | B41: 11334043 | C41: 8821.405 | D41: 411748 | E41: 100107.39 | F41: 7244037 | G41: 98268.066 | H41: 548 | I41: 0.078 | J41: 720 | K41: 0.044 | L41: 3288 | M41: 0.401 | N41: 14922 | O41: 1.09 | P41: 311489 | Q41: 2.144 | R41: 5019 | S41: 0.18 | T41: 12345 | U41: 2.137 | V41: 3175 | W41: 0.222 | X41: 6899 | Y41: 1.926 | Z41: -67 | AA41: <0.000 | AB41: 8904261 | AC41: 850.141 | AD41: -29253 | AE41: <0.000 | AF41: -2172 | AG41: <0.000 | AH41: -47146 | AI41: <0.000 | AJ41: -3797 | AK41: <0.000 | AL41: 92929 | AN41: 42518 | AO41: 2.621 | AP41: -1528 | AR41: -1390 | AT41: -6859 | AU41: <0.000 | AV41: 9874 | AW41: 260472 | AX41: 5315398 | AY41: 12816311 | AZ41: 2941965 | BA41: 13422335 | BB41: 5557896
A42: 171902070BIAP | B42: 9448064 | C42: 7084.527 | D42: 329256 | E42: 82949.28 | F42: 5719689 | G42: 80328.192 | H42: 389 | I42: 0.058 | J42: 426 | K42: 0.027 | L42: 2584 | M42: 0.328 | N42: 20860 | O42: 1.58 | P42: 254306 | Q42: 1.816 | R42: -240 | S42: <0.000 | T42: 7540 | U42: 1.354 | V42: 527 | W42: 0.037 | X42: 4518 | Y42: 1.302 | Z42: -77 | AA42: <0.000 | AB42: 6793159 | AC42: 623.228 | AD42: -29257 | AE42: <0.000 | AF42: -2169 | AG42: <0.000 | AH42: -47232 | AI42: <0.000 | AJ42: -3831 | AK42: <0.000 | AL42: 54055 | AN42: 25558 | AO42: 1.595 | AP42: -1620 | AR42: -1338 | AT42: -6624 | AU42: <0.000 | AV42: 10181 | AW42: 251711 | AX42: 5335761 | AY42: 12738647 | AZ42: 3065155 | BA42: 13263723 | BB42: 5519136
A43: 171902070BAMP | B43: 10060338 | C43: 8263.411 | D43: 385973 | E43: 104466.35 | F43: 6659862 | G43: 100377.07 | H43: 101 | I43: 0.016 | J43: 1655 | K43: 0.112 | L43: 3008 | M43: 0.403 | N43: 35739 | O43: 2.909 | P43: 288576 | Q43: 2.208 | R43: 11325 | S43: 0.459 | T43: 33285 | U43: 6.394 | V43: 6191 | W43: 0.487 | X43: 20654 | Y43: 6.402 | Z43: -140 | AA43: <0.000 | AB43: 7701298 | AC43: 786.523 | AD43: -29427 | AE43: <0.000 | AF43: -2186 | AG43: <0.000 | AH43: -47232 | AI43: <0.000 | AJ43: -3844 | AK43: <0.000 | AL43: 750959 | AN43: 67085 | AO43: 4.236 | AP43: 1394 | AR43: 1345 | AT43: 5160 | AU43: 0.072 | AV43: 9296 | AW43: 234460 | AX43: 5186803 | AY43: 12599860 | AZ43: 2752084 | BA43: 13101491 | BB43: 5408708
A44: 171902070CT | B44: 6758420 | C44: 7313.506 | D44: 328881 | E44: 106651.99 | F44: 5767550 | G44: 104205.46 | H44: 158 | I44: 0.03 | J44: 136 | K44: 0.011 | L44: 1157 | M44: 0.188 | N44: 20923 | O44: 2.037 | P44: 223174 | Q44: 2.052 | R44: -3760 | S44: <0.000 | T44: 6510 | U44: 1.502 | V44: -1381 | W44: <0.000 | X44: 3681 | Y44: 1.368 | Z44: -120 | AA44: <0.000 | AB44: 7355662 | AC44: 871.277 | AD44: -29252 | AE44: <0.000 | AF44: -2196 | AG44: <0.000 | AH44: -47089 | AI44: <0.000 | AJ44: -3861 | AK44: <0.000 | AL44: 160818 | AN44: 55576 | AO44: 3.435 | AP44: -2111 | AR44: -1888 | AT44: -8776 | AU44: <0.000 | AV44: 7089 | AW44: 195810 | AX44: 5136687 | AY44: 12706791 | AZ44: 2374183 | BA44: 13390803 | BB44: 5638134
A45: 171902070CR | B45: 3426274 | C45: 3519.304 | D45: 115760 | E45: 41017.719 | F45: 2075640 | G45: 40970.337 | H45: 96 | I45: 0.02 | J45: 126 | K45: 0.011 | L45: 750 | M45: 0.131 | N45: 12666 | O45: 1.347 | P45: 87351 | Q45: 0.877 | R45: -5311 | S45: <0.000 | T45: 1791 | U45: 0.451 | V45: -2858 | W45: <0.000 | X45: 1080 | Y45: 0.438 | Z45: -197 | AA45: <0.000 | AB45: 2730144 | AC45: 288.287 | AD45: -29357 | AE45: <0.000 | AF45: -2230 | AG45: <0.000 | AH45: -47426 | AI45: <0.000 | AJ45: -3894 | AK45: <0.000 | AL45: 60664 | AN45: 21733 | AO45: 1.273 | AP45: -1772 | AR45: -1419 | AT45: -7159 | AU45: <0.000 | AV45: 7452 | AW45: 179389 | AX45: 5308717 | AY45: 13228160 | AZ45: 2662932 | BA45: 14122094 | BB45: 6234357
A46: 171902070CE | B46: 11271091 | C46: 11946.201 | D46: 445140 | E46: 143547.29 | F46: 7805312 | G46: 140184.48 | H46: 169 | I46: 0.032 | J46: 127 | K46: 0.01 | L46: 1120 | M46: 0.182 | N46: 29668 | O46: 2.872 | P46: 274767 | Q46: 2.512 | R46: -3543 | S46: <0.000 | T46: 8161 | U46: 1.873 | V46: -1331 | W46: <0.000 | X46: 4261 | Y46: 1.576 | Z46: -63 | AA46: <0.000 | AB46: 10056214 | AC46: 1229.587 | AD46: -29309 | AE46: <0.000 | AF46: -2218 | AG46: <0.000 | AH46: -47172 | AI46: <0.000 | AJ46: -3884 | AK46: <0.000 | AL46: 217783 | AN46: 94045 | AO46: 5.911 | AP46: -2614 | AR46: -2278 | AT46: -10820 | AU46: <0.000 | AV46: 7215 | AW46: 196890 | AX46: 4935017 | AY46: 12246135 | AZ46: 2299943 | BA46: 13168781 | BB46: 5379424
A47: 171902070CD | B47: 1873728 | C47: 1101.014 | D47: 127129 | E47: 25596.4 | F47: 2235801 | G47: 25067.463 | H47: 141 | I47: 0.017 | J47: 1068 | K47: 0.054 | L47: 3758 | M47: 0.381 | N47: 897 | O47: 0.054 | P47: 133945 | Q47: 0.764 | R47: 3928 | S47: 0.118 | T47: 3368 | U47: 0.482 | V47: 2939 | W47: 0.173 | X47: 2201 | Y47: 0.506 | Z47: -110 | AA47: <0.000 | AB47: 2108605 | AC47: 149.197 | AD47: -29352 | AE47: <0.000 | AF47: -2199 | AG47: <0.000 | AH47: -47346 | AI47: <0.000 | AJ47: -3831 | AK47: <0.000 | AL47: 406514 | AN47: -2094 | AO47: <0.000 | AP47: -1264 | AR47: -1121 | AT47: -5696 | AU47: <0.000 | AV47: 13009 | AW47: 315183 | AX47: 5636875 | AY47: 13393161 | AZ47: 3973496 | BA47: 13594325 | BB47: 5816559
A48: 171902070CSPM | B48: 1781318 | C48: 1907.262 | D48: 92169 | E48: 34716.178 | F48: 1658821 | G48: 34804.301 | H48: -27 | I48: <0.000 | J48: 116 | K48: 0.011 | L48: 517 | M48: 0.092 | N48: 927 | O48: 0.105 | P48: 64889 | Q48: 0.694 | R48: -347 | S48: <0.000 | T48: 313 | U48: 0.086 | V48: -73 | W48: <0.000 | X48: -10 | Y48: <0.000 | Z48: -177 | AA48: <0.000 | AB48: 1950045 | AC48: 215.782 | AD48: -29406 | AE48: <0.000 | AF48: -2231 | AG48: <0.000 | AH48: -47452 | AI48: <0.000 | AJ48: -3917 | AK48: <0.000 | AL48: 837494 | AN48: -3482 | AO48: <0.000 | AP48: -2324 | AR48: -1826 | AT48: -8819 | AU48: <0.000 | AV48: 7149 | AW48: 168818 | AX48: 5136470 | AY48: 12924424 | AZ48: 2541619 | BA48: 14213336 | BB48: 6251892
A49: 171902070CSPD | B49: 9564384 | C49: 5966.289 | D49: 634935 | E49: 115613.56 | F49: 11096092 | G49: 112377.09 | H49: 214 | I49: 0.021 | J49: 907 | K49: 0.041 | L49: 3925 | M49: 0.351 | N49: 3887 | O49: 0.213 | P49: 436380 | Q49: 2.244 | R49: 6084 | S49: 0.156 | T49: 3665 | U49: 0.461 | V49: 3829 | W49: 0.197 | X49: 1190 | Y49: 0.248 | Z49: -103 | AA49: <0.000 | AB49: 10131927 | AC49: 855.057 | AD49: -29463 | AE49: <0.000 | AF49: -2172 | AG49: <0.000 | AH49: -47476 | AI49: <0.000 | AJ49: -3834 | AK49: <0.000 | AL49: 675718 | AN49: 12914 | AO49: 0.89 | AP49: -2663 | AR49: -2399 | AT49: -11126 | AU49: <0.000 | AV49: 12222 | AW49: 349122 | AX49: 5089095 | AY49: 11987952 | AZ49: 3327309 | BA49: 12023291 | BB49: 4899179
A50: 171902070CSPP | B50: 7017025 | C50: 7688.174 | D50: 246840 | E50: 78126.296 | F50: 4386179 | G50: 77330.914 | H50: 41 | I50: 0.007 | J50: 98 | K50: 0.008 | L50: 1160 | M50: 0.185 | N50: 9450 | O50: 0.897 | P50: 156436 | Q50: 1.404 | R50: -6531 | S50: <0.000 | T50: 3951 | U50: 0.892 | V50: -2941 | W50: <0.000 | X50: 2070 | Y50: 0.751 | Z50: -160 | AA50: <0.000 | AB50: 5536165 | AC50: 630.405 | AD50: -29456 | AE50: <0.000 | AF50: -2214 | AG50: <0.000 | AH50: -47366 | AI50: <0.000 | AJ50: -3904 | AK50: <0.000 | AL50: 116836 | AN50: 35385 | AO50: 2.213 | AP50: -1650 | AR50: -1543 | AT50: -7061 | AU50: <0.000 | AV50: 6985 | AW50: 200742 | AX50: 5059455 | AY50: 12514806 | AZ50: 2469946 | BA50: 13232084 | BB50: 5537437
A51: 171902070CAMD | B51: 7095873 | C51: 7713.699 | D51: 273940 | E51: 90106.833 | F51: 4887891 | G51: 89579.483 | H51: 74 | I51: 0.015 | J51: 86 | K51: 0.007 | L51: 4003 | M51: 0.667 | N51: 11772 | O51: 1.163 | P51: 175610 | Q51: 1.637 | R51: -3356 | S51: <0.000 | T51: 5369 | U51: 1.258 | V51: -1231 | W51: <0.000 | X51: 2917 | Y51: 1.102 | Z51: -177 | AA51: <0.000 | AB51: 6570584 | AC51: 756.094 | AD51: -29472 | AE51: <0.000 | AF51: -2220 | AG51: <0.000 | AH51: -47449 | AI51: <0.000 | AJ51: -3901 | AK51: <0.000 | AL51: 203774 | AN51: 45807 | AO51: 2.843 | AP51: -2254 | AR51: -1800 | AT51: -9225 | AU51: <0.000 | AV51: 7039 | AW51: 193129 | AX51: 5046598 | AY51: 12598487 | AZ51: 2443876 | BA51: 13333873 | BB51: 5573613
A52: 171902070CIAD | B52: 8076301 | C52: 9428.914 | D52: 305823 | E52: 106321.03 | F52: 5341617 | G52: 103443.65 | H52: 281 | I52: 0.057 | J52: 121 | K52: 0.011 | L52: 864 | M52: 0.151 | N52: 18894 | O52: 1.973 | P52: 191335 | Q52: 1.886 | R52: -4050 | S52: <0.000 | T52: 4288 | U52: 1.061 | V52: -1387 | W52: <0.000 | X52: 2281 | Y52: 0.91 | Z52: -153 | AA52: <0.000 | AB52: 7079209 | AC52: 873.519 | AD52: -29333 | AE52: <0.000 | AF52: -2195 | AG52: <0.000 | AH52: -47292 | AI52: <0.000 | AJ52: -3881 | AK52: <0.000 | AL52: 122661 | AN52: 38926 | AO52: 2.438 | AP52: -2511 | AR52: -2112 | AT52: -9826 | AU52: <0.000 | AV52: 6558 | AW52: 182666 | AX52: 5051107 | AY52: 12587646 | AZ52: 2279510 | BA52: 13216471 | BB52: 5573335
A53: 171902070CIAP | B53: 20075024 | C53: 13023.813 | D53: 744108 | E53: 132337.29 | F53: 13044118 | G53: 129237.83 | H53: 749 | I53: 0.079 | J53: 1338 | K53: 0.061 | L53: 5436 | M53: 0.488 | N53: 35041 | O53: 1.877 | P53: 529338 | Q53: 2.675 | R53: 5099 | S53: 0.134 | T53: 19117 | U53: 2.44 | V53: 3118 | W53: 0.161 | X53: 10499 | Y53: 2.157 | Z53: -40 | AA53: <0.000 | AB53: 13651532 | AC53: 1191.047 | AD53: -29367 | AE53: <0.000 | AF53: -2162 | AG53: <0.000 | AH53: -47342 | AI53: <0.000 | AJ53: -3811 | AK53: <0.000 | AL53: 164712 | AN53: 48313 | AO53: 3.473 | AP53: -2222 | AR53: -1980 | AT53: -9299 | AU53: <0.000 | AV53: 11765 | AW53: 356351 | AX53: 5096143 | AY53: 11662720 | AZ53: 3220217 | BA53: 11509069 | BB53: 4649573
A54: 171902070CAMP | B54: 14064155 | C54: 7056.161 | D54: 601645 | E54: 86202.495 | F54: 10672034 | G54: 85159.264 | H54: 407 | I54: 0.034 | J54: 2954 | K54: 0.107 | L54: 7290 | M54: 0.525 | N54: 35679 | O54: 1.534 | P54: 491121 | Q54: 1.994 | R54: 19712 | S54: 0.424 | T54: 31968 | U54: 3.263 | V54: 10355 | W54: 0.434 | X54: 18348 | Y54: 3.015 | Z54: -57 | AA54: <0.000 | AB54: 8986773 | AC54: 638.721 | AD54: -29478 | AE54: <0.000 | AF54: -2169 | AG54: <0.000 | AH54: -47506 | AI54: <0.000 | AJ54: -3844 | AK54: <0.000 | AL54: 624623 | AN54: 37515 | AO54: 2.425 | AP54: -1590 | AR54: -1473 | AT54: -6883 | AU54: <0.000 | AV54: 15222 | AW54: 442748 | AX54: 5241860 | AY54: 12430743 | AZ54: 3955357 | BA54: 12806836 | BB54: 5416246
A55: 171902070AT | B55: 10031283 | C55: 7176.919 | D55: 460870 | E55: 90127.904 | F55: 8077537 | G55: 87987.749 | H55: 390 | I55: 0.045 | J55: 696 | K55: 0.034 | L55: 2651 | M55: 0.26 | N55: 18179 | O55: 1.067 | P55: 300513 | Q55: 1.666 | R55: -657 | S55: <0.000 | T55: 4522 | U55: 0.629 | V55: -210 | W55: <0.000 | X55: 1764 | Y55: 0.395 | Z55: -100 | AA55: <0.000 | AB55: 9185985 | AC55: 801.971 | AD55: -29539 | AE55: <0.000 | AF55: -2198 | AG55: <0.000 | AH55: -47342 | AI55: <0.000 | AJ55: -3904 | AK55: <0.000 | AL55: 55065 | AN55: 37625 | AO55: 2.871 | AP55: -3073 | AR55: -2520 | AT55: -12247 | AU55: <0.000 | AV55: 10688 | AW55: 324675 | AX55: 5019196 | AY55: 11115274 | AZ55: 3221528 | BA55: 10833116 | BB55: 4330938
A56: 171902070AR | B56: 16218111 | C56: 7203.513 | D56: 572283 | E56: 74823.946 | F56: 9872569 | G56: 71899.756 | H56: 460 | I56: 0.035 | J56: 1976 | K56: 0.065 | L56: 6039 | M56: 0.397 | N56: 28185 | O56: 1.107 | P56: 435636 | Q56: 1.615 | R56: 1305 | S56: 0.026 | T56: 9375 | U56: 0.872 | V56: 1027 | W56: 0.039 | X56: 5062 | Y56: 0.759 | Z56: 27 | AA56: 0.002 | AB56: 9917813 | AC56: 669.42 | AD56: -29466 | AE56: <0.000 | AF56: -2182 | AG56: <0.000 | AH56: -47456 | AI56: <0.000 | AJ56: -3821 | AK56: <0.000 | AL56: 107397 | AN56: 40086 | AO56: 2.608 | AP56: -1803 | AR56: -1436 | AT56: -6940 | AU56: <0.000 | AV56: 17217 | AW56: 485594 | AX56: 5074520 | AY56: 12375529 | AZ56: 4166346 | BA56: 12725032 | BB56: 5345497
A57: 171902070AE | B57: 28683264 | C57: 14531.238 | D57: 1098606 | E57: 144459.11 | F57: 18078890 | G57: 133704.93 | H57: 1351 | I57: 0.105 | J57: 1964 | K57: 0.063 | L57: 6096 | M57: 0.4 | N57: 45615 | O57: 1.815 | P57: 701173 | Q57: 2.616 | R57: 12855 | S57: 0.245 | T57: 19321 | U57: 1.826 | V57: 7226 | W57: 0.27 | X57: 10602 | Y57: 1.613 | Z57: 27 | AA57: 0.002 | AB57: 18470331 | AC57: 1392.597 | AD57: -29290 | AE57: <0.000 | AF57: -2139 | AG57: <0.000 | AH57: -47206 | AI57: <0.000 | AJ57: -3797 | AK57: <0.000 | AL57: 263932 | AN57: 82570 | AO57: 5.653 | AP57: -1787 | AR57: -1445 | AT57: -7154 | AU57: <0.000 | AV57: 14978 | AW57: 479730 | AX57: 4988917 | AY57: 11721981 | AZ57: 3715436 | BA57: 12085866 | BB57: 4929029
A58: 171902070AD | B58: 14038954 | C58: 7111.26 | D58: 892129 | E58: 115739.21 | F58: 15731977 | G58: 113680.74 | H58: 436 | I58: 0.033 | J58: 3122 | K58: 0.102 | L58: 6523 | M58: 0.423 | N58: 5825 | O58: 0.228 | P58: 623480 | Q58: 2.294 | R58: 10140 | S58: 0.197 | T58: 10533 | U58: 0.974 | V58: 5237 | W58: 0.198 | X58: 5048 | Y58: 0.749 | Z58: 3 | AA58: 0 | AB58: 13573384 | AC58: 964.397 | AD58: -29403 | AE58: <0.000 | AF58: -2190 | AG58: <0.000 | AH58: -47499 | AI58: <0.000 | AJ58: -3781 | AK58: <0.000 | AL58: 375850 | AN58: 11986 | AO58: 0.87 | AP58: -2155 | AR58: -1784 | AT58: -8856 | AU58: <0.000 | AV58: 15061 | AW58: 489472 | AX58: 5028940 | AY58: 11722918 | AZ58: 3956226 | BA58: 11401278 | BB58: 4616734
A59: 171902070ASPM | B59: 19189708 | C59: 7096.433 | D59: 1204986 | E59: 111747.93 | F59: 20260687 | G59: 105889.58 | H59: 520 | I59: 0.027 | J59: 3147 | K59: 0.072 | L59: 9069 | M59: 0.411 | N59: 6595 | O59: 0.191 | P59: 943847 | Q59: 2.391 | R59: 21084 | S59: 0.298 | T59: 7701 | U59: 0.494 | V59: 10610 | W59: 0.29 | X59: 2964 | Y59: 0.32 | Z59: 183 | AA59: 0.01 | AB59: 14777213 | AC59: 902.357 | AD59: -29497 | AE59: <0.000 | AF59: -2158 | AG59: <0.000 | AH59: -47633 | AI59: <0.000 | AJ59: -3814 | AK59: <0.000 | AL59: 649754 | AN59: 5742 | AO59: 0.445 | AP59: -3130 | AR59: -2715 | AT59: -12784 | AU59: <0.000 | AV59: 19845 | AW59: 667901 | AX59: 4977777 | AY59: 11107010 | AZ59: 4556431 | BA59: 10677642 | BB59: 4287098
A60: 171902070ASPD | B60: 4917810 | C60: 2762.727 | D60: 347475 | E60: 55847.344 | F60: 6106157 | G60: 54708.125 | H60: 191 | I60: 0.017 | J60: 1809 | K60: 0.072 | L60: 5689 | M60: 0.455 | N60: 1807 | O60: 0.089 | P60: 303058 | Q60: 1.378 | R60: 7290 | S60: 0.167 | T60: 3428 | U60: 0.384 | V60: 4086 | W60: 0.184 | X60: 1434 | Y60: 0.264 | Z60: -83 | AA60: <0.000 | AB60: 5476532 | AC60: 388.272 | AD60: -29494 | AE60: <0.000 | AF60: -2224 | AG60: <0.000 | AH60: -47686 | AI60: <0.000 | AJ60: -3907 | AK60: <0.000 | AL60: 464983 | AN60: 3146 | AO60: 0.199 | AP60: -1456 | AR60: -1207 | AT60: -5760 | AU60: <0.000 | AV60: 13543 | AW60: 394587 | AX60: 5262635 | AY60: 12859180 | AZ60: 3952945 | BA60: 13090297 | BB60: 5641564
A61: 171902070ASPP | B61: 8059936 | C61: 4177.382 | D61: 266152 | E61: 43181.446 | F61: 4603143 | G61: 41606.412 | H61: 352 | I61: 0.034 | J61: 1445 | K61: 0.058 | L61: 5426 | M61: 0.437 | N61: 10011 | O61: 0.486 | P61: 257663 | Q61: 1.173 | R61: 1699 | S61: 0.028 | T61: 9015 | U61: 1.043 | V61: 1331 | W61: 0.053 | X61: 4868 | Y61: 0.89 | Z61: -73 | AA61: <0.000 | AB61: 4948480 | AC61: 324.527 | AD61: -28888 | AE61: <0.000 | AF61: -2081 | AG61: <0.000 | AH61: -46679 | AI61: <0.000 | AJ61: -3654 | AK61: <0.000 | AL61: 109646 | AN61: 15050 | AO61: 0.908 | AP61: -684 | AR61: -446 | AT61: -3038 | AU61: <0.000 | AV61: 14578 | AW61: 389529 | AX61: 5504455 | AY61: 13211138 | AZ61: 4270547 | BA61: 13727345 | BB61: 5888316
A62: 171902070AAMD | B62: 14569555 | C62: 8250.736 | D62: 566691 | E62: 94091.178 | F62: 9867474 | G62: 91108.457 | H62: 557 | I62: 0.055 | J62: 1508 | K62: 0.062 | L62: 5479 | M62: 0.451 | N62: 19488 | O62: 0.978 | P62: 459030 | Q62: 2.153 | R62: 5697 | S62: 0.138 | T62: 13346 | U62: 1.582 | V62: 3612 | W62: 0.174 | X62: 7476 | Y62: 1.435 | Z62: -10 | AA62: <0.000 | AB62: 10694597 | AC62: 791.379 | AD62: -29371 | AE62: <0.000 | AF62: -2160 | AG62: <0.000 | AH62: -47376 | AI62: <0.000 | AJ62: -3834 | AK62: <0.000 | AL62: 257936 | AN62: 38521 | AO62: 2.379 | AP62: 1413 | AR62: 1324 | AT62: 5473 | AU62: 0.074 | AV62: 13480 | AW62: 381779 | AX62: 5351922 | AY62: 12947444 | AZ62: 3793746 | BA62: 13400486 | BB62: 5615919
A63: 171902070AIAD | B63: 10503936 | C63: 13205.214 | D63: 445681 | E63: 160284.14 | F63: 7766391 | G63: 155515.97 | H63: 2890 | I63: 0.61 | J63: 442 | K63: 0.039 | L63: 2721 | M63: 0.492 | N63: 14592 | O63: 1.575 | P63: 327407 | Q63: 3.341 | R63: 29744 | S63: 1.604 | T63: 11654 | U63: 2.977 | V63: 15218 | W63: 1.601 | X63: 6276 | Y63: 2.57 | Z63: -107 | AA63: <0.000 | AB63: 10692274 | AC63: 1356.046 | AD63: -28278 | AE63: <0.000 | AF63: -2084 | AG63: <0.000 | AH63: -45769 | AI63: <0.000 | AJ63: -3727 | AK63: <0.000 | AL63: 261005 | AN63: 65735 | AO63: 4.143 | AP63: -1819 | AR63: -1638 | AT63: -7716 | AU63: <0.000 | AV63: 6085 | AW63: 176852 | AX63: 5045002 | AY63: 12411952 | AZ63: 2216838 | BA63: 13132116 | BB63: 5306742
A64: 171902070AIAP | B64: 38494683 | C64: 11064.562 | D64: 1265958 | E64: 99382.656 | F64: 21242844 | G64: 92926.5 | H64: 3697 | I64: 0.171 | J64: 4927 | K64: 0.098 | L64: 17554 | M64: 0.693 | N64: 45357 | O64: 1.07 | P64: 1286294 | Q64: 2.856 | R64: 63045 | S64: 0.745 | T64: 51735 | U64: 2.893 | V64: 31070 | W64: 0.715 | X64: 28735 | Y64: 2.588 | Z64: 487 | AA64: 0.03 | AB64: 16607384 | AC64: 854.316 | AD64: -29159 | AE64: <0.000 | AF64: -2071 | AG64: <0.000 | AH64: -47006 | AI64: <0.000 | AJ64: -3651 | AK64: <0.000 | AL64: 129126 | AN64: 35044 | AO64: 2.122 | AP64: 1231 | AR64: 1181 | AT64: 4660 | AU64: 0.062 | AV64: 26630 | AW64: 808205 | AX64: 5225236 | AY64: 12895148 | AZ64: 5464827 | BA64: 13664751 | BB64: 5670704
A65: 171902070AAMP | B65: 557 | D65: -103 | E65: <0.000 | F65: 243 | G65: 5658.308 | H65: -211 | I65: <0.000 | J65: -1147 | K65: <0.000 | L65: 14260 | M65: 3449.193 | N65: -363 | O65: <0.000 | P65: -3907 | Q65: <0.000 | R65: -13527 | S65: <0.000 | T65: -2907 | U65: <0.000 | V65: -6375 | W65: <0.000 | X65: -1777 | Y65: <0.000 | Z65: -223 | AA65: <0.000 | AB65: -3436 | AC65: <0.000 | AD65: -29926 | AE65: <0.000 | AF65: -2279 | AG65: <0.000 | AH65: -48196 | AI65: <0.000 | AJ65: -3997 | AK65: <0.000 | AL65: -3217 | AN65: -8346 | AO65: <0.000 | AP65: -6197 | AR65: -5182 | AT65: -24490 | AU65: <0.000 | AV65: 0 | AW65: 140 | AX65: 233 | AY65: 7851 | AZ65: 3641 | BA65: 17 | BB65: 183
A66: 15-str-6a-3 | B66: 483 | D66: -87 | E66: <0.000 | F66: 470 | G66: 8171.468 | H66: -213 | I66: <0.000 | J66: -1078 | K66: <0.000 | L66: 18502 | M66: 2906.812 | N66: -303 | O66: <0.000 | P66: 3776 | Q66: 33.522 | R66: -13450 | S66: <0.000 | T66: -2910 | U66: <0.000 | V66: -6358 | W66: <0.000 | X66: -1787 | Y66: <0.000 | Z66: -223 | AA66: <0.000 | AB66: -3432 | AC66: <0.000 | AD66: -29921 | AE66: <0.000 | AF66: -2279 | AG66: <0.000 | AH66: -48206 | AI66: <0.000 | AJ66: -3997 | AK66: <0.000 | AL66: -3384 | AN66: -8349 | AO66: <0.000 | AP66: -7159 | AR66: -6002 | AT66: -28180 | AU66: <0.000 | AV66: 0 | AW66: 203 | AX66: 173 | AY66: 2128 | AZ66: 1573 | BA66: 20 | BB66: 143
A67: blank | B67: 8729114 | D67: 369512 | F67: 6189904 | H67: 347 | J67: 1728 | L67: 5525 | N67: 19715 | P67: 354418 | R67: 9651 | T67: 11192 | V67: 5071 | X67: 6459 | Z67: 237 | AB67: 8159479 | AD67: 1586 | AF67: 149 | AH67: 2384 | AJ67: 167 | AL67: 206239 | AN67: 92294 | AP67: 13869 | AR67: 12042 | AT67: 55386 | AV67: 5768 | AW67: 272791 | AX67: 7376979 | AY67: 20432557 | AZ67: 3677569 | BA67: 25912206 | BB67: 12500577
A68: blank | B68: 6249914 | D68: 242006 | F68: 4155403 | H68: 343 | J68: 1669 | L68: 5248 | N68: 8966 | P68: 257981 | R68: 9500 | T68: 10521 | V68: 4631 | X68: 6031 | Z68: 233 | AB68: 5778547 | AD68: 1376 | AF68: 114 | AH68: 2114 | AJ68: 210 | AL68: 122535 | AN68: 46727 | AP68: 15658 | AR68: 13379 | AT68: 61803 | AV68: 5118 | AW68: 233094 | AX68: 7424635 | AY68: 20867380 | AZ68: 3626656 | BA68: 26088144 | BB68: 12837258
A69: ME5 | B69: 8517033 | D69: 322673 | F69: 5393855 | H69: 712 | J69: 2974 | L69: 9377 | N69: 13907 | P69: 382100 | R69: 19617 | T69: 20184 | V69: 9964 | X69: 12095 | Z69: 370 | AB69: 6780535 | AD69: 1463 | AF69: 192 | AH69: 2304 | AJ69: 430 | AL69: 62852 | AN69: 36695 | AP69: 12726 | AR69: 11046 | AT69: 49793 | AV69: 8469 | AW69: 412906 | AX69: 7001855 | AY69: 19139831 | AZ69: 5230615 | BA69: 23147979 | BB69: 10921770
A70: ME4 | B70: 4115163 | D70: 154634 | F70: 2653244 | H70: 409 | J70: 1769 | L70: 5568 | N70: 11535 | P70: 193684 | R70: 10844 | T70: 10167 | V70: 5391 | X70: 5851 | Z70: 253 | AB70: 3587395 | AD70: 1406 | AF70: 136 | AH70: 2190 | AJ70: 240 | AL70: 43796 | AN70: 26091 | AP70: 17288 | AR70: 14633 | AT70: 68424 | AV70: 5154 | AW70: 250011 | AX70: 6921003 | AY70: 19191898 | AZ70: 3845344 | BA70: 24140110 | BB70: 11943737
A71: ME3 | B71: 5783526 | D71: 280029 | F71: 4735898 | H71: 466 | J71: 2277 | L71: 6262 | N71: 18669 | P71: 303281 | R71: 11999 | T71: 10227 | V71: 6325 | X71: 5501 | Z71: 270 | AB71: 5889526 | AD71: 1273 | AF71: 123 | AH71: 1847 | AJ71: 197 | AL71: 119185 | AN71: 47148 | AP71: 13615 | AR71: 11403 | AT71: 53771 | AV71: 6728 | AW71: 322345 | AX71: 6882959 | AY71: 19310313 | AZ71: 4336897 | BA71: 23239832 | BB71: 11096742
A72: ME2 | B72: 3702293 | D72: 256018 | F72: 4355499 | H72: 288 | J72: 1871 | L72: 5821 | N72: 2800 | P72: 277781 | R72: 13203 | T72: 8109 | V72: 6385 | X72: 4271 | Z72: 260 | AB72: 4972847 | AD72: 1337 | AF72: 170 | AH72: 2070 | AJ72: 267 | AL72: 472682 | AN72: 18656 | AP72: 13785 | AR72: 11624 | AT72: 54142 | AV72: 5988 | AW72: 278303 | AX72: 6741491 | AY72: 19290308 | AZ72: 4037879 | BA72: 23947818 | BB72: 11822974
A73: TRRE4 | B73: 5197307 | D73: 197195 | F73: 3458551 | H73: 350 | J73: 1808 | L73: 4764 | N73: 14227 | P73: 218475 | R73: 10908 | T73: 8680 | V73: 5244 | X73: 5138 | Z73: 207 | AB73: 4803309 | AD73: 1339 | AF73: 110 | AH73: 1960 | AJ73: 167 | AL73: 91187 | AN73: 38218 | AP73: 15095 | AR73: 12814 | AT73: 59607 | AV73: 4971 | AW73: 229787 | AX73: 7113083 | AY73: 19738258 | AZ73: 3530276 | BA73: 25053487 | BB73: 12512593
A74: TRRE3 | B74: 13746913 | D74: 500250 | F74: 8410860 | H74: 687 | J74: 3023 | L74: 10197 | N74: 26925 | P74: 523515 | R74: 18102 | T74: 20815 | V74: 9106 | X74: 12052 | Z74: 407 | AB74: 9376474 | AD74: 1151 | AF74: 221 | AH74: 1914 | AJ74: 333 | AL74: 124159 | AN74: 44924 | AP74: 11971 | AR74: 9917 | AT74: 47417 | AV74: 9033 | AW74: 445447 | AX74: 6488917 | AY74: 18179319 | AZ74: 5099855 | BA74: 21674608 | BB74: 9927809
A75: TRRE2 | B75: 46945591 | D75: 1577000 | F75: 25658548 | H75: 2124 | J75: 7562 | L75: 25427 | N75: 62178 | P75: 1769737 | R75: 38779 | T75: 35454 | V75: 19841 | X75: 18476 | Z75: 967 | AB75: 19795507 | AD75: 1099 | AF75: 313 | AH75: 1950 | AJ75: 587 | AL75: 190017 | AN75: 65871 | AP75: 11483 | AR75: 9836 | AT75: 46056 | AV75: 23409 | AW75: 1291304 | AX75: 6456704 | AY75: 18021656 | AZ75: 8057810 | BA75: 21628069 | BB75: 10054979
A76: TRRE1 | B76: 3724634 | D76: 251026 | F76: 4294564 | H76: 297 | J76: 2154 | L76: 5228 | N76: 2820 | P76: 255244 | R76: 11261 | T76: 6759 | V76: 5535 | X76: 3901 | Z76: 117 | AB76: 4846374 | AD76: 1075 | AF76: 112 | AH76: 1710 | AJ76: 153 | AL76: 283743 | AN76: 18145 | AP76: 13746 | AR76: 11969 | AT76: 54208 | AV76: 5945 | AW76: 263762 | AX76: 6676161 | AY76: 18773897 | AZ76: 3801604 | BA76: 23999170 | BB76: 11665716
A77: Blank | B77: 22855 | D77: 690 | F77: 11398 | H77: 1026 | J77: 9906 | L77: 17811 | N77: 3614 | P77: 249059 | R77: 55323 | T77: 13317 | V77: 27824 | X77: 8530 | Z77: 1493 | AB77: 20995 | AD77: 2150 | AF77: 443 | AH77: 3624 | AJ77: 737 | AL77: 7559 | AN77: 13040 | AP77: 16280 | AR77: 13768 | AT77: 64120 | AV77: 15729 | AW77: 765728 | AX77: 6920971 | AY77: 19428597 | AZ77: 8453710 | BA77: 23793640 | BB77: 12137036
A78: blank | B78: -10789 | C78: 0 | D78: -293 | E78: 0 | F78: -4883 | G78: 0 | H78: -763 | I78: 0 | J78: -7378 | K78: 0 | L78: -11353 | M78: 0 | N78: -1470 | O78: 0 | P78: -154293 | Q78: 0 | R78: -15038 | S78: 0 | T78: -5444 | U78: 0 | V78: -8327 | W78: 0 | X78: -3822 | Y78: 0 | Z78: -1173 | AA78: 0 | AB78: -12343 | AC78: 0 | AD78: -1448 | AE78: 0 | AF78: -344 | AG78: 0 | AH78: -2561 | AI78: 0 | AJ78: -567 | AK78: 0 | AL78: -2454 | AN78: 10711 | AO78: 0 | AP78: 2031 | AR78: 1628 | AT78: 7388 | AU78: 0 | AV78: 6368 | AW78: 267480 | AX78: 6770832 | AY78: 19017569 | AZ78: 4776765 | BA78: 23649496 | BB78: 12332476
A79: ME5 | B79: 511920 | C79: 241.223 | D79: 76674 | E79: 9531.55 | F79: 1334172 | G79: 9562.129 | H79: -871 | I79: 0.052 | J79: -8310 | K79: 0.215 | L79: 47730 | M79: 6.008 | N79: 7818 | O79: 0.385 | P79: 992199 | Q79: 6.042 | R79: 36907 | S79: 1.512 | T79: -6211 | U79: 0.463 | V79: 18522 | W79: 1.601 | X79: -4362 | Y79: 0.503 | Z79: -1227 | AA79: 0.018 | AB79: -14536 | AC79: 0.096 | AD79: -763 | AE79: 0.025 | AF79: -180 | AG79: 0.066 | AH79: -1214 | AI79: 0.03 | AJ79: -320 | AK79: 0.062 | AL79: 63682 | AN79: -8539 | AO79: <0.000 | AP79: 24854 | AR79: 19706 | AT79: 93403 | AU79: 0.561 | AV79: 8780 | AW79: 531058 | AX79: 7251589 | AY79: 20848896 | AZ79: 6569544 | BA79: 25954823 | BB79: 11842796
A80: ME4 | B80: 4248389 | C80: 2826.348 | D80: 124618 | E80: 28493.69 | F80: 2189242 | G80: 28871.304 | H80: -907 | I80: <0.000 | J80: 4152 | K80: 0.758 | L80: 424661 | M80: 69.049 | N80: 1794 | O80: 0.223 | P80: 8009337 | Q80: 70.325 | R80: 251687 | S80: 11.213 | T80: -3536 | U80: 0.429 | V80: 126851 | W80: 11.46 | X80: -2835 | Y80: 0.366 | Z80: -610 | AA80: 0.034 | AB80: -11907 | AC80: <0.000 | AD80: -953 | AE80: 0.021 | AF80: -338 | AG80: <0.000 | AH80: -1840 | AI80: 0.021 | AJ80: -557 | AK80: <0.000 | AL80: -567 | AN80: -5964 | AO80: <0.000 | AP80: -6330 | AR80: -5196 | AT80: -24684 | AU80: <0.000 | AV80: 6058 | AW80: 287176 | AX80: 7911383 | AY80: 22504945 | AZ80: 4594458 | BA80: 28263996 | BB80: 14578107
A81: ME3 | B81: 31858246 | C81: 20685.097 | D81: 253888 | E81: 55495.501 | F81: 4262988 | G81: 53736.655 | H81: -912 | I81: <0.000 | J81: -8482 | K81: <0.000 | L81: 3940411 | M81: 598.221 | N81: 6273 | O81: 0.503 | P81: 70833674 | Q81: 584.776 | R81: -40085 | S81: <0.000 | T81: -1988 | U81: 0.735 | V81: -20285 | W81: <0.000 | X81: -1881 | Y81: 0.664 | Z81: -1240 | AA81: <0.000 | AB81: -9723 | AC81: 0.059 | AD81: -816 | AE81: 0.024 | AF81: -303 | AG81: <0.000 | AH81: -1490 | AI81: 0.026 | AJ81: -477 | AK81: 0.003 | AL81: -397 | AN81: -6258 | AO81: <0.000 | AP81: 6402 | AR81: 5409 | AT81: 24177 | AU81: 0.093 | AV81: 6192 | AW81: 300106 | AX81: 7637131 | AY81: 21598042 | AZ81: 4135299 | BA81: 27280698 | BB81: 13377403
A82: ME2 | B82: 135712613 | C82: 99846.371 | D82: 477955 | E82: 96425.672 | F82: 8351922 | G82: 97207.634 | H82: -694 | I82: 0.031 | J82: -2658 | K82: 0.35 | L82: 6784966 | M82: 949.932 | N82: 22099 | O82: 1.401 | P82: 125559513 | Q82: 956.59 | R82: -35005 | S82: <0.000 | T82: 12223 | U82: 3.11 | V82: -17043 | W82: <0.000 | X82: 6852 | Y82: 2.919 | Z82: -927 | AA82: <0.000 | AB82: -3372 | AC82: 0.411 | AD82: -479 | AE82: 0.033 | AF82: -253 | AG82: <0.000 | AH82: -1020 | AI82: 0.032 | AJ82: -473 | AK82: <0.000 | AL82: 1221 | AN82: -6971 | AO82: <0.000 | AP82: 36897 | AR82: 30489 | AT82: 141483 | AU82: 0.924 | AV82: 5461 | AW82: 324824 | AX82: 6695725 | AY82: 19280298 | AZ82: 3424463 | BA82: 24404862 | BB82: 11236424
A83: TRRE4 | B83: -7653 | C83: 1.314 | D83: 173 | E83: 114.678 | F83: -1454 | G83: 48.332 | H83: 28712 | I83: 4.791 | J83: 70345 | K83: 5.288 | L83: -8598 | M83: 0.45 | N83: 66717 | O83: 4.901 | P83: -154316 | Q83: <0.000 | R83: 123642 | S83: 6.289 | T83: 15352 | U83: 4.198 | V83: 61680 | W83: 6.399 | X83: 9442 | Y83: 4.119 | Z83: 78419 | AA83: 4.79 | AB83: 939796 | AC83: 49.209 | AD83: 174995 | AE83: 4.874 | AF83: 17082 | AG83: 5.144 | AH83: 276808 | AI83: 4.801 | AJ83: 28371 | AK83: 5.135 | AL83: 3706 | AN83: 120672 | AO83: 3.478 | AP83: 243090 | AR83: 213207 | AT83: 979203 | AU83: 4.857 | AV83: 5641 | AW83: 265012 | AX83: 8440330 | AY83: 23000905 | AZ83: 4984967 | BA83: 28678997 | BB83: 15382525
A84: TRRE3 | B84: -14285 | C84: <0.000 | D84: 5445 | E84: 1593.149 | F84: 46686 | G84: 820.732 | H84: 266939 | I84: 49.164 | J84: 664244 | K84: 51.656 | L84: 10029 | M84: 3.872 | N84: 644765 | O84: 52.49 | P84: -166500 | Q84: <0.000 | R84: 1157145 | S84: 60.11 | T84: 219426 | U84: 51.306 | V84: 564191 | W84: 59.133 | X84: 138456 | Y84: 49.997 | Z84: 746189 | AA84: 47.571 | AB84: 9030528 | AC84: 494.623 | AD84: 1841346 | AE84: 49.92 | AF84: 153396 | AG84: 48.034 | AH84: 2920915 | AI84: 49.256 | AJ84: 257503 | AK84: 48.476 | AL84: -1474 | AN84: 1321160 | AO84: 41.816 | AP84: 2517757 | AR84: 2226277 | AT84: 10082446 | AU84: 50.149 | AV84: 5848 | AW84: 234648 | AX84: 8501059 | AY84: 23423231 | AZ84: 4704980 | BA84: 28978404 | BB84: 15471250
A85: TRRE2 | B85: -15473 | C85: <0.000 | D85: 11479 | E85: 3265.151 | F85: 100602 | G85: 1684.886 | H85: 544379 | I85: 99.744 | J85: 1384382 | K85: 106.687 | L85: 30378 | M85: 7.796 | N85: 1314107 | O85: 106.504 | P85: -188120 | Q85: <0.000 | R85: 2064220 | S85: 106.187 | T85: 427797 | U85: 98.583 | V85: 1015238 | W85: 105.336 | X85: 273951 | Y85: 97.272 | Z85: 1542348 | AA85: 99.338 | AB85: 18099241 | AC85: 1001.675 | AD85: 3656937 | AE85: 99.33 | AF85: 313757 | AG85: 99.218 | AH85: 5855776 | AI85: 98.941 | AJ85: 528117 | AK85: 100.413 | AL85: -2354 | AN85: 2652921 | AO85: 82.59 | AP85: 5050623 | AR85: 4418343 | AT85: 20172566 | AU85: 98.764 | AV85: 5885 | AW85: 235357 | AX85: 8573321 | AY85: 23363301 | AZ85: 4653580 | BA85: 29621489 | BB85: 15724013
A86: TRRE1 | B86: 10479 | C86: 14.403 | D86: 70324 | E86: 19605.341 | F86: 680220 | G86: 10966.923 | H86: 3287029 | I86: 600.114 | J86: 7821173 | K86: 598.745 | L86: 233743 | M86: 46.919 | N86: 7415398 | O86: 598.709 | P86: -173270 | Q86: <0.000 | R86: 11716323 | S86: 598.116 | T86: 2635311 | U86: 600.134 | V86: 5813736 | W86: 598.338 | X86: 1713344 | Y86: 600.462 | Z86: 8858446 | AA86: 600.315 | AB86: 103037174 | AC86: 6000.175 | AD86: 21338485 | AE86: 600.119 | AF86: 1805159 | AG86: 600.293 | AH86: 34311299 | AI86: 600.24 | AJ86: 3000649 | AK86: 600.057 | AL86: -1374 | AN86: 18623146 | AO86: 603.596 | AP86: 29522712 | AR86: 25354317 | AT86: 117476837 | AU86: 600.195 | AV86: 5531 | AW86: 235875 | AX86: 8180255 | AY86: 22553151 | AZ86: 4420023 | BA86: 28563494 | BB86: 15073711
A87: Blank | B87: 5918 | C87: 11.749 | D87: 177 | E87: 128.695 | F87: 3374 | G87: 131.451 | H87: 463 | I87: 0.221 | J87: 3170 | K87: 0.778 | L87: 5485 | M87: 3.146 | N87: 1240 | O87: 0.22 | P87: 79352 | Q87: 2.387 | R87: 20825 | S87: 1.904 | T87: 5078 | U87: 2.424 | V87: 10834 | W87: 2.042 | X87: 3034 | Y87: 2.407 | Z87: 1053 | AA87: 0.15 | AB87: 8904 | AC87: 1.219 | AD87: 59275 | AE87: 1.948 | AF87: 4988 | AG87: 1.878 | AH87: 94127 | AI87: 1.93 | AJ87: 7816 | AK87: 1.775 | AL87: 6919 | AN87: 13734 | AO87: 0.085 | AP87: 17529 | AR87: 14969 | AT87: 69656 | AU87: 0.356 | AV87: 4818 | AW87: 203991 | AX87: 7297915 | AY87: 19786746 | AZ87: 4139638 | BA87: 25229965 | BB87: 13354380
A88: 171902070BR | B88: 5654425 | C88: 5039.561 | D88: 252914 | E88: 79802.518 | F88: 4404647 | G88: 80182.831 | H88: -136 | I88: 0.095 | J88: -1663 | K88: 0.353 | L88: -1010 | M88: 1.706 | N88: 17682 | O88: 1.725 | P88: 193459 | Q88: 3.727 | R88: -11569 | S88: 0.007 | T88: 1924 | U88: 1.588 | V88: -6307 | W88: 0.018 | X88: 887 | Y88: 1.534 | Z88: -580 | AA88: 0.022 | AB88: 6228467 | AC88: 479.582 | AD88: -41129 | AE88: <0.000 | AF88: -3334 | AG88: <0.000 | AH88: -64957 | AI88: <0.000 | AJ88: -5039 | AK88: <0.000 | AL88: 103460 | AN88: 47159 | AO88: 1.451 | AP88: -4175 | AR88: -3544 | AT88: -16856 | AU88: <0.000 | AV88: 4521 | AW88: 207759 | AX88: 6573202 | AY88: 18428890 | AZ88: 3347571 | BA88: 23354285 | BB88: 11530270
A89: 171902070BD | B89: 6988573 | C89: 5745.069 | D89: 295897 | E89: 87054.041 | F89: 5143230 | G89: 87274.595 | H89: -186 | I89: 0.087 | J89: -1599 | K89: 0.368 | L89: -754 | M89: 1.774 | N89: 16601 | O89: 1.523 | P89: 221953 | Q89: 3.887 | R89: -12182 | S89: 0.019 | T89: 5426 | U89: 2.396 | V89: -6454 | W89: 0.054 | X89: 2821 | Y89: 2.224 | Z89: -600 | AA89: 0.019 | AB89: 7297677 | AC89: 566.858 | AD89: -49177 | AE89: <0.000 | AF89: -3941 | AG89: <0.000 | AH89: -77437 | AI89: <0.000 | AJ89: -6302 | AK89: <0.000 | AL89: 178318 | AN89: 69824 | AO89: 2.303 | AP89: -4389 | AR89: -3582 | AT89: -17659 | AU89: <0.000 | AV89: 4908 | AW89: 222880 | AX89: 6584185 | AY89: 18712778 | AZ89: 3317937 | BA89: 23757023 | BB89: 11419025
A90: 171902070BAMD | B90: 6281293 | C90: 5045.832 | D90: 245796 | E90: 66015.045 | F90: 4271069 | G90: 66217.613 | H90: -68 | I90: 0.111 | J90: -1476 | K90: 0.388 | L90: -267 | M90: 1.871 | N90: 7256 | O90: 0.671 | P90: 185706 | Q90: 3.306 | R90: -12086 | S90: 0.08 | T90: 5793 | U90: 2.363 | V90: -6140 | W90: 0.142 | X90: 2941 | Y90: 2.176 | Z90: -667 | AA90: 0.018 | AB90: 5863028 | AC90: 420.134 | AD90: -52424 | AE90: <0.000 | AF90: -4243 | AG90: <0.000 | AH90: -82742 | AI90: <0.000 | AJ90: -6582 | AK90: <0.000 | AL90: 97395 | AN90: 28596 | AO90: 0.682 | AP90: -2829 | AR90: -2746 | AT90: -12955 | AU90: <0.000 | AV90: 5014 | AW90: 244495 | AX90: 6658372 | AY90: 18688956 | AZ90: 3595938 | BA90: 24044703 | BB90: 11824092
A91: 171902070BIAP | B91: 4756199 | C91: 3839.359 | D91: 183928 | E91: 50486.763 | F91: 3199566 | G91: 50662.465 | H91: -37 | I91: 0.116 | J91: -1410 | K91: 0.391 | L91: 437 | M91: 2.01 | N91: 7299 | O91: 0.686 | P91: 145245 | Q91: 2.927 | R91: -8687 | S91: 0.24 | T91: 7621 | U91: 2.801 | V91: -4880 | W91: 0.26 | X91: 4512 | Y91: 2.737 | Z91: -767 | AA91: 0.012 | AB91: 4582187 | AC91: 315.734 | AD91: -53400 | AE91: <0.000 | AF91: -4455 | AG91: <0.000 | AH91: -84494 | AI91: <0.000 | AJ91: -6779 | AK91: <0.000 | AL91: 56818 | AN91: 25728 | AO91: 0.53 | AP91: -2942 | AR91: -2759 | AT91: -12510 | AU91: <0.000 | AV91: 4994 | AW91: 238944 | AX91: 7029359 | AY91: 19818473 | AZ91: 3743380 | BA91: 25110590 | BB91: 12452066
A92: 191702070BAMP | B92: 3976759 | C92: 3125.923 | D92: 143445 | E92: 44176.88 | F92: 2495697 | G92: 44341.877 | H92: -122 | I92: 0.098 | J92: -1545 | K92: 0.367 | L92: -350 | M92: 1.852 | N92: 9431 | O92: 0.948 | P92: 110095 | Q92: 2.703 | R92: -10878 | S92: 0.063 | T92: 4356 | U92: 2.188 | V92: -5847 | W92: 0.09 | X92: 2538 | Y92: 2.164 | Z92: -677 | AA92: 0.018 | AB92: 3394104 | AC92: 239.191 | AD92: -54782 | AE92: <0.000 | AF92: -4609 | AG92: <0.000 | AH92: -86842 | AI92: <0.000 | AJ92: -7169 | AK92: <0.000 | AL92: 35735 | AN92: 12564 | AO92: 0.049 | AP92: -448 | AR92: -143 | AT92: -1635 | AU92: <0.000 | AV92: 5141 | AW92: 212966 | AX92: 7059472 | AY92: 19990490 | AZ92: 3662126 | BA92: 24819627 | BB92: 12621540
A93: 171902070CR | B93: 3963363 | C93: 3466.931 | D93: 190133 | E93: 58525.712 | F93: 3292995 | G93: 58487.892 | H93: -196 | I93: 0.083 | J93: -1567 | K93: 0.365 | L93: -774 | M93: 1.762 | N93: 11906 | O93: 1.169 | P93: 142954 | Q93: 3.084 | R93: -12019 | S93: <0.000 | T93: 2264 | U93: 1.659 | V93: -6400 | W93: 0.027 | X93: 1160 | Y93: 1.629 | Z93: -803 | AA93: 0.005 | AB93: 4502524 | AC93: 330.303 | AD93: -55694 | AE93: <0.000 | AF93: -4680 | AG93: <0.000 | AH93: -88373 | AI93: <0.000 | AJ93: -7302 | AK93: <0.000 | AL93: 105755 | AN93: 32702 | AO93: 0.809 | AP93: -3677 | AR93: -3190 | AT93: -15138 | AU93: <0.000 | AV93: 4604 | AW93: 213003 | AX93: 6966833 | AY93: 19545740 | AZ93: 3515114 | BA93: 24650375 | BB93: 12378683
A94: 171902070CSPP | B94: 3082878 | C94: 2358.987 | D94: 207869 | E94: 59045.734 | F94: 3651700 | G94: 59831.38 | H94: -203 | I94: 0.085 | J94: -1605 | K94: 0.372 | L94: -487 | M94: 1.831 | N94: 1177 | O94: 0.202 | P94: 156830 | Q94: 3.104 | R94: -9581 | S94: 0.178 | T94: 1661 | U94: 1.477 | V94: -5123 | W94: 0.217 | X94: 753 | Y94: 1.45 | Z94: -803 | AA94: 0.007 | AB94: 4338490 | AC94: 309.441 | AD94: -55811 | AE94: <0.000 | AF94: -4721 | AG94: <0.000 | AH94: -88703 | AI94: <0.000 | AJ94: -7306 | AK94: <0.000 | AL94: 467369 | AN94: 4151 | AO94: <0.000 | AP94: -4130 | AR94: -3481 | AT94: -16833 | AU94: <0.000 | AV94: 5268 | AW94: 230823 | AX94: 6688422 | AY94: 19127894 | AZ94: 3616363 | BA94: 24145828 | BB94: 11909274
A95: 171902070CIAP | B95: 5298021 | C95: 4108.748 | D95: 201447 | E95: 58180.829 | F95: 3485310 | G95: 58069.635 | H95: -9 | I95: 0.121 | J95: -1372 | K95: 0.389 | L95: -530 | M95: 1.821 | N95: 13264 | O95: 1.217 | P95: 143645 | Q95: 2.989 | R95: -10625 | S95: 0.114 | T95: 4346 | U95: 2.116 | V95: -5697 | W95: 0.147 | X95: 2537 | Y95: 2.101 | Z95: -773 | AA95: 0.009 | AB95: 4852278 | AC95: 347.717 | AD95: -56416 | AE95: <0.000 | AF95: -4702 | AG95: <0.000 | AH95: -89666 | AI95: <0.000 | AJ95: -7356 | AK95: <0.000 | AL95: 79552 | AN95: 21570 | AO95: 0.426 | AP95: -2751 | AR95: -2478 | AT95: -12239 | AU95: <0.000 | AV95: 5214 | AW95: 227001 | AX95: 6627043 | AY95: 18705016 | AZ95: 3598665 | BA95: 23640950 | BB95: 11871363
A96: 171902070CAMP | B96: 6664371 | C96: 5402.513 | D96: 254681 | E96: 70887.902 | F96: 4457264 | G96: 71549.93 | H96: -70 | I96: 0.11 | J96: -1466 | K96: 0.385 | L96: -193 | M96: 1.89 | N96: 13137 | O96: 1.167 | P96: 185141 | Q96: 3.367 | R96: -10535 | S96: 0.139 | T96: 6767 | U96: 2.634 | V96: -5463 | W96: 0.193 | X96: 3708 | Y96: 2.477 | Z96: -793 | AA96: 0.005 | AB96: 5781284 | AC96: 427.234 | AD96: -56726 | AE96: <0.000 | AF96: -4740 | AG96: <0.000 | AH96: -90040 | AI96: <0.000 | AJ96: -7412 | AK96: <0.000 | AL96: 117091 | AN96: 32261 | AO96: 0.827 | AP96: -3513 | AR96: -3084 | AT96: -14457 | AU96: <0.000 | AV96: 4968 | AW96: 235595 | AX96: 6701257 | AY96: 18982773 | AZ96: 3488995 | BA96: 23985042 | BB96: 11762067
A97: 171902070AD | B97: 6828998 | C97: 5491.842 | D97: 261122 | E97: 72220.017 | F97: 4553934 | G97: 72641.155 | H97: -20 | I97: 0.119 | J97: -1500 | K97: 0.383 | L97: -637 | M97: 1.804 | N97: 12851 | O97: 1.138 | P97: 181020 | Q97: 3.315 | R97: -9824 | S97: 0.178 | T97: 4359 | U97: 2.074 | V97: -5440 | W97: 0.198 | X97: 2211 | Y97: 1.95 | Z97: -800 | AA97: 0.004 | AB97: 6485868 | AC97: 485.34 | AD97: -57101 | AE97: <0.000 | AF97: -4745 | AG97: <0.000 | AH97: -90643 | AI97: <0.000 | AJ97: -7402 | AK97: <0.000 | AL97: 188139 | AN97: 51072 | AO97: 1.637 | AP97: -4200 | AR97: -3777 | AT97: -17857 | AU97: <0.000 | AV97: 5018 | AW97: 237079 | AX97: 6388076 | AY97: 17781332 | AZ97: 3444747 | BA97: 23004979 | BB97: 11353923
A98: 171902070ASPM | B98: 3387516 | C98: 2680.074 | D98: 221573 | E98: 62043.118 | F98: 3851520 | G98: 62202.267 | H98: -171 | I98: 0.091 | J98: -1096 | K98: 0.413 | L98: -770 | M98: 1.776 | N98: 1170 | O98: 0.2 | P98: 152642 | Q98: 3.036 | R98: -10395 | S98: 0.143 | T98: 1294 | U98: 1.388 | V98: -5440 | W98: 0.192 | X98: 693 | Y98: 1.422 | Z98: -867 | AA98: 0.002 | AB98: 4621544 | AC98: 327.537 | AD98: -57198 | AE98: <0.000 | AF98: -4802 | AG98: <0.000 | AH98: -90883 | AI98: <0.000 | AJ98: -7416 | AK98: <0.000 | AL98: 259156 | AN98: 3193 | AO98: <0.000 | AP98: -4204 | AR98: -3560 | AT98: -17417 | AU98: <0.000 | AV98: 5091 | AW98: 234376 | AX98: 6534155 | AY98: 18349342 | AZ98: 3638720 | BA98: 23264842 | BB98: 11670081
A99: 171902070ASPD | B99: 2952853 | C99: 2509.437 | D99: 195813 | E99: 55429.594 | F99: 3457049 | G99: 56481.62 | H99: -222 | I99: 0.082 | J99: -1621 | K99: 0.371 | L99: -634 | M99: 1.803 | N99: 1007 | O99: 0.188 | P99: 137779 | Q99: 2.897 | R99: -10091 | S99: 0.153 | T99: 327 | U99: 1.169 | V99: -4933 | W99: 0.238 | X99: -80 | Y99: 1.154 | Z99: -837 | AA99: 0.004 | AB99: 4052396 | AC99: 289.721 | AD99: -57083 | AE99: <0.000 | AF99: -4814 | AG99: <0.000 | AH99: -90873 | AI99: <0.000 | AJ99: -7492 | AK99: <0.000 | AL99: 458613 | AN99: -200 | AO99: <0.000 | AP99: -4014 | AR99: -3413 | AT99: -16251 | AU99: <0.000 | AV99: 4744 | AW99: 231685 | AX99: 6579421 | AY99: 18428475 | AZ99: 3608093 | BA99: 23544940 | BB99: 11784461
A100: 171902070AIAP | B100: 6584602 | C100: 5588.001 | D100: 276770 | E100: 78405.939 | F100: 4748867 | G100: 77613.74 | H100: 1323 | I100: 0.369 | J100: -1345 | K100: 0.393 | L100: 1107 | M100: 2.144 | N100: 9961 | O100: 0.924 | P100: 210610 | Q100: 3.674 | R100: 11337 | S100: 1.266 | T100: 70183 | U100: 17.35 | V100: 4971 | W100: 1.276 | X100: 44931 | Y100: 17.2 | Z100: -687 | AA100: 0.012 | AB100: 6768095 | AC100: 521.917 | AD100: -56550 | AE100: <0.000 | AF100: -4715 | AG100: <0.000 | AH100: -89743 | AI100: <0.000 | AJ100: -7382 | AK100: <0.000 | AL100: 176079 | AN100: 38655 | AO100: 1.143 | AP100: -988 | AR100: -878 | AT100: -5022 | AU100: <0.000 | AV100: 4758 | AW100: 231366 | AX100: 6452156 | AY100: 17877031 | AZ100: 3341630 | BA100: 22921212 | BB100: 11229569
A101: 171902070AAMP | B101: 4069048 | C101: 3243.013 | D101: 146025 | E101: 42418.697 | F101: 2597865 | G101: 43532.243 | H101: 192 | I101: 0.16 | J101: -1410 | K101: 0.385 | L101: 50 | M101: 1.938 | N101: 6259 | O101: 0.633 | P101: 110077 | Q101: 2.631 | R101: -4132 | S101: 0.457 | T101: 7455 | U101: 2.863 | V101: -2202 | W101: 0.52 | X101: 4475 | Y101: 2.813 | Z101: -803 | AA101: 0.009 | AB101: 3596149 | AC101: 250.886 | AD101: -57251 | AE101: <0.000 | AF101: -4809 | AG101: <0.000 | AH101: -91127 | AI101: <0.000 | AJ101: -7456 | AK101: <0.000 | AL101: 78181 | AN101: 15901 | AO101: 0.207 | AP101: -1451 | AR101: -1022 | AT101: -5057 | AU101: <0.000 | AV101: 5064 | AW101: 225880 | AX101: 6588877 | AY101: 18508910 | AZ101: 3698785 | BA101: 23512586 | BB101: 11838536
A102: 171805033BT | B102: 10613068 | C102: 9069.582 | D102: 413338 | E102: 110061.82 | F102: 7269090 | G102: 111686.54 | H102: 807 | I102: 0.264 | J102: 41202 | K102: 3.516 | L102: 17925 | M102: 5.233 | N102: 87624 | O102: 6.886 | P102: 586208 | Q102: 7.312 | R102: 16656 | S102: 1.491 | T102: 49432 | U102: 11.861 | V102: 9640 | W102: 1.704 | X102: 31721 | Y102: 11.817 | Z102: -457 | AA102: 0.031 | AB102: 8981187 | AC102: 718.989 | AD102: 3328119 | AE102: 121.73 | AF102: 371727 | AG102: 169.924 | AH102: 5274832 | AI102: 120.018 | AJ102: 625774 | AK102: 171.986 | AL102: 1442722 | AN102: 54937194 | AO102: 2325.599 | AP102: 3469 | AR102: 3069 | AT102: 13720 | AU102: 0.054 | AV102: 4711 | AW102: 246186 | AX102: 6014737 | AY102: 17346648 | AZ102: 3218042 | BA102: 21880237 | BB102: 10508605
A103: 171805033BR | B103: 12693016 | C103: 10406.063 | D103: 480610 | E103: 124050.68 | F103: 8272180 | G103: 123178.19 | H103: 72 | I103: 0.135 | J103: 432 | K103: 0.528 | L103: 2411 | M103: 2.358 | N103: 48604 | O103: 3.75 | P103: 382348 | Q103: 5.146 | R103: 1893 | S103: 0.766 | T103: 62253 | U103: 14.236 | V103: 714 | W103: 0.823 | X103: 39681 | Y103: 14.072 | Z103: -757 | AA103: 0.006 | AB103: 10513411 | AC103: 809.43 | AD103: 70124 | AE103: 2.625 | AF103: 9626 | AG103: 4.335 | AH103: 111440 | AI103: 2.6 | AJ103: 16145 | AK103: 4.37 | AL103: 1559600 | AN103: 1896499 | AO103: 79.886 | AP103: -4386 | AR103: -3510 | AT103: -16896 | AU103: <0.000 | AV103: 4908 | AW103: 253834 | AX103: 6114345 | AY103: 17259973 | AZ103: 3345465 | BA103: 21878003 | BB103: 10442672
...

Sheet Processed Data
A1: Data removed for elements with interference
A2: Data now reported as Conc. [ppb], no CPS counts
B5: 24 Mg [ He ] | C5: 43 Ca [ He ] | D5: 51 V [ He ] | E5: 52 Cr [ He ] | F5: 55 Mn [ He ] | G5: 56 Fe [ He ] | H5: 64 Zn [ He ] | I5: 65 Cu [ He ] | J5: 85 Rb [ He ] | K5: 88 Sr [ He ] | L5: 98 Mo [ He ] | M5: 137 Ba [ No Gas ] | N5: 208 Pb [ No Gas ]
A6: Sample Name | B6: Conc. [ ppb ] | C6: Conc. [ ppb ] | D6: Conc. [ ppb ] | E6: Conc. [ ppb ] | F6: Conc. [ ppb ] | G6: Conc. [ ppb ] | H6: Conc. [ ppb ] | I6: Conc. [ ppb ] | J6: Conc. [ ppb ] | K6: Conc. [ ppb ] | L6: Conc. [ ppb ] | M6: Conc. [ ppb ] | N6: Conc. [ ppb ]
A7: 171902056AT | B7: 3640.279 | C7: 44885.586 | D7: <0.000 | E7: <0.000 | F7: 1.262 | G7: 0.886 | H7: 3.111 | I7: <0.000 | J7: <0.000 | K7: 369.662 | L7: <0.000 | M7: 2.814 | N7: 0.27
A8: 171902056AR | B8: 1030.746 | C8: 14089.008 | D8: <0.000 | E8: <0.000 | F8: 0.381 | G8: 0.3 | H8: 0.056 | I8: <0.000 | J8: <0.000 | K8: 95.393 | L8: <0.000 | M8: 0.452 | N8: <0.000
A9: 171902056AE | B9: 3224.65 | C9: 44507.905 | D9: <0.000 | E9: <0.000 | F9: 1.45 | G9: 0.783 | H9: 1.337 | I9: <0.000 | J9: <0.000 | K9: 329.34 | L9: <0.000 | M9: 2.188 | N9: <0.000
A10: 171902056AD | B10: 2428.758 | C10: 38784.913 | D10: <0.000 | E10: <0.000 | F10: 1.041 | G10: 0.757 | H10: 1.22 | I10: <0.000 | J10: <0.000 | K10: 307.206 | L10: <0.000 | M10: 2.276 | N10: <0.000
A11: 171902056ASPM | B11: 4652.042 | C11: 100722.36 | D11: <0.000 | E11: <0.000 | F11: 0.154 | G11: 1.741 | H11: 0.678 | I11: <0.000 | J11: <0.000 | K11: 645.505 | L11: <0.000 | M11: 0.559 | N11: <0.000
A12: 171902056ASPD | B12: 2843.544 | C12: 59243.477 | D12: <0.000 | E12: <0.000 | F12: 0.135 | G12: 1.124 | H12: 0.044 | I12: <0.000 | J12: <0.000 | K12: 362.668 | L12: <0.000 | M12: 0.2 | N12: <0.000
A13: 171902056ASPP | B13: 2563.847 | C13: 57227.072 | D13: 0.003 | E13: 0.043 | F13: 0.133 | G13: 1.158 | H13: 0.373 | I13: 0.096 | J13: <0.000 | K13: 347.297 | L13: <0.000 | M13: 0.351 | N13: <0.000
A14: 171902056AAMD | B14: 5915.734 | C14: 76635.631 | D14: <0.000 | E14: <0.000 | F14: 0.736 | G14: 1.348 | H14: 0.599 | I14: <0.000 | J14: <0.000 | K14: 656.052 | L14: <0.000 | M14: 3.601 | N14: <0.000
A15: 171902056AIAD | B15: 7319.347 | C15: 97889.271 | D15: 0.002 | E15: 0.054 | F15: 1.399 | G15: 1.838 | H15: 2.032 | I15: 0.154 | J15: <0.000 | K15: 847.119 | L15: <0.000 | M15: 4.343 | N15: <0.000
A16: 171902056AIAP | B16: 7350.989 | C16: 96999.793 | D16: 0.006 | E16: 0.003 | F16: 1.403 | G16: 1.828 | H16: 0.949 | I16: <0.000 | J16: <0.000 | K16: 830.15 | L16: <0.000 | M16: 4.111 | N16: <0.000
A17: 171902056AAMP | B17: 5908.893 | C17: 76571.431 | D17: 0.022 | E17: 0.018 | F17: 1.034 | G17: 1.473 | H17: 0.977 | I17: <0.000 | J17: <0.000 | K17: 637.26 | L17: <0.000 | M17: 2.983 | N17: <0.000
A18: 171902070BT | B18: 1937.886 | C18: 27762.583 | D18: <0.000 | E18: 0.009 | F18: 0.635 | G18: 0.618 | H18: 1.181 | I18: <0.000 | J18: <0.000 | K18: 153.27 | L18: <0.000 | M18: 5.291 | N18: <0.000
A19: 171902070BR | B19: 11061.153 | C19: 142696.17 | D19: 0.039 | E19: 0.029 | F19: 2.85 | G19: 2.726 | H19: 1.157 | I19: <0.000 | J19: <0.000 | K19: 1146.52 | L19: <0.000 | M19: 4.528 | N19: <0.000
A20: 171902070BE | B20: 6962.997 | C20: 84005.579 | D20: 0.025 | E20: 0.03 | F20: 3.774 | G20: 1.646 | H20: 1.141 | I20: <0.000 | J20: <0.000 | K20: 655.484 | L20: <0.000 | M20: 2.57 | N20: <0.000
A21: 171902070BD | B21: 13096.179 | C21: 168937.37 | D21: 0.03 | E21: 0.032 | F21: 2.613 | G21: 2.994 | H21: 2.29 | I21: <0.000 | J21: <0.000 | K21: 1542.884 | L21: <0.000 | M21: 6.991 | N21: <0.000
A22: 171902070BSPM | B22: 2548.658 | C22: 53359.417 | D22: 0.018 | E22: 0.17 | F22: 0.131 | G22: 1.425 | H22: 0.933 | I22: 0.498 | J22: <0.000 | K22: 323.117 | L22: <0.000 | M22: <0.000 | N22: <0.000
A23: 171902070BSPD | B23: 4583.697 | C23: 90832.758 | D23: 0.001 | E23: 0.04 | F23: 0.14 | G23: 1.717 | H23: 0.128 | I23: 0.178 | J23: <0.000 | K23: 589.69 | L23: <0.000 | M23: 0.339 | N23: <0.000
A24: 171902070BSPP | B24: 3520.177 | C24: 65220.718 | D24: <0.000 | E24: 0.052 | F24: 0.205 | G24: 1.23 | H24: 0.098 | I24: <0.000 | J24: <0.000 | K24: 425.019 | L24: <0.000 | M24: 0.39 | N24: <0.000
A25: 171902070BAMD | B25: 11178.149 | C25: 133748.02 | D25: 0.046 | E25: 0.002 | F25: 1.169 | G25: 2.442 | H25: 1.997 | I25: <0.000 | J25: <0.000 | K25: 1089.039 | L25: <0.000 | M25: 3.035 | N25: <0.000
A26: 171902070BIAD | B26: 6056.759 | C26: 75518.515 | D26: 0.043 | E26: 0.053 | F26: 0.843 | G26: 1.463 | H26: 1.058 | I26: <0.000 | J26: <0.000 | K26: 594.763 | L26: <0.000 | M26: 1.99 | N26: <0.000
A27: 171902070BIAP | B27: 8821.405 | C27: 100107.39 | D27: 0.078 | E27: 0.044 | F27: 1.09 | G27: 2.144 | H27: 2.137 | I27: 0.222 | J27: <0.000 | K27: 850.141 | L27: <0.000 | M27: 2.621 | N27: <0.000
A28: 171902070BAMP | B28: 7084.527 | C28: 82949.28 | D28: 0.058 | E28: 0.027 | F28: 1.58 | G28: 1.816 | H28: 1.354 | I28: 0.037 | J28: <0.000 | K28: 623.228 | L28: <0.000 | M28: 1.595 | N28: <0.000
A29: 171902070CT | B29: 8263.411 | C29: 104466.35 | D29: 0.016 | E29: 0.112 | F29: 2.909 | G29: 2.208 | H29: 6.394 | I29: 0.487 | J29: <0.000 | K29: 786.523 | L29: <0.000 | M29: 4.236 | N29: 0.072
A30: 171902070CR | B30: 7313.506 | C30: 106651.99 | D30: 0.03 | E30: 0.011 | F30: 2.037 | G30: 2.052 | H30: 1.502 | I30: <0.000 | J30: <0.000 | K30: 871.277 | L30: <0.000 | M30: 3.435 | N30: <0.000
A31: 171902070CE | B31: 3519.304 | C31: 41017.719 | D31: 0.02 | E31: 0.011 | F31: 1.347 | G31: 0.877 | H31: 0.451 | I31: <0.000 | J31: <0.000 | K31: 288.287 | L31: <0.000 | M31: 1.273 | N31: <0.000
A32: 171902070CD | B32: 11946.201 | C32: 143547.29 | D32: 0.032 | E32: 0.01 | F32: 2.872 | G32: 2.512 | H32: 1.873 | I32: <0.000 | J32: <0.000 | K32: 1229.587 | L32: <0.000 | M32: 5.911 | N32: <0.000
A33: 171902070CSPM | B33: 1101.014 | C33: 25596.4 | D33: 0.017 | E33: 0.054 | F33: 0.054 | G33: 0.764 | H33: 0.482 | I33: 0.173 | J33: <0.000 | K33: 149.197 | L33: <0.000 | M33: <0.000 | N33: <0.000
A34: 171902070CSPD | B34: 1907.262 | C34: 34716.178 | D34: <0.000 | E34: 0.011 | F34: 0.105 | G34: 0.694 | H34: 0.086 | I34: <0.000 | J34: <0.000 | K34: 215.782 | L34: <0.000 | M34: <0.000 | N34: <0.000
A35: 171902070CSPP | B35: 5966.289 | C35: 115613.56 | D35: 0.021 | E35: 0.041 | F35: 0.213 | G35: 2.244 | H35: 0.461 | I35: 0.197 | J35: <0.000 | K35: 855.057 | L35: <0.000 | M35: 0.89 | N35: <0.000
A36: 171902070CAMD | B36: 7688.174 | C36: 78126.296 | D36: 0.007 | E36: 0.008 | F36: 0.897 | G36: 1.404 | H36: 0.892 | I36: <0.000 | J36: <0.000 | K36: 630.405 | L36: <0.000 | M36: 2.213 | N36: <0.000
A37: 171902070CIAD | B37: 7713.699 | C37: 90106.833 | D37: 0.015 | E37: 0.007 | F37: 1.163 | G37: 1.637 | H37: 1.258 | I37: <0.000 | J37: <0.000 | K37: 756.094 | L37: <0.000 | M37: 2.843 | N37: <0.000
A38: 171902070CIAP | B38: 9428.914 | C38: 106321.03 | D38: 0.057 | E38: 0.011 | F38: 1.973 | G38: 1.886 | H38: 1.061 | I38: <0.000 | J38: <0.000 | K38: 873.519 | L38: <0.000 | M38: 2.438 | N38: <0.000
A39: 171902070CAMP | B39: 13023.813 | C39: 132337.29 | D39: 0.079 | E39: 0.061 | F39: 1.877 | G39: 2.675 | H39: 2.44 | I39: 0.161 | J39: <0.000 | K39: 1191.047 | L39: <0.000 | M39: 3.473 | N39: <0.000
A40: 171902070AT | B40: 7056.161 | C40: 86202.495 | D40: 0.034 | E40: 0.107 | F40: 1.534 | G40: 1.994 | H40: 3.263 | I40: 0.434 | J40: <0.000 | K40: 638.721 | L40: <0.000 | M40: 2.425 | N40: <0.000
A41: 171902070AR | B41: 7176.919 | C41: 90127.904 | D41: 0.045 | E41: 0.034 | F41: 1.067 | G41: 1.666 | H41: 0.629 | I41: <0.000 | J41: <0.000 | K41: 801.971 | L41: <0.000 | M41: 2.871 | N41: <0.000
A42: 171902070AE | B42: 7203.513 | C42: 74823.946 | D42: 0.035 | E42: 0.065 | F42: 1.107 | G42: 1.615 | H42: 0.872 | I42: 0.039 | J42: 0.002 | K42: 669.42 | L42: <0.000 | M42: 2.608 | N42: <0.000
A43: 171902070AD | B43: 14531.238 | C43: 144459.11 | D43: 0.105 | E43: 0.063 | F43: 1.815 | G43: 2.616 | H43: 1.826 | I43: 0.27 | J43: 0.002 | K43: 1392.597 | L43: <0.000 | M43: 5.653 | N43: <0.000
A44: 171902070ASPM | B44: 7111.26 | C44: 115739.21 | D44: 0.033 | E44: 0.102 | F44: 0.228 | G44: 2.294 | H44: 0.974 | I44: 0.198 | J44: 0 | K44: 964.397 | L44: <0.000 | M44: 0.87 | N44: <0.000
A45: 171902070ASPD | B45: 7096.433 | C45: 111747.93 | D45: 0.027 | E45: 0.072 | F45: 0.191 | G45: 2.391 | H45: 0.494 | I45: 0.29 | J45: 0.01 | K45: 902.357 | L45: <0.000 | M45: 0.445 | N45: <0.000
A46: 171902070ASPP | B46: 2762.727 | C46: 55847.344 | D46: 0.017 | E46: 0.072 | F46: 0.089 | G46: 1.378 | H46: 0.384 | I46: 0.184 | J46: <0.000 | K46: 388.272 | L46: <0.000 | M46: 0.199 | N46: <0.000
A47: 171902070AAMD | B47: 4177.382 | C47: 43181.446 | D47: 0.034 | E47: 0.058 | F47: 0.486 | G47: 1.173 | H47: 1.043 | I47: 0.053 | J47: <0.000 | K47: 324.527 | L47: <0.000 | M47: 0.908 | N47: <0.000
A48: 171902070AIAD | B48: 8250.736 | C48: 94091.178 | D48: 0.055 | E48: 0.062 | F48: 0.978 | G48: 2.153 | H48: 1.582 | I48: 0.174 | J48: <0.000 | K48: 791.379 | L48: <0.000 | M48: 2.379 | N48: 0.074
A49: 171902070AIAP | B49: 13205.214 | C49: 160284.14 | D49: 0.61 | E49: 0.039 | F49: 1.575 | G49: 3.341 | H49: 2.977 | I49: 1.601 | J49: <0.000 | K49: 1356.046 | L49: <0.000 | M49: 4.143 | N49: <0.000
A50: 171902070AAMP | B50: 11064.562 | C50: 99382.656 | D50: 0.171 | E50: 0.098 | F50: 1.07 | G50: 2.856 | H50: 2.893 | I50: 0.715 | J50: 0.03 | K50: 854.316 | L50: <0.000 | M50: 2.122 | N50: 0.062
A51: 171902070BR | B51: 5039.561 | C51: 79802.518 | D51: 0.095 | E51: 0.353 | F51: 1.725 | G51: 3.727 | H51: 0.007 | I51: 1.588 | J51: 0.022 | K51: 479.582 | L51: <0.000 | M51: 1.451 | N51: <0.000
A52: 171902070BD | B52: 5745.069 | C52: 87054.041 | D52: 0.087 | E52: 0.368 | F52: 1.523 | G52: 3.887 | H52: 0.019 | I52: 2.396 | J52: 0.019 | K52: 566.858 | L52: <0.000 | M52: 2.303 | N52: <0.000
A53: 171902070BAMD | B53: 5045.832 | C53: 66015.045 | D53: 0.111 | E53: 0.388 | F53: 0.671 | G53: 3.306 | H53: 0.08 | I53: 2.363 | J53: 0.018 | K53: 420.134 | L53: <0.000 | M53: 0.682 | N53: <0.000
A54: 171902070BIAP | B54: 3839.359 | C54: 50486.763 | D54: 0.116 | E54: 0.391 | F54: 0.686 | G54: 2.927 | H54: 0.24 | I54: 2.801 | J54: 0.012 | K54: 315.734 | L54: <0.000 | M54: 0.53 | N54: <0.000
A55: 191702070BAMP | B55: 3125.923 | C55: 44176.88 | D55: 0.098 | E55: 0.367 | F55: 0.948 | G55: 2.703 | H55: 0.063 | I55: 2.188 | J55: 0.018 | K55: 239.191 | L55: <0.000 | M55: 0.049 | N55: <0.000
A56: 171902070CR | B56: 3466.931 | C56: 58525.712 | D56: 0.083 | E56: 0.365 | F56: 1.169 | G56: 3.084 | H56: <0.000 | I56: 1.659 | J56: 0.005 | K56: 330.303 | L56: <0.000 | M56: 0.809 | N56: <0.000
A57: 171902070CSPP | B57: 2358.987 | C57: 59045.734 | D57: 0.085 | E57: 0.372 | F57: 0.202 | G57: 3.104 | H57: 0.178 | I57: 1.477 | J57: 0.007 | K57: 309.441 | L57: <0.000 | M57: <0.000 | N57: <0.000
A58: 171902070CIAP | B58: 4108.748 | C58: 58180.829 | D58: 0.121 | E58: 0.389 | F58: 1.217 | G58: 2.989 | H58: 0.114 | I58: 2.116 | J58: 0.009 | K58: 347.717 | L58: <0.000 | M58: 0.426 | N58: <0.000
A59: 171902070CAMP | B59: 5402.513 | C59: 70887.902 | D59: 0.11 | E59: 0.385 | F59: 1.167 | G59: 3.367 | H59: 0.139 | I59: 2.634 | J59: 0.005 | K59: 427.234 | L59: <0.000 | M59: 0.827 | N59: <0.000
A60: 171902070AD | B60: 5491.842 | C60: 72220.017 | D60: 0.119 | E60: 0.383 | F60: 1.138 | G60: 3.315 | H60: 0.178 | I60: 2.074 | J60: 0.004 | K60: 485.34 | L60: <0.000 | M60: 1.637 | N60: <0.000
A61: 171902070ASPM | B61: 2680.074 | C61: 62043.118 | D61: 0.091 | E61: 0.413 | F61: 0.2 | G61: 3.036 | H61: 0.143 | I61: 1.388 | J61: 0.002 | K61: 327.537 | L61: <0.000 | M61: <0.000 | N61: <0.000
A62: 171902070ASPD | B62: 2509.437 | C62: 55429.594 | D62: 0.082 | E62: 0.371 | F62: 0.188 | G62: 2.897 | H62: 0.153 | I62: 1.169 | J62: 0.004 | K62: 289.721 | L62: <0.000 | M62: <0.000 | N62: <0.000
A63: 171902070AIAP | B63: 5588.001 | C63: 78405.939 | D63: 0.369 | E63: 0.393 | F63: 0.924 | G63: 3.674 | H63: 1.266 | I63: 17.35 | J63: 0.012 | K63: 521.917 | L63: <0.000 | M63: 1.143 | N63: <0.000
A64: 171902070AAMP | B64: 3243.013 | C64: 42418.697 | D64: 0.16 | E64: 0.385 | F64: 0.633 | G64: 2.631 | H64: 0.457 | I64: 2.863 | J64: 0.009 | K64: 250.886 | L64: <0.000 | M64: 0.207 | N64: <0.000
A65: 171805033BT | B65: 9069.582 | C65: 110061.82 | D65: 0.264 | E65: 3.516 | F65: 6.886 | G65: 7.312 | H65: 1.491 | I65: 11.861 | J65: 0.031 | K65: 718.989 | L65: 171.986 | M65: 2325.599 | N65: 0.054
A66: 171805033BR | B66: 10406.063 | C66: 124050.68 | D66: 0.135 | E66: 0.528 | F66: 3.75 | G66: 5.146 | H66: 0.766 | I66: 14.236 | J66: 0.006 | K66: 809.43 | L66: 4.37 | M66: 79.886 | N66: <0.000
A67: 171805033BE | B67: 10354.006 | C67: 108136.3 | D67: 0.132 | E67: 0.477 | F67: 2.534 | G67: 4.3 | H67: 0.089 | I67: 3.57 | J67: <0.000 | K67: 707.002 | L67: 3.561 | M67: 0.662 | N67: <0.000
A68: 171805033BD | B68: 13767.933 | C68: 107669.12 | D68: 0.254 | E68: 0.633 | F68: 2.275 | G68: 5.72 | H68: 0.852 | I68: 3.357 | J68: 0.085 | K68: 858.335 | L68: 4.881 | M68: 138.713 | N68: <0.000
A69: 171805033BSPM | B69: 2200.152 | C69: 47495.55 | D69: 0.155 | E69: 0.607 | F69: 0.268 | G69: 2.595 | H69: 0.745 | I69: 1.799 | J69: 0.052 | K69: 344.64 | L69: 5.922 | M69: 48.079 | N69: <0.000
A70: 171805033BR | B70: 10172.548 | C70: 109797.46 | D70: 0.146 | E70: 0.564 | F70: 3.482 | G70: 4.557 | H70: 0.798 | I70: 13.549 | J70: 0.014 | K70: 778.562 | L70: 5.022 | M70: 80.608 | N70: <0.000
A71: 171805033BSPD | B71: 10343.811 | C71: 187590.72 | D71: 0.163 | E71: 0.52 | F71: 0.694 | G71: 6.249 | H71: 0.262 | I71: 4.018 | J71: 0.006 | K71: 1159.455 | L71: 4.375 | M71: 32.041 | N71: <0.000
A72: 171805033BSPP | B72: 2566.593 | C72: 94623.18 | D72: 0.243 | E72: 0.612 | F72: 1.247 | G72: 5.733 | H72: 0.683 | I72: 10.566 | J72: 0.023 | K72: 539.138 | L72: 4.046 | M72: 32.336 | N72: <0.000
A73: 171805033BAMD | B73: 10991.997 | C73: 113850.14 | D73: 0.31 | E73: 0.528 | F73: 1.365 | G73: 4.478 | H73: 0.728 | I73: 3.267 | J73: 0.008 | K73: 715.505 | L73: 4.532 | M73: 30.934 | N73: <0.000
A74: 171805033BIAD | B74: 12303.567 | C74: 155653.25 | D74: 0.152 | E74: 0.518 | F74: 2.14 | G74: 5.816 | H74: 0.209 | I74: 3.601 | J74: 0.001 | K74: 1136.83 | L74: 4.066 | M74: 74.489 | N74: <0.000
A75: 171805033BIAP | B75: 11987.995 | C75: 139978.59 | D75: 0.154 | E75: 0.506 | F75: 2.011 | G75: 5.262 | H75: 0.279 | I75: 5.394 | J75: 0.006 | K75: 994.048 | L75: 4.081 | M75: 32.649 | N75: <0.000
A76: 171805033BAMP | B76: 12425.679 | C76: 127067.05 | D76: 0.23 | E76: 0.526 | F76: 1.301 | G76: 4.956 | H76: 0.214 | I76: 3.026 | J76: 0.005 | K76: 808.7 | L76: 4.04 | M76: 33.77 | N76: <0.000
A77: 171805033CT | B77: 10713.658 | C77: 134337.62 | D77: 0.163 | E77: 0.437 | F77: 1.215 | G77: 5.096 | H77: 0.197 | I77: 3.141 | J77: 0.004 | K77: 953.921 | L77: <0.000 | M77: 0.167 | N77: <0.000
A78: 171805033CR | B78: 3337.41 | C78: 34911.925 | D78: 0.102 | E78: 0.404 | F78: 1.024 | G78: 2.383 | H78: 0.07 | I78: 1.94 | J78: 0.007 | K78: 185.888 | L78: <0.000 | M78: <0.000 | N78: <0.000
A79: 171805033CE | B79: 15111.853 | C79: 149302.98 | D79: 0.227 | E79: 0.43 | F79: 3.479 | G79: 5.4 | H79: 0.322 | I79: 6.274 | J79: 0.003 | K79: 1066.141 | L79: <0.000 | M79: 1.193 | N79: <0.000
A80: 171805033CD | B80: 19266.904 | C80: 191633.35 | D80: 0.278 | E80: 0.445 | F80: 4.826 | G80: 6.157 | H80: 0.328 | I80: 6.883 | J80: 0.006 | K80: 1512.745 | L80: <0.000 | M80: 1.81 | N80: <0.000
A81: 171805033CSPM | B81: 4427.385 | C81: 130715.26 | D81: 0.132 | E81: 0.483 | F81: 0.463 | G81: 5.37 | H81: 0.519 | I81: 2.112 | J81: 0.021 | K81: 790.845 | L81: <0.000 | M81: 0.076 | N81: <0.000
A82: 171805033CSPD | B82: 2563.166 | C82: 70493.306 | D82: 0.104 | E82: 0.437 | F82: 0.131 | G82: 3.459 | H82: 0.53 | I82: 1.849 | J82: 0.004 | K82: 403.797 | L82: <0.000 | M82: <0.000 | N82: <0.000
A83: 171805033CAMD | B83: 13660.747 | C83: 139066.88 | D83: 0.237 | E83: 0.435 | F83: 1.676 | G83: 4.925 | H83: 0.203 | I83: 4.726 | J83: <0.000 | K83: 984.417 | L83: <0.000 | M83: 0.748 | N83: <0.000
A84: 171805033CIAD | B84: 5367.085 | C84: 60525.219 | D84: 0.305 | E84: 0.446 | F84: 0.738 | G84: 3.02 | H84: 0.34 | I84: 3.46 | J84: 0.013 | K84: 389.315 | L84: <0.000 | M84: <0.000 | N84: <0.000
A85: 171805033CIAP | B85: 10946.555 | C85: 121965.02 | D85: 0.205 | E85: 0.43 | F85: 1.595 | G85: 4.589 | H85: 0.284 | I85: 3.954 | J85: 0.003 | K85: 844.484 | L85: <0.000 | M85: 0.59 | N85: <0.000
A86: 171805033CAMP | B86: 16277.934 | C86: 153219.17 | D86: 0.561 | E86: 0.499 | F86: 1.645 | G86: 5.674 | H86: 0.688 | I86: 4.138 | J86: 0.022 | K86: 1142.909 | L86: <0.000 | M86: 1.009 | N86: <0.000
A87: 171805014AT | B87: 15629.998 | C87: 166296.07 | D87: 0.204 | E87: 0.632 | F87: 2.779 | G87: 7.401 | H87: 1.358 | I87: 4.755 | J87: 0.078 | K87: 1311.893 | L87: <0.000 | M87: 0.543 | N87: <0.000
A88: 171805014AR | B88: 17795.359 | C88: 159988.29 | D88: 0.218 | E88: 0.671 | F88: 5.594 | G88: 6.611 | H88: 1.44 | I88: 5.907 | J88: 0.056 | K88: 1252.639 | L88: <0.000 | M88: 1.284 | N88: <0.000
A89: 171805014AE | B89: 17190.219 | C89: 134283.14 | D89: 0.213 | E89: 0.69 | F89: 4.62 | G89: 5.937 | H89: 1.129 | I89: 4.119 | J89: 0.078 | K89: 1135.068 | L89: <0.000 | M89: 1.052 | N89: <0.000
A90: 171805014AD | B90: 8825.539 | C90: 66331.839 | D90: 0.266 | E90: 0.619 | F90: 4.523 | G90: 7.914 | H90: 0.801 | I90: 2.825 | J90: 0.153 | K90: 517.286 | L90: <0.000 | M90: 0.509 | N90: <0.000
A91: 171805014ASPM | B91: 3908.861 | C91: 111973.89 | D91: 0.147 | E91: 0.532 | F91: 0.562 | G91: 4.728 | H91: 0.838 | I91: 2.199 | J91: 0.037 | K91: 731.298 | L91: <0.000 | M91: 1.527 | N91: <0.000
A92: 171805014ASPD | B92: 6198.538 | C92: 205851.17 | D92: 0.223 | E92: 0.656 | F92: 1.383 | G92: 7.566 | H92: 2.511 | I92: 3.487 | J92: 0.03 | K92: 1306.683 | L92: <0.000 | M92: 5.083 | N92: <0.000
A93: 171805014ASPP | B93: 3625.653 | C93: 109255.75 | D93: 0.146 | E93: 0.633 | F93: 0.497 | G93: 5.686 | H93: 1.89 | I93: 2.238 | J93: 0.052 | K93: 644.327 | L93: <0.000 | M93: 0.173 | N93: <0.000
A94: 171805014AAMD | B94: 17303.082 | C94: 143456.46 | D94: 0.179 | E94: 0.569 | F94: 1.994 | G94: 6.041 | H94: 0.745 | I94: 2.627 | J94: 0.061 | K94: 1196.31 | L94: <0.000 | M94: 0.839 | N94: <0.000
A95: 171805014AIAD | B95: 16552.147 | C95: 166561.34 | D95: 0.189 | E95: 0.625 | F95: 1.084 | G95: 6.648 | H95: 0.81 | I95: 3.013 | J95: 0.06 | K95: 1519.087 | L95: <0.000 | M95: 1.143 | N95: <0.000
A96: 171805014AIAP | B96: 9748.754 | C96: 84825.158 | D96: 0.186 | E96: 0.603 | F96: 1.264 | G96: 4.511 | H96: 0.893 | I96: 2.381 | J96: 0.065 | K96: 650.421 | L96: <0.000 | M96: 0.146 | N96: <0.000
A97: 171805014AAMP | B97: 15534.068 | C97: 164474.38 | D97: 0.141 | E97: 0.524 | F97: 2.293 | G97: 6.057 | H97: 0.409 | I97: 3.409 | J97: 0.001 | K97: 1218.62 | L97: <0.000 | M97: 1.3 | N97: <0.000
A98: 171802073AT | B98: 2953.781 | C98: 44438.632 | D98: 0.111 | E98: 0.109 | F98: 2.899 | G98: 2.123 | H98: 31.029 | I98: 8.828 | J98: <0.000 | K98: 197.659 | L98: <0.000 | M98: 64.262 | N98: <0.000
A99: 171802073AR | B99: 4050.568 | C99: 68015.136 | D99: <0.000 | E99: 0.073 | F99: 3.073 | G99: 2.443 | H99: 28.33 | I99: 7.219 | J99: <0.000 | K99: 417.885 | L99: <0.000 | M99: 62.828 | N99: <0.000
A100: 171802073AE | B100: 7313.663 | C100: 110732.04 | D100: 0.065 | E100: 0.074 | F100: 4.965 | G100: 4.372 | H100: 24.218 | I100: 6.037 | J100: <0.000 | K100: 695.551 | L100: <0.000 | M100: 63.773 | N100: <0.000
A101: 171802073AD | B101: 5279.523 | C101: 93289.953 | D101: 0.002 | E101: 0.065 | F101: 3.63 | G101: 3.368 | H101: 25.873 | I101: 6.228 | J101: <0.000 | K101: 586.736 | L101: <0.000 | M101: 64.777 | N101: <0.000
A102: 171802073ASPM | B102: 2681.271 | C102: 73258.719 | D102: <0.000 | E102: 0.094 | F102: <0.000 | G102: 2.849 | H102: 23.894 | I102: 6.045 | J102: <0.000 | K102: 401.383 | L102: <0.000 | M102: 63.6 | N102: <0.000
...

Sheet Formula ppm
A1: Data calculated in ppm --> data/1000
A2: Columns added for Mg/Ca ratio and sum of all concentrations
B5: 24 Mg [ He ] | C5: 43 Ca [ He ] | D5: 51 V [ He ] | E5: 52 Cr [ He ] | F5: 55 Mn [ He ] | G5: 56 Fe [ He ] | H5: 64 Zn [ He ] | I5: 65 Cu [ He ] | J5: 85 Rb [ He ] | K5: 88 Sr [ He ] | L5: 98 Mo [ He ] | M5: 137 Ba [ No Gas ] | N5: 208 Pb [ No Gas ] | O5: Mg/Ca | P5: Sum
A6: Sample Name | B6: Conc. [ ppm ] | C6: Conc. [ ppm ] | D6: Conc. [ ppm ] | E6: Conc. [ ppm ] | F6: Conc. [ ppm ] | G6: Conc. [ ppm ] | H6: Conc. [ ppm ] | I6: Conc. [ ppm ] | J6: Conc. [ ppm ] | K6: Conc. [ ppm ] | L6: Conc. [ ppm ] | M6: Conc. [ ppm ] | N6: Conc. [ ppm ]
A7: 171902056AT | B7: ='Processed Data'!B7/1000 -> 3.640279 | C7: ='Processed Data'!C7/1000 -> 44.885586 | F7: ='Processed Data'!F7/1000 -> 0.001262 | G7: ='Processed Data'!G7/1000 -> 0.000886 | H7: ='Processed Data'!H7/1000 -> 0.003111 | K7: ='Processed Data'!K7/1000 -> 0.369662 | M7: ='Processed Data'!M7/1000 -> 0.002814 | N7: ='Processed Data'!N7/1000 -> 0.00027 | O7: =B7/C7 -> 0.081101292 | P7: =SUM(B7:N7) -> 48.90387
A8: 171902056AR | B8: ='Processed Data'!B8/1000 -> 1.030746 | C8: ='Processed Data'!C8/1000 -> 14.089008 | F8: ='Processed Data'!F8/1000 -> 0.000381 | G8: ='Processed Data'!G8/1000 -> 0.0003 | H8: ='Processed Data'!H8/1000 -> 5.6e-05 | K8: ='Processed Data'!K8/1000 -> 0.095393 | M8: ='Processed Data'!M8/1000 -> 0.000452 | O8: =B8/C8 -> 0.073159587 | P8: =SUM(B8:N8) -> 15.216336
A9: 171902056AE | B9: ='Processed Data'!B9/1000 -> 3.22465 | C9: ='Processed Data'!C9/1000 -> 44.507905 | F9: ='Processed Data'!F9/1000 -> 0.00145 | G9: ='Processed Data'!G9/1000 -> 0.000783 | H9: ='Processed Data'!H9/1000 -> 0.001337 | K9: ='Processed Data'!K9/1000 -> 0.32934 | M9: ='Processed Data'!M9/1000 -> 0.002188 | O9: =B9/C9 -> 0.072451175 | P9: =SUM(B9:N9) -> 48.067653
A10: 171902056AD | B10: ='Processed Data'!B10/1000 -> 2.428758 | C10: ='Processed Data'!C10/1000 -> 38.784913 | F10: ='Processed Data'!F10/1000 -> 0.001041 | G10: ='Processed Data'!G10/1000 -> 0.000757 | H10: ='Processed Data'!H10/1000 -> 0.00122 | K10: ='Processed Data'!K10/1000 -> 0.307206 | M10: ='Processed Data'!M10/1000 -> 0.002276 | O10: =B10/C10 -> 0.062621205 | P10: =SUM(B10:N10) -> 41.526171
A11: 171902056ASPM | B11: ='Processed Data'!B11/1000 -> 4.652042 | C11: ='Processed Data'!C11/1000 -> 100.72236 | F11: ='Processed Data'!F11/1000 -> 0.000154 | G11: ='Processed Data'!G11/1000 -> 0.001741 | H11: ='Processed Data'!H11/1000 -> 0.000678 | K11: ='Processed Data'!K11/1000 -> 0.645505 | M11: ='Processed Data'!M11/1000 -> 0.000559 | O11: =B11/C11 -> 0.046186785 | P11: =SUM(B11:N11) -> 106.02304
A12: 171902056ASPD | B12: ='Processed Data'!B12/1000 -> 2.843544 | C12: ='Processed Data'!C12/1000 -> 59.243477 | F12: ='Processed Data'!F12/1000 -> 0.000135 | G12: ='Processed Data'!G12/1000 -> 0.001124 | H12: ='Processed Data'!H12/1000 -> 4.4e-05 | K12: ='Processed Data'!K12/1000 -> 0.362668 | M12: ='Processed Data'!M12/1000 -> 0.0002 | O12: =B12/C12 -> 0.047997588 | P12: =SUM(B12:N12) -> 62.451192
A13: 171902056ASPP | B13: ='Processed Data'!B13/1000 -> 2.563847 | C13: ='Processed Data'!C13/1000 -> 57.227072 | D13: ='Processed Data'!D13/1000 -> 3e-06 | E13: ='Processed Data'!E13/1000 -> 4.3e-05 | F13: ='Processed Data'!F13/1000 -> 0.000133 | G13: ='Processed Data'!G13/1000 -> 0.001158 | H13: ='Processed Data'!H13/1000 -> 0.000373 | I13: ='Processed Data'!I13/1000 -> 9.6e-05 | K13: ='Processed Data'!K13/1000 -> 0.347297 | M13: ='Processed Data'!M13/1000 -> 0.000351 | O13: =B13/C13 -> 0.044801296 | P13: =SUM(B13:N13) -> 60.140373
A14: 171902056AAMD | B14: ='Processed Data'!B14/1000 -> 5.915734 | C14: ='Processed Data'!C14/1000 -> 76.635631 | F14: ='Processed Data'!F14/1000 -> 0.000736 | G14: ='Processed Data'!G14/1000 -> 0.001348 | H14: ='Processed Data'!H14/1000 -> 0.000599 | K14: ='Processed Data'!K14/1000 -> 0.656052 | M14: ='Processed Data'!M14/1000 -> 0.003601 | O14: =B14/C14 -> 0.077192997 | P14: =SUM(B14:N14) -> 83.213701
A15: 171902056AIAD | B15: ='Processed Data'!B15/1000 -> 7.319347 | C15: ='Processed Data'!C15/1000 -> 97.889271 | D15: ='Processed Data'!D15/1000 -> 2e-06 | E15: ='Processed Data'!E15/1000 -> 5.4e-05 | F15: ='Processed Data'!F15/1000 -> 0.001399 | G15: ='Processed Data'!G15/1000 -> 0.001838 | H15: ='Processed Data'!H15/1000 -> 0.002032 | I15: ='Processed Data'!I15/1000 -> 0.000154 | K15: ='Processed Data'!K15/1000 -> 0.847119 | M15: ='Processed Data'!M15/1000 -> 0.004343 | O15: =B15/C15 -> 0.074771698 | P15: =SUM(B15:N15) -> 106.06556
A16: 171902056AIAP | B16: ='Processed Data'!B16/1000 -> 7.350989 | C16: ='Processed Data'!C16/1000 -> 96.999793 | D16: ='Processed Data'!D16/1000 -> 6e-06 | E16: ='Processed Data'!E16/1000 -> 3e-06 | F16: ='Processed Data'!F16/1000 -> 0.001403 | G16: ='Processed Data'!G16/1000 -> 0.001828 | H16: ='Processed Data'!H16/1000 -> 0.000949 | K16: ='Processed Data'!K16/1000 -> 0.83015 | M16: ='Processed Data'!M16/1000 -> 0.004111 | O16: =B16/C16 -> 0.075783553 | P16: =SUM(B16:N16) -> 105.18923
A17: 171902056AAMP | B17: ='Processed Data'!B17/1000 -> 5.908893 | C17: ='Processed Data'!C17/1000 -> 76.571431 | D17: ='Processed Data'!D17/1000 -> 2.2e-05 | E17: ='Processed Data'!E17/1000 -> 1.8e-05 | F17: ='Processed Data'!F17/1000 -> 0.001034 | G17: ='Processed Data'!G17/1000 -> 0.001473 | H17: ='Processed Data'!H17/1000 -> 0.000977 | K17: ='Processed Data'!K17/1000 -> 0.63726 | M17: ='Processed Data'!M17/1000 -> 0.002983 | O17: =B17/C17 -> 0.077168376 | P17: =SUM(B17:N17) -> 83.124091
A18: 171902070BT | B18: ='Processed Data'!B18/1000 -> 1.937886 | C18: ='Processed Data'!C18/1000 -> 27.762583 | E18: ='Processed Data'!E18/1000 -> 9e-06 | F18: ='Processed Data'!F18/1000 -> 0.000635 | G18: ='Processed Data'!G18/1000 -> 0.000618 | H18: ='Processed Data'!H18/1000 -> 0.001181 | K18: ='Processed Data'!K18/1000 -> 0.15327 | M18: ='Processed Data'!M18/1000 -> 0.005291 | O18: =B18/C18 -> 0.069802079 | P18: =SUM(B18:N18) -> 29.861473
A19: 171902070BR | B19: ='Processed Data'!B19/1000 -> 11.061153 | C19: ='Processed Data'!C19/1000 -> 142.69617 | D19: ='Processed Data'!D19/1000 -> 3.9e-05 | E19: ='Processed Data'!E19/1000 -> 2.9e-05 | F19: ='Processed Data'!F19/1000 -> 0.00285 | G19: ='Processed Data'!G19/1000 -> 0.002726 | H19: ='Processed Data'!H19/1000 -> 0.001157 | K19: ='Processed Data'!K19/1000 -> 1.14652 | M19: ='Processed Data'!M19/1000 -> 0.004528 | O19: =B19/C19 -> 0.077515419 | P19: =SUM(B19:N19) -> 154.91517
A20: 171902070BE | B20: ='Processed Data'!B20/1000 -> 6.962997 | C20: ='Processed Data'!C20/1000 -> 84.005579 | D20: ='Processed Data'!D20/1000 -> 2.5e-05 | E20: ='Processed Data'!E20/1000 -> 3e-05 | F20: ='Processed Data'!F20/1000 -> 0.003774 | G20: ='Processed Data'!G20/1000 -> 0.001646 | H20: ='Processed Data'!H20/1000 -> 0.001141 | K20: ='Processed Data'!K20/1000 -> 0.655484 | M20: ='Processed Data'!M20/1000 -> 0.00257 | O20: =B20/C20 -> 0.082887316 | P20: =SUM(B20:N20) -> 91.633246
A21: 171902070BD | B21: ='Processed Data'!B21/1000 -> 13.096179 | C21: ='Processed Data'!C21/1000 -> 168.93737 | D21: ='Processed Data'!D21/1000 -> 3e-05 | E21: ='Processed Data'!E21/1000 -> 3.2e-05 | F21: ='Processed Data'!F21/1000 -> 0.002613 | G21: ='Processed Data'!G21/1000 -> 0.002994 | H21: ='Processed Data'!H21/1000 -> 0.00229 | K21: ='Processed Data'!K21/1000 -> 1.542884 | M21: ='Processed Data'!M21/1000 -> 0.006991 | O21: =B21/C21 -> 0.077520912 | P21: =SUM(B21:N21) -> 183.59138
A22: 171902070BSPM | B22: ='Processed Data'!B22/1000 -> 2.548658 | C22: ='Processed Data'!C22/1000 -> 53.359417 | D22: ='Processed Data'!D22/1000 -> 1.8e-05 | E22: ='Processed Data'!E22/1000 -> 0.00017 | F22: ='Processed Data'!F22/1000 -> 0.000131 | G22: ='Processed Data'!G22/1000 -> 0.001425 | H22: ='Processed Data'!H22/1000 -> 0.000933 | I22: ='Processed Data'!I22/1000 -> 0.000498 | K22: ='Processed Data'!K22/1000 -> 0.323117 | O22: =B22/C22 -> 0.047763978 | P22: =SUM(B22:N22) -> 56.234367
A23: 171902070BSPD | B23: ='Processed Data'!B23/1000 -> 4.583697 | C23: ='Processed Data'!C23/1000 -> 90.832758 | D23: ='Processed Data'!D23/1000 -> 1e-06 | E23: ='Processed Data'!E23/1000 -> 4e-05 | F23: ='Processed Data'!F23/1000 -> 0.00014 | G23: ='Processed Data'!G23/1000 -> 0.001717 | H23: ='Processed Data'!H23/1000 -> 0.000128 | I23: ='Processed Data'!I23/1000 -> 0.000178 | K23: ='Processed Data'!K23/1000 -> 0.58969 | M23: ='Processed Data'!M23/1000 -> 0.000339 | O23: =B23/C23 -> 0.050463039 | P23: =SUM(B23:N23) -> 96.008688
A24: 171902070BSPP | B24: ='Processed Data'!B24/1000 -> 3.520177 | C24: ='Processed Data'!C24/1000 -> 65.220718 | E24: ='Processed Data'!E24/1000 -> 5.2e-05 | F24: ='Processed Data'!F24/1000 -> 0.000205 | G24: ='Processed Data'!G24/1000 -> 0.00123 | H24: ='Processed Data'!H24/1000 -> 9.8e-05 | K24: ='Processed Data'!K24/1000 -> 0.425019 | M24: ='Processed Data'!M24/1000 -> 0.00039 | O24: =B24/C24 -> 0.053973294 | P24: =SUM(B24:N24) -> 69.167889
A25: 171902070BAMD | B25: ='Processed Data'!B25/1000 -> 11.178149 | C25: ='Processed Data'!C25/1000 -> 133.74802 | D25: ='Processed Data'!D25/1000 -> 4.6e-05 | E25: ='Processed Data'!E25/1000 -> 2e-06 | F25: ='Processed Data'!F25/1000 -> 0.001169 | G25: ='Processed Data'!G25/1000 -> 0.002442 | H25: ='Processed Data'!H25/1000 -> 0.001997 | K25: ='Processed Data'!K25/1000 -> 1.089039 | M25: ='Processed Data'!M25/1000 -> 0.003035 | O25: =B25/C25 -> 0.08357618 | P25: =SUM(B25:N25) -> 146.0239
A26: 171902070BIAD | B26: ='Processed Data'!B26/1000 -> 6.056759 | C26: ='Processed Data'!C26/1000 -> 75.518515 | D26: ='Processed Data'!D26/1000 -> 4.3e-05 | E26: ='Processed Data'!E26/1000 -> 5.3e-05 | F26: ='Processed Data'!F26/1000 -> 0.000843 | G26: ='Processed Data'!G26/1000 -> 0.001463 | H26: ='Processed Data'!H26/1000 -> 0.001058 | K26: ='Processed Data'!K26/1000 -> 0.594763 | M26: ='Processed Data'!M26/1000 -> 0.00199 | O26: =B26/C26 -> 0.080202305 | P26: =SUM(B26:N26) -> 82.175487
A27: 171902070BIAP | B27: ='Processed Data'!B27/1000 -> 8.821405 | C27: ='Processed Data'!C27/1000 -> 100.10739 | D27: ='Processed Data'!D27/1000 -> 7.8e-05 | E27: ='Processed Data'!E27/1000 -> 4.4e-05 | F27: ='Processed Data'!F27/1000 -> 0.00109 | G27: ='Processed Data'!G27/1000 -> 0.002144 | H27: ='Processed Data'!H27/1000 -> 0.002137 | I27: ='Processed Data'!I27/1000 -> 0.000222 | K27: ='Processed Data'!K27/1000 -> 0.850141 | M27: ='Processed Data'!M27/1000 -> 0.002621 | O27: =B27/C27 -> 0.088119418 | P27: =SUM(B27:N27) -> 109.78727
A28: 171902070BAMP | B28: ='Processed Data'!B28/1000 -> 7.084527 | C28: ='Processed Data'!C28/1000 -> 82.94928 | D28: ='Processed Data'!D28/1000 -> 5.8e-05 | E28: ='Processed Data'!E28/1000 -> 2.7e-05 | F28: ='Processed Data'!F28/1000 -> 0.00158 | G28: ='Processed Data'!G28/1000 -> 0.001816 | H28: ='Processed Data'!H28/1000 -> 0.001354 | I28: ='Processed Data'!I28/1000 -> 3.7e-05 | K28: ='Processed Data'!K28/1000 -> 0.623228 | M28: ='Processed Data'!M28/1000 -> 0.001595 | O28: =B28/C28 -> 0.085407938 | P28: =SUM(B28:N28) -> 90.663502
A29: 171902070CT | B29: ='Processed Data'!B29/1000 -> 8.263411 | C29: ='Processed Data'!C29/1000 -> 104.46635 | D29: ='Processed Data'!D29/1000 -> 1.6e-05 | E29: ='Processed Data'!E29/1000 -> 0.000112 | F29: ='Processed Data'!F29/1000 -> 0.002909 | G29: ='Processed Data'!G29/1000 -> 0.002208 | H29: ='Processed Data'!H29/1000 -> 0.006394 | I29: ='Processed Data'!I29/1000 -> 0.000487 | K29: ='Processed Data'!K29/1000 -> 0.786523 | M29: ='Processed Data'!M29/1000 -> 0.004236 | N29: ='Processed Data'!N29/1000 -> 7.2e-05 | O29: =B29/C29 -> 0.079101174 | P29: =SUM(B29:N29) -> 113.53272
A30: 171902070CR | B30: ='Processed Data'!B30/1000 -> 7.313506 | C30: ='Processed Data'!C30/1000 -> 106.65199 | D30: ='Processed Data'!D30/1000 -> 3e-05 | E30: ='Processed Data'!E30/1000 -> 1.1e-05 | F30: ='Processed Data'!F30/1000 -> 0.002037 | G30: ='Processed Data'!G30/1000 -> 0.002052 | H30: ='Processed Data'!H30/1000 -> 0.001502 | K30: ='Processed Data'!K30/1000 -> 0.871277 | M30: ='Processed Data'!M30/1000 -> 0.003435 | O30: =B30/C30 -> 0.068573554 | P30: =SUM(B30:N30) -> 114.84584
A31: 171902070CE | B31: ='Processed Data'!B31/1000 -> 3.519304 | C31: ='Processed Data'!C31/1000 -> 41.017719 | D31: ='Processed Data'!D31/1000 -> 2e-05 | E31: ='Processed Data'!E31/1000 -> 1.1e-05 | F31: ='Processed Data'!F31/1000 -> 0.001347 | G31: ='Processed Data'!G31/1000 -> 0.000877 | H31: ='Processed Data'!H31/1000 -> 0.000451 | K31: ='Processed Data'!K31/1000 -> 0.288287 | M31: ='Processed Data'!M31/1000 -> 0.001273 | O31: =B31/C31 -> 0.085799603 | P31: =SUM(B31:N31) -> 44.829289
A32: 171902070CD | B32: ='Processed Data'!B32/1000 -> 11.946201 | C32: ='Processed Data'!C32/1000 -> 143.54729 | D32: ='Processed Data'!D32/1000 -> 3.2e-05 | E32: ='Processed Data'!E32/1000 -> 1e-05 | F32: ='Processed Data'!F32/1000 -> 0.002872 | G32: ='Processed Data'!G32/1000 -> 0.002512 | H32: ='Processed Data'!H32/1000 -> 0.001873 | K32: ='Processed Data'!K32/1000 -> 1.229587 | M32: ='Processed Data'!M32/1000 -> 0.005911 | O32: =B32/C32 -> 0.08322136 | P32: =SUM(B32:N32) -> 156.73629
A33: 171902070CSPM | B33: ='Processed Data'!B33/1000 -> 1.101014 | C33: ='Processed Data'!C33/1000 -> 25.5964 | D33: ='Processed Data'!D33/1000 -> 1.7e-05 | E33: ='Processed Data'!E33/1000 -> 5.4e-05 | F33: ='Processed Data'!F33/1000 -> 5.4e-05 | G33: ='Processed Data'!G33/1000 -> 0.000764 | H33: ='Processed Data'!H33/1000 -> 0.000482 | I33: ='Processed Data'!I33/1000 -> 0.000173 | K33: ='Processed Data'!K33/1000 -> 0.149197 | O33: =B33/C33 -> 0.043014408 | P33: =SUM(B33:N33) -> 26.848155
A34: 171902070CSPD | B34: ='Processed Data'!B34/1000 -> 1.907262 | C34: ='Processed Data'!C34/1000 -> 34.716178 | E34: ='Processed Data'!E34/1000 -> 1.1e-05 | F34: ='Processed Data'!F34/1000 -> 0.000105 | G34: ='Processed Data'!G34/1000 -> 0.000694 | H34: ='Processed Data'!H34/1000 -> 8.6e-05 | K34: ='Processed Data'!K34/1000 -> 0.215782 | O34: =B34/C34 -> 0.054938709 | P34: =SUM(B34:N34) -> 36.840118
A35: 171902070CSPP | B35: ='Processed Data'!B35/1000 -> 5.966289 | C35: ='Processed Data'!C35/1000 -> 115.61356 | D35: ='Processed Data'!D35/1000 -> 2.1e-05 | E35: ='Processed Data'!E35/1000 -> 4.1e-05 | F35: ='Processed Data'!F35/1000 -> 0.000213 | G35: ='Processed Data'!G35/1000 -> 0.002244 | H35: ='Processed Data'!H35/1000 -> 0.000461 | I35: ='Processed Data'!I35/1000 -> 0.000197 | K35: ='Processed Data'!K35/1000 -> 0.855057 | M35: ='Processed Data'!M35/1000 -> 0.00089 | O35: =B35/C35 -> 0.051605444 | P35: =SUM(B35:N35) -> 122.43897
A36: 171902070CAMD | B36: ='Processed Data'!B36/1000 -> 7.688174 | C36: ='Processed Data'!C36/1000 -> 78.126296 | D36: ='Processed Data'!D36/1000 -> 7e-06 | E36: ='Processed Data'!E36/1000 -> 8e-06 | F36: ='Processed Data'!F36/1000 -> 0.000897 | G36: ='Processed Data'!G36/1000 -> 0.001404 | H36: ='Processed Data'!H36/1000 -> 0.000892 | K36: ='Processed Data'!K36/1000 -> 0.630405 | M36: ='Processed Data'!M36/1000 -> 0.002213 | O36: =B36/C36 -> 0.098406995 | P36: =SUM(B36:N36) -> 86.450296
A37: 171902070CIAD | B37: ='Processed Data'!B37/1000 -> 7.713699 | C37: ='Processed Data'!C37/1000 -> 90.106833 | D37: ='Processed Data'!D37/1000 -> 1.5e-05 | E37: ='Processed Data'!E37/1000 -> 7e-06 | F37: ='Processed Data'!F37/1000 -> 0.001163 | G37: ='Processed Data'!G37/1000 -> 0.001637 | H37: ='Processed Data'!H37/1000 -> 0.001258 | K37: ='Processed Data'!K37/1000 -> 0.756094 | M37: ='Processed Data'!M37/1000 -> 0.002843 | O37: =B37/C37 -> 0.085606149 | P37: =SUM(B37:N37) -> 98.583549
A38: 171902070CIAP | B38: ='Processed Data'!B38/1000 -> 9.428914 | C38: ='Processed Data'!C38/1000 -> 106.32103 | D38: ='Processed Data'!D38/1000 -> 5.7e-05 | E38: ='Processed Data'!E38/1000 -> 1.1e-05 | F38: ='Processed Data'!F38/1000 -> 0.001973 | G38: ='Processed Data'!G38/1000 -> 0.001886 | H38: ='Processed Data'!H38/1000 -> 0.001061 | K38: ='Processed Data'!K38/1000 -> 0.873519 | M38: ='Processed Data'!M38/1000 -> 0.002438 | O38: =B38/C38 -> 0.088683436 | P38: =SUM(B38:N38) -> 116.63089
A39: 171902070CAMP | B39: ='Processed Data'!B39/1000 -> 13.023813 | C39: ='Processed Data'!C39/1000 -> 132.33729 | D39: ='Processed Data'!D39/1000 -> 7.9e-05 | E39: ='Processed Data'!E39/1000 -> 6.1e-05 | F39: ='Processed Data'!F39/1000 -> 0.001877 | G39: ='Processed Data'!G39/1000 -> 0.002675 | H39: ='Processed Data'!H39/1000 -> 0.00244 | I39: ='Processed Data'!I39/1000 -> 0.000161 | K39: ='Processed Data'!K39/1000 -> 1.191047 | M39: ='Processed Data'!M39/1000 -> 0.003473 | O39: =B39/C39 -> 0.098413782 | P39: =SUM(B39:N39) -> 146.56291
A40: 171902070AT | B40: ='Processed Data'!B40/1000 -> 7.056161 | C40: ='Processed Data'!C40/1000 -> 86.202495 | D40: ='Processed Data'!D40/1000 -> 3.4e-05 | E40: ='Processed Data'!E40/1000 -> 0.000107 | F40: ='Processed Data'!F40/1000 -> 0.001534 | G40: ='Processed Data'!G40/1000 -> 0.001994 | H40: ='Processed Data'!H40/1000 -> 0.003263 | I40: ='Processed Data'!I40/1000 -> 0.000434 | K40: ='Processed Data'!K40/1000 -> 0.638721 | M40: ='Processed Data'!M40/1000 -> 0.002425 | O40: =B40/C40 -> 0.081855647 | P40: =SUM(B40:N40) -> 93.907168
A41: 171902070AR | B41: ='Processed Data'!B41/1000 -> 7.176919 | C41: ='Processed Data'!C41/1000 -> 90.127904 | D41: ='Processed Data'!D41/1000 -> 4.5e-05 | E41: ='Processed Data'!E41/1000 -> 3.4e-05 | F41: ='Processed Data'!F41/1000 -> 0.001067 | G41: ='Processed Data'!G41/1000 -> 0.001666 | H41: ='Processed Data'!H41/1000 -> 0.000629 | K41: ='Processed Data'!K41/1000 -> 0.801971 | M41: ='Processed Data'!M41/1000 -> 0.002871 | O41: =B41/C41 -> 0.079630377 | P41: =SUM(B41:N41) -> 98.113106
A42: 171902070AE | B42: ='Processed Data'!B42/1000 -> 7.203513 | C42: ='Processed Data'!C42/1000 -> 74.823946 | D42: ='Processed Data'!D42/1000 -> 3.5e-05 | E42: ='Processed Data'!E42/1000 -> 6.5e-05 | F42: ='Processed Data'!F42/1000 -> 0.001107 | G42: ='Processed Data'!G42/1000 -> 0.001615 | H42: ='Processed Data'!H42/1000 -> 0.000872 | I42: ='Processed Data'!I42/1000 -> 3.9e-05 | ... K42: ='Processed Data'!K42/1000 -> 0.66942 | M42: ='Processed Data'!M42/1000 -> 0.002608 | O42: =B42/C42 -> 0.09627283 | P42: =SUM(B42:N42) -> 82.703222
A43: 171902070AD | B43: ='Processed Data'!B43/1000 -> 14.531238 | C43: ='Processed Data'!C43/1000 -> 144.45911 | D43: ='Processed Data'!D43/1000 -> 0.000105 | E43: ='Processed Data'!E43/1000 -> 6.3e-05 | F43: ='Processed Data'!F43/1000 -> 0.001815 | G43: ='Processed Data'!G43/1000 -> 0.002616 | H43: ='Processed Data'!H43/1000 -> 0.001826 | I43: ='Processed Data'!I43/1000 -> 0.00027 | ... K43: ='Processed Data'!K43/1000 -> 1.392597 | M43: ='Processed Data'!M43/1000 -> 0.005653 | O43: =B43/C43 -> 0.10059066 | P43: =SUM(B43:N43) -> 160.3953
A44: 171902070ASPM | B44: ='Processed Data'!B44/1000 -> 7.11126 | C44: ='Processed Data'!C44/1000 -> 115.73921 | D44: ='Processed Data'!D44/1000 -> 3.3e-05 | E44: ='Processed Data'!E44/1000 -> 0.000102 | F44: ='Processed Data'!F44/1000 -> 0.000228 | G44: ='Processed Data'!G44/1000 -> 0.002294 | H44: ='Processed Data'!H44/1000 -> 0.000974 | I44: ='Processed Data'!I44/1000 -> 0.000198 | ... K44: ='Processed Data'!K44/1000 -> 0.964397 | M44: ='Processed Data'!M44/1000 -> 0.00087 | O44: =B44/C44 -> 0.061442098 | P44: =SUM(B44:N44) -> 123.81957
A45: 171902070ASPD | B45: ='Processed Data'!B45/1000 -> 7.096433 | C45: ='Processed Data'!C45/1000 -> 111.74793 | D45: ='Processed Data'!D45/1000 -> 2.7e-05 | E45: ='Processed Data'!E45/1000 -> 7.2e-05 | F45: ='Processed Data'!F45/1000 -> 0.000191 | G45: ='Processed Data'!G45/1000 -> 0.002391 | H45: ='Processed Data'!H45/1000 -> 0.000494 | I45: ='Processed Data'!I45/1000 -> 0.00029 | ... K45: ='Processed Data'!K45/1000 -> 0.902357 | M45: ='Processed Data'!M45/1000 -> 0.000445 | O45: =B45/C45 -> 0.06350393 | P45: =SUM(B45:N45) -> 119.75064
A46: 171902070ASPP | B46: ='Processed Data'!B46/1000 -> 2.762727 | C46: ='Processed Data'!C46/1000 -> 55.847344 | D46: ='Processed Data'!D46/1000 -> 1.7e-05 | E46: ='Processed Data'!E46/1000 -> 7.2e-05 | F46: ='Processed Data'!F46/1000 -> 8.9e-05 | G46: ='Processed Data'!G46/1000 -> 0.001378 | H46: ='Processed Data'!H46/1000 -> 0.000384 | I46: ='Processed Data'!I46/1000 -> 0.000184 | K46: ='Processed Data'!K46/1000 -> 0.388272 | M46: ='Processed Data'!M46/1000 -> 0.000199 | O46: =B46/C46 -> 0.049469264 | P46: =SUM(B46:N46) -> 59.000666
A47: 171902070AAMD | B47: ='Processed Data'!B47/1000 -> 4.177382 | C47: ='Processed Data'!C47/1000 -> 43.181446 | D47: ='Processed Data'!D47/1000 -> 3.4e-05 | E47: ='Processed Data'!E47/1000 -> 5.8e-05 | F47: ='Processed Data'!F47/1000 -> 0.000486 | G47: ='Processed Data'!G47/1000 -> 0.001173 | H47: ='Processed Data'!H47/1000 -> 0.001043 | I47: ='Processed Data'!I47/1000 -> 5.3e-05 | K47: ='Processed Data'!K47/1000 -> 0.324527 | M47: ='Processed Data'!M47/1000 -> 0.000908 | O47: =B47/C47 -> 0.096740206 | P47: =SUM(B47:N47) -> 47.68711
A48: 171902070AIAD | B48: ='Processed Data'!B48/1000 -> 8.250736 | C48: ='Processed Data'!C48/1000 -> 94.091178 | D48: ='Processed Data'!D48/1000 -> 5.5e-05 | E48: ='Processed Data'!E48/1000 -> 6.2e-05 | F48: ='Processed Data'!F48/1000 -> 0.000978 | G48: ='Processed Data'!G48/1000 -> 0.002153 | H48: ='Processed Data'!H48/1000 -> 0.001582 | I48: ='Processed Data'!I48/1000 -> 0.000174 | K48: ='Processed Data'!K48/1000 -> 0.791379 | M48: ='Processed Data'!M48/1000 -> 0.002379 | N48: ='Processed Data'!N48/1000 -> 7.4e-05 | O48: =B48/C48 -> 0.087688731 | P48: =SUM(B48:N48) -> 103.14075
A49: 171902070AIAP | B49: ='Processed Data'!B49/1000 -> 13.205214 | C49: ='Processed Data'!C49/1000 -> 160.28414 | D49: ='Processed Data'!D49/1000 -> 0.00061 | E49: ='Processed Data'!E49/1000 -> 3.9e-05 | F49: ='Processed Data'!F49/1000 -> 0.001575 | G49: ='Processed Data'!G49/1000 -> 0.003341 | H49: ='Processed Data'!H49/1000 -> 0.002977 | I49: ='Processed Data'!I49/1000 -> 0.001601 | K49: ='Processed Data'!K49/1000 -> 1.356046 | M49: ='Processed Data'!M49/1000 -> 0.004143 | O49: =B49/C49 -> 0.08238628 | P49: =SUM(B49:N49) -> 174.85968
A50: 171902070AAMP | B50: ='Processed Data'!B50/1000 -> 11.064562 | C50: ='Processed Data'!C50/1000 -> 99.382656 | D50: ='Processed Data'!D50/1000 -> 0.000171 | E50: ='Processed Data'!E50/1000 -> 9.8e-05 | F50: ='Processed Data'!F50/1000 -> 0.00107 | G50: ='Processed Data'!G50/1000 -> 0.002856 | H50: ='Processed Data'!H50/1000 -> 0.002893 | I50: ='Processed Data'!I50/1000 -> 0.000715 | ... K50: ='Processed Data'!K50/1000 -> 0.854316 | M50: ='Processed Data'!M50/1000 -> 0.002122 | N50: ='Processed Data'!N50/1000 -> 6.2e-05 | O50: =B50/C50 -> 0.11133293 | P50: =SUM(B50:N50) -> 111.31155
A51: 171902070BR | B51: ='Processed Data'!B51/1000 -> 5.039561 | C51: ='Processed Data'!C51/1000 -> 79.802518 | D51: ='Processed Data'!D51/1000 -> 9.5e-05 | E51: ='Processed Data'!E51/1000 -> 0.000353 | F51: ='Processed Data'!F51/1000 -> 0.001725 | G51: ='Processed Data'!G51/1000 -> 0.003727 | H51: ='Processed Data'!H51/1000 -> 7e-06 | I51: ='Processed Data'!I51/1000 -> 0.001588 | ... K51: ='Processed Data'!K51/1000 -> 0.479582 | M51: ='Processed Data'!M51/1000 -> 0.001451 | O51: =B51/C51 -> 0.063150401 | P51: =SUM(B51:N51) -> 85.330629
A52: 171902070BD | B52: ='Processed Data'!B52/1000 -> 5.745069 | C52: ='Processed Data'!C52/1000 -> 87.054041 | D52: ='Processed Data'!D52/1000 -> 8.7e-05 | E52: ='Processed Data'!E52/1000 -> 0.000368 | F52: ='Processed Data'!F52/1000 -> 0.001523 | G52: ='Processed Data'!G52/1000 -> 0.003887 | H52: ='Processed Data'!H52/1000 -> 1.9e-05 | I52: ='Processed Data'!I52/1000 -> 0.002396 | ... K52: ='Processed Data'!K52/1000 -> 0.566858 | M52: ='Processed Data'!M52/1000 -> 0.002303 | O52: =B52/C52 -> 0.065994283 | P52: =SUM(B52:N52) -> 93.37657
A53: 171902070BAMD | B53: ='Processed Data'!B53/1000 -> 5.045832 | C53: ='Processed Data'!C53/1000 -> 66.015045 | D53: ='Processed Data'!D53/1000 -> 0.000111 | E53: ='Processed Data'!E53/1000 -> 0.000388 | F53: ='Processed Data'!F53/1000 -> 0.000671 | G53: ='Processed Data'!G53/1000 -> 0.003306 | H53: ='Processed Data'!H53/1000 -> 8e-05 | I53: ='Processed Data'!I53/1000 -> 0.002363 | ... K53: ='Processed Data'!K53/1000 -> 0.420134 | M53: ='Processed Data'!M53/1000 -> 0.000682 | O53: =B53/C53 -> 0.076434576 | P53: =SUM(B53:N53) -> 71.48863
A54: 171902070BIAP | B54: ='Processed Data'!B54/1000 -> 3.839359 | C54: ='Processed Data'!C54/1000 -> 50.486763 | D54: ='Processed Data'!D54/1000 -> 0.000116 | E54: ='Processed Data'!E54/1000 -> 0.000391 | F54: ='Processed Data'!F54/1000 -> 0.000686 | G54: ='Processed Data'!G54/1000 -> 0.002927 | H54: ='Processed Data'!H54/1000 -> 0.00024 | I54: ='Processed Data'!I54/1000 -> 0.002801 | ... K54: ='Processed Data'!K54/1000 -> 0.315734 | M54: ='Processed Data'!M54/1000 -> 0.00053 | O54: =B54/C54 -> 0.076046844 | P54: =SUM(B54:N54) -> 54.649559
A55: 191702070BAMP | B55: ='Processed Data'!B55/1000 -> 3.125923 | C55: ='Processed Data'!C55/1000 -> 44.17688 | D55: ='Processed Data'!D55/1000 -> 9.8e-05 | E55: ='Processed Data'!E55/1000 -> 0.000367 | F55: ='Processed Data'!F55/1000 -> 0.000948 | G55: ='Processed Data'!G55/1000 -> 0.002703 | H55: ='Processed Data'!H55/1000 -> 6.3e-05 | I55: ='Processed Data'!I55/1000 -> 0.002188 | ... K55: ='Processed Data'!K55/1000 -> 0.239191 | M55: ='Processed Data'!M55/1000 -> 4.9e-05 | O55: =B55/C55 -> 0.070759252 | P55: =SUM(B55:N55) -> 47.548428
A56: 171902070CR | B56: ='Processed Data'!B56/1000 -> 3.466931 | C56: ='Processed Data'!C56/1000 -> 58.525712 | D56: ='Processed Data'!D56/1000 -> 8.3e-05 | E56: ='Processed Data'!E56/1000 -> 0.000365 | F56: ='Processed Data'!F56/1000 -> 0.001169 | G56: ='Processed Data'!G56/1000 -> 0.003084 | I56: ='Processed Data'!I56/1000 -> 0.001659 | J56: ='Processed Data'!J56/1000 -> 5e-06 | K56: ='Processed Data'!K56/1000 -> 0.330303 | M56: ='Processed Data'!M56/1000 -> 0.000809 | O56: =B56/C56 -> 0.059237742 | P56: =SUM(B56:N56) -> 62.33012
A57: 171902070CSPP | B57: ='Processed Data'!B57/1000 -> 2.358987 | C57: ='Processed Data'!C57/1000 -> 59.045734 | D57: ='Processed Data'!D57/1000 -> 8.5e-05 | E57: ='Processed Data'!E57/1000 -> 0.000372 | F57: ='Processed Data'!F57/1000 -> 0.000202 | G57: ='Processed Data'!G57/1000 -> 0.003104 | H57: ='Processed Data'!H57/1000 -> 0.000178 | I57: ='Processed Data'!I57/1000 -> 0.001477 | ... K57: ='Processed Data'!K57/1000 -> 0.309441 | O57: =B57/C57 -> 0.039951862 | P57: =SUM(B57:N57) -> 61.719587
A58: 171902070CIAP | B58: ='Processed Data'!B58/1000 -> 4.108748 | C58: ='Processed Data'!C58/1000 -> 58.180829 | D58: ='Processed Data'!D58/1000 -> 0.000121 | E58: ='Processed Data'!E58/1000 -> 0.000389 | F58: ='Processed Data'!F58/1000 -> 0.001217 | G58: ='Processed Data'!G58/1000 -> 0.002989 | H58: ='Processed Data'!H58/1000 -> 0.000114 | I58: ='Processed Data'!I58/1000 -> 0.002116 | ... K58: ='Processed Data'!K58/1000 -> 0.347717 | M58: ='Processed Data'!M58/1000 -> 0.000426 | O58: =B58/C58 -> 0.070620307 | P58: =SUM(B58:N58) -> 62.644675
A59: 171902070CAMP | B59: ='Processed Data'!B59/1000 -> 5.402513 | C59: ='Processed Data'!C59/1000 -> 70.887902 | D59: ='Processed Data'!D59/1000 -> 0.00011 | E59: ='Processed Data'!E59/1000 -> 0.000385 | F59: ='Processed Data'!F59/1000 -> 0.001167 | G59: ='Processed Data'!G59/1000 -> 0.003367 | H59: ='Processed Data'!H59/1000 -> 0.000139 | I59: ='Processed Data'!I59/1000 -> 0.002634 | ... K59: ='Processed Data'!K59/1000 -> 0.427234 | M59: ='Processed Data'!M59/1000 -> 0.000827 | O59: =B59/C59 -> 0.076212059 | P59: =SUM(B59:N59) -> 76.726283
A60: 171902070AD | B60: ='Processed Data'!B60/1000 -> 5.491842 | C60: ='Processed Data'!C60/1000 -> 72.220017 | D60: ='Processed Data'!D60/1000 -> 0.000119 | E60: ='Processed Data'!E60/1000 -> 0.000383 | F60: ='Processed Data'!F60/1000 -> 0.001138 | G60: ='Processed Data'!G60/1000 -> 0.003315 | H60: ='Processed Data'!H60/1000 -> 0.000178 | I60: ='Processed Data'!I60/1000 -> 0.002074 | ... K60: ='Processed Data'!K60/1000 -> 0.48534 | M60: ='Processed Data'!M60/1000 -> 0.001637 | O60: =B60/C60 -> 0.076043211 | P60: =SUM(B60:N60) -> 78.206047
A61: 171902070ASPM | B61: ='Processed Data'!B61/1000 -> 2.680074 | C61: ='Processed Data'!C61/1000 -> 62.043118 | D61: ='Processed Data'!D61/1000 -> 9.1e-05 | E61: ='Processed Data'!E61/1000 -> 0.000413 | F61: ='Processed Data'!F61/1000 -> 0.0002 | G61: ='Processed Data'!G61/1000 -> 0.003036 | H61: ='Processed Data'!H61/1000 -> 0.000143 | I61: ='Processed Data'!I61/1000 -> 0.001388 | ... K61: ='Processed Data'!K61/1000 -> 0.327537 | O61: =B61/C61 -> 0.043196959 | P61: =SUM(B61:N61) -> 65.056002
A62: 171902070ASPD | B62: ='Processed Data'!B62/1000 -> 2.509437 | C62: ='Processed Data'!C62/1000 -> 55.429594 | D62: ='Processed Data'!D62/1000 -> 8.2e-05 | E62: ='Processed Data'!E62/1000 -> 0.000371 | F62: ='Processed Data'!F62/1000 -> 0.000188 | G62: ='Processed Data'!G62/1000 -> 0.002897 | H62: ='Processed Data'!H62/1000 -> 0.000153 | I62: ='Processed Data'!I62/1000 -> 0.001169 | ... K62: ='Processed Data'!K62/1000 -> 0.289721 | O62: =B62/C62 -> 0.045272513 | P62: =SUM(B62:N62) -> 58.233616
A63: 171902070AIAP | B63: ='Processed Data'!B63/1000 -> 5.588001 | C63: ='Processed Data'!C63/1000 -> 78.405939 | D63: ='Processed Data'!D63/1000 -> 0.000369 | E63: ='Processed Data'!E63/1000 -> 0.000393 | F63: ='Processed Data'!F63/1000 -> 0.000924 | G63: ='Processed Data'!G63/1000 -> 0.003674 | H63: ='Processed Data'!H63/1000 -> 0.001266 | I63: ='Processed Data'!I63/1000 -> 0.01735 | ... K63: ='Processed Data'!K63/1000 -> 0.521917 | M63: ='Processed Data'!M63/1000 -> 0.001143 | O63: =B63/C63 -> 0.071270124 | P63: =SUM(B63:N63) -> 84.540988
A64: 171902070AAMP | B64: ='Processed Data'!B64/1000 -> 3.243013 | C64: ='Processed Data'!C64/1000 -> 42.418697 | D64: ='Processed Data'!D64/1000 -> 0.00016 | E64: ='Processed Data'!E64/1000 -> 0.000385 | F64: ='Processed Data'!F64/1000 -> 0.000633 | G64: ='Processed Data'!G64/1000 -> 0.002631 | H64: ='Processed Data'!H64/1000 -> 0.000457 | I64: ='Processed Data'!I64/1000 -> 0.002863 | ... K64: ='Processed Data'!K64/1000 -> 0.250886 | M64: ='Processed Data'!M64/1000 -> 0.000207 | O64: =B64/C64 -> 0.076452443 | P64: =SUM(B64:N64) -> 45.919941
A65: 171805033BT | B65: ='Processed Data'!B65/1000 -> 9.069582 | C65: ='Processed Data'!C65/1000 -> 110.06182 | D65: ='Processed Data'!D65/1000 -> 0.000264 | E65: ='Processed Data'!E65/1000 -> 0.003516 | F65: ='Processed Data'!F65/1000 -> 0.006886 | G65: ='Processed Data'!G65/1000 -> 0.007312 | H65: ='Processed Data'!H65/1000 -> 0.001491 | I65: ='Processed Data'!I65/1000 -> 0.011861 | ... N65: ='Processed Data'!N65/1000 -> 5.4e-05 | O65: =B65/C65 -> 0.082404433 | P65: =SUM(B65:N65) -> 122.37939
A66: 171805033BR | B66: ='Processed Data'!B66/1000 -> 10.406063 | C66: ='Processed Data'!C66/1000 -> 124.05068 | D66: ='Processed Data'!D66/1000 -> 0.000135 | E66: ='Processed Data'!E66/1000 -> 0.000528 | F66: ='Processed Data'!F66/1000 -> 0.00375 | G66: ='Processed Data'!G66/1000 -> 0.005146 | H66: ='Processed Data'!H66/1000 -> 0.000766 | I66: ='Processed Data'!I66/1000 -> 0.014236 | ... M66: ='Processed Data'!M66/1000 -> 0.079886 | O66: =B66/C66 -> 0.083885575 | P66: =SUM(B66:N66) -> 135.375
A67: 171805033BE | B67: ='Processed Data'!B67/1000 -> 10.354006 | C67: ='Processed Data'!C67/1000 -> 108.1363 | D67: ='Processed Data'!D67/1000 -> 0.000132 | E67: ='Processed Data'!E67/1000 -> 0.000477 | F67: ='Processed Data'!F67/1000 -> 0.002534 | G67: ='Processed Data'!G67/1000 -> 0.0043 | H67: ='Processed Data'!H67/1000 -> 8.9e-05 | I67: ='Processed Data'!I67/1000 -> 0.00357 | K67: ='Processed Data'!K67/1000 -> 0.707002 | L67: ='Processed Data'!L67/1000 -> 0.003561 | M67: ='Processed Data'!M67/1000 -> 0.000662 | O67: =B67/C67 -> 0.095749583 | P67: =SUM(B67:N67) -> 119.21264
A68: 171805033BD | B68: ='Processed Data'!B68/1000 -> 13.767933 | C68: ='Processed Data'!C68/1000 -> 107.66912 | D68: ='Processed Data'!D68/1000 -> 0.000254 | E68: ='Processed Data'!E68/1000 -> 0.000633 | F68: ='Processed Data'!F68/1000 -> 0.002275 | G68: ='Processed Data'!G68/1000 -> 0.00572 | H68: ='Processed Data'!H68/1000 -> 0.000852 | I68: ='Processed Data'!I68/1000 -> 0.003357 | ... M68: ='Processed Data'!M68/1000 -> 0.138713 | O68: =B68/C68 -> 0.12787262 | P68: =SUM(B68:N68) -> 122.45216
A69: 171805033BSPM | B69: ='Processed Data'!B69/1000 -> 2.200152 | C69: ='Processed Data'!C69/1000 -> 47.49555 | D69: ='Processed Data'!D69/1000 -> 0.000155 | E69: ='Processed Data'!E69/1000 -> 0.000607 | F69: ='Processed Data'!F69/1000 -> 0.000268 | G69: ='Processed Data'!G69/1000 -> 0.002595 | H69: ='Processed Data'!H69/1000 -> 0.000745 | I69: ='Processed Data'!I69/1000 -> 0.001799 | ... M69: ='Processed Data'!M69/1000 -> 0.048079 | O69: =B69/C69 -> 0.046323329 | P69: =SUM(B69:N69) -> 50.100564
A70: 171805033BR | B70: ='Processed Data'!B70/1000 -> 10.172548 | C70: ='Processed Data'!C70/1000 -> 109.79746 | D70: ='Processed Data'!D70/1000 -> 0.000146 | E70: ='Processed Data'!E70/1000 -> 0.000564 | F70: ='Processed Data'!F70/1000 -> 0.003482 | G70: ='Processed Data'!G70/1000 -> 0.004557 | H70: ='Processed Data'!H70/1000 -> 0.000798 | I70: ='Processed Data'!I70/1000 -> 0.013549 | ... M70: ='Processed Data'!M70/1000 -> 0.080608 | O70: =B70/C70 -> 0.092648302 | P70: =SUM(B70:N70) -> 120.85731
A71: 171805033BSPD | B71: ='Processed Data'!B71/1000 -> 10.343811 | C71: ='Processed Data'!C71/1000 -> 187.59072 | D71: ='Processed Data'!D71/1000 -> 0.000163 | E71: ='Processed Data'!E71/1000 -> 0.00052 | F71: ='Processed Data'!F71/1000 -> 0.000694 | G71: ='Processed Data'!G71/1000 -> 0.006249 | H71: ='Processed Data'!H71/1000 -> 0.000262 | I71: ='Processed Data'!I71/1000 -> 0.004018 | ... M71: ='Processed Data'!M71/1000 -> 0.032041 | O71: =B71/C71 -> 0.055140313 | P71: =SUM(B71:N71) -> 199.14231
A72: 171805033BSPP | B72: ='Processed Data'!B72/1000 -> 2.566593 | C72: ='Processed Data'!C72/1000 -> 94.62318 | D72: ='Processed Data'!D72/1000 -> 0.000243 | E72: ='Processed Data'!E72/1000 -> 0.000612 | F72: ='Processed Data'!F72/1000 -> 0.001247 | G72: ='Processed Data'!G72/1000 -> 0.005733 | H72: ='Processed Data'!H72/1000 -> 0.000683 | I72: ='Processed Data'!I72/1000 -> 0.010566 | ... M72: ='Processed Data'!M72/1000 -> 0.032336 | O72: =B72/C72 -> 0.027124358 | P72: =SUM(B72:N72) -> 97.7844
A73: 171805033BAMD | B73: ='Processed Data'!B73/1000 -> 10.991997 | C73: ='Processed Data'!C73/1000 -> 113.85014 | D73: ='Processed Data'!D73/1000 -> 0.00031 | E73: ='Processed Data'!E73/1000 -> 0.000528 | F73: ='Processed Data'!F73/1000 -> 0.001365 | G73: ='Processed Data'!G73/1000 -> 0.004478 | H73: ='Processed Data'!H73/1000 -> 0.000728 | I73: ='Processed Data'!I73/1000 -> 0.003267 | ... M73: ='Processed Data'!M73/1000 -> 0.030934 | O73: =B73/C73 -> 0.096547943 | P73: =SUM(B73:N73) -> 125.60379
A74: 171805033BIAD | B74: ='Processed Data'!B74/1000 -> 12.303567 | C74: ='Processed Data'!C74/1000 -> 155.65325 | D74: ='Processed Data'!D74/1000 -> 0.000152 | E74: ='Processed Data'!E74/1000 -> 0.000518 | F74: ='Processed Data'!F74/1000 -> 0.00214 | G74: ='Processed Data'!G74/1000 -> 0.005816 | H74: ='Processed Data'!H74/1000 -> 0.000209 | I74: ='Processed Data'!I74/1000 -> 0.003601 | ... M74: ='Processed Data'!M74/1000 -> 0.074489 | O74: =B74/C74 -> 0.079044714 | P74: =SUM(B74:N74) -> 169.18464
A75: 171805033BIAP | B75: ='Processed Data'!B75/1000 -> 11.987995 | C75: ='Processed Data'!C75/1000 -> 139.97859 | D75: ='Processed Data'!D75/1000 -> 0.000154 | E75: ='Processed Data'!E75/1000 -> 0.000506 | F75: ='Processed Data'!F75/1000 -> 0.002011 | G75: ='Processed Data'!G75/1000 -> 0.005262 | H75: ='Processed Data'!H75/1000 -> 0.000279 | I75: ='Processed Data'!I75/1000 -> 0.005394 | ... M75: ='Processed Data'!M75/1000 -> 0.032649 | O75: =B75/C75 -> 0.085641633 | P75: =SUM(B75:N75) -> 153.01098
A76: 171805033BAMP | B76: ='Processed Data'!B76/1000 -> 12.425679 | C76: ='Processed Data'!C76/1000 -> 127.06705 | D76: ='Processed Data'!D76/1000 -> 0.00023 | E76: ='Processed Data'!E76/1000 -> 0.000526 | F76: ='Processed Data'!F76/1000 -> 0.001301 | G76: ='Processed Data'!G76/1000 -> 0.004956 | H76: ='Processed Data'!H76/1000 -> 0.000214 | I76: ='Processed Data'!I76/1000 -> 0.003026 | ... M76: ='Processed Data'!M76/1000 -> 0.03377 | O76: =B76/C76 -> 0.097788366 | P76: =SUM(B76:N76) -> 140.34949
A77: 171805033CT | B77: ='Processed Data'!B77/1000 -> 10.713658 | C77: ='Processed Data'!C77/1000 -> 134.33762 | D77: ='Processed Data'!D77/1000 -> 0.000163 | E77: ='Processed Data'!E77/1000 -> 0.000437 | F77: ='Processed Data'!F77/1000 -> 0.001215 | G77: ='Processed Data'!G77/1000 -> 0.005096 | H77: ='Processed Data'!H77/1000 -> 0.000197 | I77: ='Processed Data'!I77/1000 -> 0.003141 | ... K77: ='Processed Data'!K77/1000 -> 0.953921 | M77: ='Processed Data'!M77/1000 -> 0.000167 | O77: =B77/C77 -> 0.079751734 | P77: =SUM(B77:N77) -> 146.01562
A78: 171805033CR | B78: ='Processed Data'!B78/1000 -> 3.33741 | C78: ='Processed Data'!C78/1000 -> 34.911925 | D78: ='Processed Data'!D78/1000 -> 0.000102 | E78: ='Processed Data'!E78/1000 -> 0.000404 | F78: ='Processed Data'!F78/1000 -> 0.001024 | G78: ='Processed Data'!G78/1000 -> 0.002383 | H78: ='Processed Data'!H78/1000 -> 7e-05 | I78: ='Processed Data'!I78/1000 -> 0.00194 | ... K78: ='Processed Data'!K78/1000 -> 0.185888 | O78: =B78/C78 -> 0.09559513 | P78: =SUM(B78:N78) -> 38.441153
A79: 171805033CE | B79: ='Processed Data'!B79/1000 -> 15.111853 | C79: ='Processed Data'!C79/1000 -> 149.30298 | D79: ='Processed Data'!D79/1000 -> 0.000227 | E79: ='Processed Data'!E79/1000 -> 0.00043 | F79: ='Processed Data'!F79/1000 -> 0.003479 | G79: ='Processed Data'!G79/1000 -> 0.0054 | H79: ='Processed Data'!H79/1000 -> 0.000322 | I79: ='Processed Data'!I79/1000 -> 0.006274 | ... K79: ='Processed Data'!K79/1000 -> 1.066141 | M79: ='Processed Data'!M79/1000 -> 0.001193 | O79: =B79/C79 -> 0.10121602 | P79: =SUM(B79:N79) -> 165.4983
A80: 171805033CD | B80: ='Processed Data'!B80/1000 -> 19.266904 | C80: ='Processed Data'!C80/1000 -> 191.63335 | D80: ='Processed Data'!D80/1000 -> 0.000278 | E80: ='Processed Data'!E80/1000 -> 0.000445 | F80: ='Processed Data'!F80/1000 -> 0.004826 | G80: ='Processed Data'!G80/1000 -> 0.006157 | H80: ='Processed Data'!H80/1000 -> 0.000328 | I80: ='Processed Data'!I80/1000 -> 0.006883 | ... K80: ='Processed Data'!K80/1000 -> 1.512745 | M80: ='Processed Data'!M80/1000 -> 0.00181 | O80: =B80/C80 -> 0.10054045 | P80: =SUM(B80:N80) -> 212.43374
A81: 171805033CSPM | B81: ='Processed Data'!B81/1000 -> 4.427385 | C81: ='Processed Data'!C81/1000 -> 130.71526 | D81: ='Processed Data'!D81/1000 -> 0.000132 | E81: ='Processed Data'!E81/1000 -> 0.000483 | F81: ='Processed Data'!F81/1000 -> 0.000463 | G81: ='Processed Data'!G81/1000 -> 0.00537 | H81: ='Processed Data'!H81/1000 -> 0.000519 | I81: ='Processed Data'!I81/1000 -> 0.002112 | ... K81: ='Processed Data'!K81/1000 -> 0.790845 | M81: ='Processed Data'!M81/1000 -> 7.6e-05 | O81: =B81/C81 -> 0.033870452 | P81: =SUM(B81:N81) -> 135.94267
A82: 171805033CSPD | B82: ='Processed Data'!B82/1000 -> 2.563166 | C82: ='Processed Data'!C82/1000 -> 70.493306 | D82: ='Processed Data'!D82/1000 -> 0.000104 | E82: ='Processed Data'!E82/1000 -> 0.000437 | F82: ='Processed Data'!F82/1000 -> 0.000131 | G82: ='Processed Data'!G82/1000 -> 0.003459 | H82: ='Processed Data'!H82/1000 -> 0.00053 | I82: ='Processed Data'!I82/1000 -> 0.001849 | ... K82: ='Processed Data'!K82/1000 -> 0.403797 | O82: =B82/C82 -> 0.036360417 | P82: =SUM(B82:N82) -> 73.466783
A83: 171805033CAMD | B83: ='Processed Data'!B83/1000 -> 13.660747 | C83: ='Processed Data'!C83/1000 -> 139.06688 | D83: ='Processed Data'!D83/1000 -> 0.000237 | E83: ='Processed Data'!E83/1000 -> 0.000435 | F83: ='Processed Data'!F83/1000 -> 0.001676 | G83: ='Processed Data'!G83/1000 -> 0.004925 | H83: ='Processed Data'!H83/1000 -> 0.000203 | I83: ='Processed Data'!I83/1000 -> 0.004726 | K83: ='Processed Data'!K83/1000 -> 0.984417 | M83: ='Processed Data'!M83/1000 -> 0.000748 | O83: =B83/C83 -> 0.098231488 | P83: =SUM(B83:N83) -> 153.725
A84: 171805033CIAD | B84: ='Processed Data'!B84/1000 -> 5.367085 | C84: ='Processed Data'!C84/1000 -> 60.525219 | D84: ='Processed Data'!D84/1000 -> 0.000305 | E84: ='Processed Data'!E84/1000 -> 0.000446 | F84: ='Processed Data'!F84/1000 -> 0.000738 | G84: ='Processed Data'!G84/1000 -> 0.00302 | H84: ='Processed Data'!H84/1000 -> 0.00034 | I84: ='Processed Data'!I84/1000 -> 0.00346 | ... K84: ='Processed Data'!K84/1000 -> 0.389315 | O84: =B84/C84 -> 0.088675185 | P84: =SUM(B84:N84) -> 66.289941
A85: 171805033CIAP | B85: ='Processed Data'!B85/1000 -> 10.946555 | C85: ='Processed Data'!C85/1000 -> 121.96502 | D85: ='Processed Data'!D85/1000 -> 0.000205 | E85: ='Processed Data'!E85/1000 -> 0.00043 | F85: ='Processed Data'!F85/1000 -> 0.001595 | G85: ='Processed Data'!G85/1000 -> 0.004589 | H85: ='Processed Data'!H85/1000 -> 0.000284 | I85: ='Processed Data'!I85/1000 -> 0.003954 | ... K85: ='Processed Data'!K85/1000 -> 0.844484 | M85: ='Processed Data'!M85/1000 -> 0.00059 | O85: =B85/C85 -> 0.089751591 | P85: =SUM(B85:N85) -> 133.76771
A86: 171805033CAMP | B86: ='Processed Data'!B86/1000 -> 16.277934 | C86: ='Processed Data'!C86/1000 -> 153.21917 | D86: ='Processed Data'!D86/1000 -> 0.000561 | E86: ='Processed Data'!E86/1000 -> 0.000499 | F86: ='Processed Data'!F86/1000 -> 0.001645 | G86: ='Processed Data'!G86/1000 -> 0.005674 | H86: ='Processed Data'!H86/1000 -> 0.000688 | I86: ='Processed Data'!I86/1000 -> 0.004138 | ... K86: ='Processed Data'!K86/1000 -> 1.142909 | M86: ='Processed Data'!M86/1000 -> 0.001009 | O86: =B86/C86 -> 0.10623954 | P86: =SUM(B86:N86) -> 170.65425
A87: 171805014AT | B87: ='Processed Data'!B87/1000 -> 15.629998 | C87: ='Processed Data'!C87/1000 -> 166.29607 | D87: ='Processed Data'!D87/1000 -> 0.000204 | E87: ='Processed Data'!E87/1000 -> 0.000632 | F87: ='Processed Data'!F87/1000 -> 0.002779 | G87: ='Processed Data'!G87/1000 -> 0.007401 | H87: ='Processed Data'!H87/1000 -> 0.001358 | I87: ='Processed Data'!I87/1000 -> 0.004755 | ... K87: ='Processed Data'!K87/1000 -> 1.311893 | M87: ='Processed Data'!M87/1000 -> 0.000543 | O87: =B87/C87 -> 0.093988979 | P87: =SUM(B87:N87) -> 183.25571
A88: 171805014AR | B88: ='Processed Data'!B88/1000 -> 17.795359 | C88: ='Processed Data'!C88/1000 -> 159.98829 | D88: ='Processed Data'!D88/1000 -> 0.000218 | E88: ='Processed Data'!E88/1000 -> 0.000671 | F88: ='Processed Data'!F88/1000 -> 0.005594 | G88: ='Processed Data'!G88/1000 -> 0.006611 | H88: ='Processed Data'!H88/1000 -> 0.00144 | I88: ='Processed Data'!I88/1000 -> 0.005907 | ... K88: ='Processed Data'!K88/1000 -> 1.252639 | M88: ='Processed Data'!M88/1000 -> 0.001284 | O88: =B88/C88 -> 0.11122913 | P88: =SUM(B88:N88) -> 179.05807
A89: 171805014AE | B89: ='Processed Data'!B89/1000 -> 17.190219 | C89: ='Processed Data'!C89/1000 -> 134.28314 | D89: ='Processed Data'!D89/1000 -> 0.000213 | E89: ='Processed Data'!E89/1000 -> 0.00069 | F89: ='Processed Data'!F89/1000 -> 0.00462 | G89: ='Processed Data'!G89/1000 -> 0.005937 | H89: ='Processed Data'!H89/1000 -> 0.001129 | I89: ='Processed Data'!I89/1000 -> 0.004119 | ... K89: ='Processed Data'!K89/1000 -> 1.135068 | M89: ='Processed Data'!M89/1000 -> 0.001052 | O89: =B89/C89 -> 0.12801472 | P89: =SUM(B89:N89) -> 152.62627
A90: 171805014AD | B90: ='Processed Data'!B90/1000 -> 8.825539 | C90: ='Processed Data'!C90/1000 -> 66.331839 | D90: ='Processed Data'!D90/1000 -> 0.000266 | E90: ='Processed Data'!E90/1000 -> 0.000619 | F90: ='Processed Data'!F90/1000 -> 0.004523 | G90: ='Processed Data'!G90/1000 -> 0.007914 | H90: ='Processed Data'!H90/1000 -> 0.000801 | I90: ='Processed Data'!I90/1000 -> 0.002825 | ... K90: ='Processed Data'!K90/1000 -> 0.517286 | M90: ='Processed Data'!M90/1000 -> 0.000509 | O90: =B90/C90 -> 0.13305132 | P90: =SUM(B90:N90) -> 75.692274
A91: 171805014ASPM | B91: ='Processed Data'!B91/1000 -> 3.908861 | C91: ='Processed Data'!C91/1000 -> 111.97389 | D91: ='Processed Data'!D91/1000 -> 0.000147 | E91: ='Processed Data'!E91/1000 -> 0.000532 | F91: ='Processed Data'!F91/1000 -> 0.000562 | G91: ='Processed Data'!G91/1000 -> 0.004728 | H91: ='Processed Data'!H91/1000 -> 0.000838 | I91: ='Processed Data'!I91/1000 -> 0.002199 | ... K91: ='Processed Data'!K91/1000 -> 0.731298 | M91: ='Processed Data'!M91/1000 -> 0.001527 | O91: =B91/C91 -> 0.034908683 | P91: =SUM(B91:N91) -> 116.62462
A92: 171805014ASPD | B92: ='Processed Data'!B92/1000 -> 6.198538 | C92: ='Processed Data'!C92/1000 -> 205.85117 | D92: ='Processed Data'!D92/1000 -> 0.000223 | E92: ='Processed Data'!E92/1000 -> 0.000656 | F92: ='Processed Data'!F92/1000 -> 0.001383 | G92: ='Processed Data'!G92/1000 -> 0.007566 | H92: ='Processed Data'!H92/1000 -> 0.002511 | I92: ='Processed Data'!I92/1000 -> 0.003487 | ... K92: ='Processed Data'!K92/1000 -> 1.306683 | M92: ='Processed Data'!M92/1000 -> 0.005083 | O92: =B92/C92 -> 0.030111746 | P92: =SUM(B92:N92) -> 213.37733
A93: 171805014ASPP | B93: ='Processed Data'!B93/1000 -> 3.625653 | C93: ='Processed Data'!C93/1000 -> 109.25575 | D93: ='Processed Data'!D93/1000 -> 0.000146 | E93: ='Processed Data'!E93/1000 -> 0.000633 | F93: ='Processed Data'!F93/1000 -> 0.000497 | G93: ='Processed Data'!G93/1000 -> 0.005686 | H93: ='Processed Data'!H93/1000 -> 0.00189 | I93: ='Processed Data'!I93/1000 -> 0.002238 | ... K93: ='Processed Data'!K93/1000 -> 0.644327 | M93: ='Processed Data'!M93/1000 -> 0.000173 | O93: =B93/C93 -> 0.033185009 | P93: =SUM(B93:N93) -> 113.53704
A94: 171805014AAMD | B94: ='Processed Data'!B94/1000 -> 17.303082 | C94: ='Processed Data'!C94/1000 -> 143.45646 | D94: ='Processed Data'!D94/1000 -> 0.000179 | E94: ='Processed Data'!E94/1000 -> 0.000569 | F94: ='Processed Data'!F94/1000 -> 0.001994 | G94: ='Processed Data'!G94/1000 -> 0.006041 | H94: ='Processed Data'!H94/1000 -> 0.000745 | I94: ='Processed Data'!I94/1000 -> 0.002627 | ... K94: ='Processed Data'!K94/1000 -> 1.19631 | M94: ='Processed Data'!M94/1000 -> 0.000839 | O94: =B94/C94 -> 0.12061556 | P94: =SUM(B94:N94) -> 161.96891
A95: 171805014AIAD | B95: ='Processed Data'!B95/1000 -> 16.552147 | C95: ='Processed Data'!C95/1000 -> 166.56134 | D95: ='Processed Data'!D95/1000 -> 0.000189 | E95: ='Processed Data'!E95/1000 -> 0.000625 | F95: ='Processed Data'!F95/1000 -> 0.001084 | G95: ='Processed Data'!G95/1000 -> 0.006648 | H95: ='Processed Data'!H95/1000 -> 0.00081 | I95: ='Processed Data'!I95/1000 -> 0.003013 | ... K95: ='Processed Data'!K95/1000 -> 1.519087 | M95: ='Processed Data'!M95/1000 -> 0.001143 | O95: =B95/C95 -> 0.099375685 | P95: =SUM(B95:N95) -> 184.64614
A96: 171805014AIAP | B96: ='Processed Data'!B96/1000 -> 9.748754 | C96: ='Processed Data'!C96/1000 -> 84.825158 | D96: ='Processed Data'!D96/1000 -> 0.000186 | E96: ='Processed Data'!E96/1000 -> 0.000603 | F96: ='Processed Data'!F96/1000 -> 0.001264 | G96: ='Processed Data'!G96/1000 -> 0.004511 | H96: ='Processed Data'!H96/1000 -> 0.000893 | I96: ='Processed Data'!I96/1000 -> 0.002381 | ... K96: ='Processed Data'!K96/1000 -> 0.650421 | M96: ='Processed Data'!M96/1000 -> 0.000146 | O96: =B96/C96 -> 0.11492763 | P96: =SUM(B96:N96) -> 95.234382
A97: 171805014AAMP | B97: ='Processed Data'!B97/1000 -> 15.534068 | C97: ='Processed Data'!C97/1000 -> 164.47438 | D97: ='Processed Data'!D97/1000 -> 0.000141 | E97: ='Processed Data'!E97/1000 -> 0.000524 | F97: ='Processed Data'!F97/1000 -> 0.002293 | G97: ='Processed Data'!G97/1000 -> 0.006057 | H97: ='Processed Data'!H97/1000 -> 0.000409 | I97: ='Processed Data'!I97/1000 -> 0.003409 | ... K97: ='Processed Data'!K97/1000 -> 1.21862 | M97: ='Processed Data'!M97/1000 -> 0.0013 | O97: =B97/C97 -> 0.094446732 | P97: =SUM(B97:N97) -> 181.24121
A98: 171802073AT | B98: ='Processed Data'!B98/1000 -> 2.953781 | C98: ='Processed Data'!C98/1000 -> 44.438632 | D98: ='Processed Data'!D98/1000 -> 0.000111 | E98: ='Processed Data'!E98/1000 -> 0.000109 | F98: ='Processed Data'!F98/1000 -> 0.002899 | G98: ='Processed Data'!G98/1000 -> 0.002123 | H98: ='Processed Data'!H98/1000 -> 0.031029 | I98: ='Processed Data'!I98/1000 -> 0.008828 | K98: ='Processed Data'!K98/1000 -> 0.197659 | M98: ='Processed Data'!M98/1000 -> 0.064262 | O98: =B98/C98 -> 0.066468765 | P98: =SUM(B98:N98) -> 47.699433
A99: 171802073AR | B99: ='Processed Data'!B99/1000 -> 4.050568 | C99: ='Processed Data'!C99/1000 -> 68.015136 | E99: ='Processed Data'!E99/1000 -> 7.3e-05 | F99: ='Processed Data'!F99/1000 -> 0.003073 | G99: ='Processed Data'!G99/1000 -> 0.002443 | H99: ='Processed Data'!H99/1000 -> 0.02833 | I99: ='Processed Data'!I99/1000 -> 0.007219 | K99: ='Processed Data'!K99/1000 -> 0.417885 | M99: ='Processed Data'!M99/1000 -> 0.062828 | O99: =B99/C99 -> 0.05955392 | P99: =SUM(B99:N99) -> 72.587555
A100: 171802073AE | B100: ='Processed Data'!B100/1000 -> 7.313663 | C100: ='Processed Data'!C100/1000 -> 110.73204 | D100: ='Processed Data'!D100/1000 -> 6.5e-05 | E100: ='Processed Data'!E100/1000 -> 7.4e-05 | F100: ='Processed Data'!F100/1000 -> 0.004965 | G100: ='Processed Data'!G100/1000 -> 0.004372 | H100: ='Processed Data'!H100/1000 -> 0.024218 | I100: ='Processed Data'!I100/1000 -> 0.006037 | K100: ='Processed Data'!K100/1000 -> 0.695551 | M100: ='Processed Data'!M100/1000 -> 0.063773 | O100: =B100/C100 -> 0.066048301 | P100: =SUM(B100:N100) -> 118.84476
A101: 171802073AD | B101: ='Processed Data'!B101/1000 -> 5.279523 | C101: ='Processed Data'!C101/1000 -> 93.289953 | D101: ='Processed Data'!D101/1000 -> 2e-06 | E101: ='Processed Data'!E101/1000 -> 6.5e-05 | F101: ='Processed Data'!F101/1000 -> 0.00363 | G101: ='Processed Data'!G101/1000 -> 0.003368 | H101: ='Processed Data'!H101/1000 -> 0.025873 | I101: ='Processed Data'!I101/1000 -> 0.006228 | K101: ='Processed Data'!K101/1000 -> 0.586736 | M101: ='Processed Data'!M101/1000 -> 0.064777 | O101: =B101/C101 -> 0.056592622 | P101: =SUM(B101:N101) -> 99.260155
A102: 171802073ASPM | B102: ='Processed Data'!B102/1000 -> 2.681271 | C102: ='Processed Data'!C102/1000 -> 73.258719 | E102: ='Processed Data'!E102/1000 -> 9.4e-05 | G102: ='Processed Data'!G102/1000 -> 0.002849 | H102: ='Processed Data'!H102/1000 -> 0.023894 | I102: ='Processed Data'!I102/1000 -> 0.006045 | K102: ='Processed Data'!K102/1000 -> 0.401383 | M102: ='Processed Data'!M102/1000 -> 0.0636 | O102: =B102/C102 -> 0.036600026 | P102: =SUM(B102:N102) -> 76.437855
...

Sheet Rock Concentration (ppm)
A1: Concentration in samples calculated using formula below:
B8: 24 Mg [ He ] | C8: 43 Ca [ He ] | D8: 51 V [ He ] | E8: 52 Cr [ He ] | F8: 55 Mn [ He ] | G8: 56 Fe [ He ] | H8: 64 Zn [ He ] | I8: 65 Cu [ He ] | J8: 85 Rb [ He ] | K8: 88 Sr [ He ] | L8: 98 Mo [ He ] | M8: 137 Ba [ No Gas ] | N8: 208 Pb [ No Gas ] | O8: Mg/Ca | P8: Sum
A9: Sample Name | B9: Conc. [ ppm ] | C9: Conc. [ ppm ] | D9: Conc. [ ppm ] | E9: Conc. [ ppm ] | F9: Conc. [ ppm ] | G9: Conc. [ ppm ] | H9: Conc. [ ppm ] | I9: Conc. [ ppm ] | J9: Conc. [ ppm ] | K9: Conc. [ ppm ] | L9: Conc. [ ppm ] | M9: Conc. [ ppm ] | N9: Conc. [ ppm ]
A10: 171902056AT | B10: ='Formula ppm'!B7*(400435-(85475*'Formula ppm'!O7))/'Formula ppm'!P7 -> 29291.347 | C10: ='Formula ppm'!C7*(400435-(85475*'Formula ppm'!O7))/'Formula ppm'!P7 -> 361169.92 | D10: ='Formula ppm'!D7*(400435-(85475*'Formula ppm'!O7))/'Formula ppm'!P7 -> 0 | E10: ='Formula ppm'!E7*(400435-(85475*'Formula ppm'!O7))/'Formula ppm'!P7 -> 0 | F10: ='Formula ppm'!F7*(400435-(85475*'Formula ppm'!O7))/'Formula ppm'!P7 -> 10.154628 | G10: ='Formula ppm'!G7*(400435-(85475*'Formula ppm'!O7))/'Formula ppm'!P7 -> 7.1291605 | H10: ='Formula ppm'!H7*(400435-(85475*'Formula ppm'!O7))/'Formula ppm'!P7 -> 25.032526 | I10: ='Formula ppm'!I7*(400435-(85475*'Formula ppm'!O7))/'Formula ppm'!P7 -> 0 | J10: ='Formula ppm'!J7*(400435-(85475*'Formula ppm'!O7))/'Formula ppm'!P7 -> 0 | K10: ='Formula ppm'!K7*(400435-(85475*'Formula ppm'!O7))/'Formula ppm'!P7 -> 2974.4692 | L10: ='Formula ppm'!L7*(400435-(85475*'Formula ppm'!O7))/'Formula ppm'!P7 -> 0 | M10: ='Formula ppm'!M7*(400435-(85475*'Formula ppm'!O7))/'Formula ppm'!P7 -> 22.642729 | N10: ='Formula ppm'!N7*(400435-(85475*'Formula ppm'!O7))/'Formula ppm'!P7 -> 2.1725433 | O10: =B10/C10 -> 0.081101292 | P10: =SUM(B10:N10) -> 393502.87
A11: 171902056AR | B11: ='Formula ppm'!B8*(400435-(85475*'Formula ppm'!O8))/'Formula ppm'!P8 -> 26701.644 | C11: ='Formula ppm'!C8*(400435-(85475*'Formula ppm'!O8))/'Formula ppm'!P8 -> 364978.07 | D11: ='Formula ppm'!D8*(400435-(85475*'Formula ppm'!O8))/'Formula ppm'!P8 -> 0 | E11: ='Formula ppm'!E8*(400435-(85475*'Formula ppm'!O8))/'Formula ppm'!P8 -> 0 | F11: ='Formula ppm'!F8*(400435-(85475*'Formula ppm'!O8))/'Formula ppm'!P8 -> 9.8698676 | G11: ='Formula ppm'!G8*(400435-(85475*'Formula ppm'!O8))/'Formula ppm'!P8 -> 7.7715493 | H11: ='Formula ppm'!H8*(400435-(85475*'Formula ppm'!O8))/'Formula ppm'!P8 -> 1.4506892 | I11: ='Formula ppm'!I8*(400435-(85475*'Formula ppm'!O8))/'Formula ppm'!P8 -> 0 | J11: ='Formula ppm'!J8*(400435-(85475*'Formula ppm'!O8))/'Formula ppm'!P8 -> 0 | K11: ='Formula ppm'!K8*(400435-(85475*'Formula ppm'!O8))/'Formula ppm'!P8 -> 2471.1713 | L11: ='Formula ppm'!L8*(400435-(85475*'Formula ppm'!O8))/'Formula ppm'!P8 -> 0 | M11: ='Formula ppm'!M8*(400435-(85475*'Formula ppm'!O8))/'Formula ppm'!P8 -> 11.709134 | N11: ='Formula ppm'!N8*(400435-(85475*'Formula ppm'!O8))/'Formula ppm'!P8 -> 0 | O11: =B11/C11 -> 0.073159587 | P11: =SUM(B11:N11) -> 394181.68
A12: 171902056AE | B12: ='Formula ppm'!B9*(400435-(85475*'Formula ppm'!O9))/'Formula ppm'!P9 -> 26447.999 | C12: ='Formula ppm'!C9*(400435-(85475*'Formula ppm'!O9))/'Formula ppm'!P9 -> 365045.82 | D12: ='Formula ppm'!D9*(400435-(85475*'Formula ppm'!O9))/'Formula ppm'!P9 -> 0 | E12: ='Formula ppm'!E9*(400435-(85475*'Formula ppm'!O9))/'Formula ppm'!P9 -> 0 | F12: ='Formula ppm'!F9*(400435-(85475*'Formula ppm'!O9))/'Formula ppm'!P9 -> 11.892639 | G12: ='Formula ppm'!G9*(400435-(85475*'Formula ppm'!O9))/'Formula ppm'!P9 -> 6.422025 | H12: ='Formula ppm'!H9*(400435-(85475*'Formula ppm'!O9))/'Formula ppm'!P9 -> 10.965833 | I12: ='Formula ppm'!I9*(400435-(85475*'Formula ppm'!O9))/'Formula ppm'!P9 -> 0 | J12: ='Formula ppm'!J9*(400435-(85475*'Formula ppm'!O9))/'Formula ppm'!P9 -> 0 | K12: ='Formula ppm'!K9*(400435-(85475*'Formula ppm'!O9))/'Formula ppm'!P9 -> 2701.1874 | L12: ='Formula ppm'!L9*(400435-(85475*'Formula ppm'!O9))/'Formula ppm'!P9 -> 0 | M12: ='Formula ppm'!M9*(400435-(85475*'Formula ppm'!O9))/'Formula ppm'!P9 -> 17.945582 | N12: ='Formula ppm'!N9*(400435-(85475*'Formula ppm'!O9))/'Formula ppm'!P9 -> 0 | O12: =B12/C12 -> 0.072451175 | P12: =SUM(B12:N12) -> 394242.24
A13: 171902056AD | B13: ='Formula ppm'!B10*(400435-(85475*'Formula ppm'!O10))/'Formula ppm'!P10 -> 23107.348 | C13: ='Formula ppm'!C10*(400435-(85475*'Formula ppm'!O10))/'Formula ppm'!P10 -> 369001.96 | D13: ='Formula ppm'!D10*(400435-(85475*'Formula ppm'!O10))/'Formula ppm'!P10 -> 0 | E13: ='Formula ppm'!E10*(400435-(85475*'Formula ppm'!O10))/'Formula ppm'!P10 -> 0 | F13: ='Formula ppm'!F10*(400435-(85475*'Formula ppm'!O10))/'Formula ppm'!P10 -> 9.9041357 | G13: ='Formula ppm'!G10*(400435-(85475*'Formula ppm'!O10))/'Formula ppm'!P10 -> 7.2021429 | H13: ='Formula ppm'!H10*(400435-(85475*'Formula ppm'!O10))/'Formula ppm'!P10 -> 11.607152 | I13: ='Formula ppm'!I10*(400435-(85475*'Formula ppm'!O10))/'Formula ppm'!P10 -> 0 | J13: ='Formula ppm'!J10*(400435-(85475*'Formula ppm'!O10))/'Formula ppm'!P10 -> 0 | K13: ='Formula ppm'!K10*(400435-(85475*'Formula ppm'!O10))/'Formula ppm'!P10 -> 2922.7761 | L13: ='Formula ppm'!L10*(400435-(85475*'Formula ppm'!O10))/'Formula ppm'!P10 -> 0 | M13: ='Formula ppm'!M10*(400435-(85475*'Formula ppm'!O10))/'Formula ppm'!P10 -> 21.653999 | N13: ='Formula ppm'!N10*(400435-(85475*'Formula ppm'!O10))/'Formula ppm'!P10 -> 0 | O13: =B13/C13 -> 0.062621205 | P13: =SUM(B13:N13) -> 395082.45
A14: 171902056ASPM | B14: ='Formula ppm'!B11*(400435-(85475*'Formula ppm'!O11))/'Formula ppm'!P11 -> 17396.927 | C14: ='Formula ppm'!C11*(400435-(85475*'Formula ppm'!O11))/'Formula ppm'!P11 -> 376664.59 | D14: ='Formula ppm'!D11*(400435-(85475*'Formula ppm'!O11))/'Formula ppm'!P11 -> 0 | E14: ='Formula ppm'!E11*(400435-(85475*'Formula ppm'!O11))/'Formula ppm'!P11 -> 0 | F14: ='Formula ppm'!F11*(400435-(85475*'Formula ppm'!O11))/'Formula ppm'!P11 -> 0.57590337 | G14: ='Formula ppm'!G11*(400435-(85475*'Formula ppm'!O11))/'Formula ppm'!P11 -> 6.5106998 | H14: ='Formula ppm'!H11*(400435-(85475*'Formula ppm'!O11))/'Formula ppm'!P11 -> 2.5354707 | I14: ='Formula ppm'!I11*(400435-(85475*'Formula ppm'!O11))/'Formula ppm'!P11 -> 0 | J14: ='Formula ppm'!J11*(400435-(85475*'Formula ppm'!O11))/'Formula ppm'!P11 -> 0 | K14: ='Formula ppm'!K11*(400435-(85475*'Formula ppm'!O11))/'Formula ppm'!P11 -> 2413.9513 | L14: ='Formula ppm'!L11*(400435-(85475*'Formula ppm'!O11))/'Formula ppm'!P11 -> 0 | M14: ='Formula ppm'!M11*(400435-(85475*'Formula ppm'!O11))/'Formula ppm'!P11 -> 2.0904545 | N14: ='Formula ppm'!N11*(400435-(85475*'Formula ppm'!O11))/'Formula ppm'!P11 -> 0 | O14: =B14/C14 -> 0.046186785 | P14: =SUM(B14:N14) -> 396487.18
A15: 171902056ASPD | B15: ='Formula ppm'!B12*(400435-(85475*'Formula ppm'!O12))/'Formula ppm'!P12 -> 18045.911 | C15: ='Formula ppm'!C12*(400435-(85475*'Formula ppm'!O12))/'Formula ppm'!P12 -> 375975.37 | D15: ='Formula ppm'!D12*(400435-(85475*'Formula ppm'!O12))/'Formula ppm'!P12 -> 0 | E15: ='Formula ppm'!E12*(400435-(85475*'Formula ppm'!O12))/'Formula ppm'!P12 -> 0 | F15: ='Formula ppm'!F12*(400435-(85475*'Formula ppm'!O12))/'Formula ppm'!P12 -> 0.85674706 | G15: ='Formula ppm'!G12*(400435-(85475*'Formula ppm'!O12))/'Formula ppm'!P12 -> 7.1332125 | H15: ='Formula ppm'!H12*(400435-(85475*'Formula ppm'!O12))/'Formula ppm'!P12 -> 0.27923608 | I15: ='Formula ppm'!I12*(400435-(85475*'Formula ppm'!O12))/'Formula ppm'!P12 -> 0 | J15: ='Formula ppm'!J12*(400435-(85475*'Formula ppm'!O12))/'Formula ppm'!P12 -> 0 | K15: ='Formula ppm'!K12*(400435-(85475*'Formula ppm'!O12))/'Formula ppm'!P12 -> 2301.5907 | L15: ='Formula ppm'!L12*(400435-(85475*'Formula ppm'!O12))/'Formula ppm'!P12 -> 0 | M15: ='Formula ppm'!M12*(400435-(85475*'Formula ppm'!O12))/'Formula ppm'!P12 -> 1.2692549 | N15: ='Formula ppm'!N12*(400435-(85475*'Formula ppm'!O12))/'Formula ppm'!P12 -> 0 | O15: =B15/C15 -> 0.047997588 | P15: =SUM(B15:N15) -> 396332.41
A16: 171902056ASPP | B16: ='Formula ppm'!B13*(400435-(85475*'Formula ppm'!O13))/'Formula ppm'!P13 -> 16907.712 | C16: ='Formula ppm'!C13*(400435-(85475*'Formula ppm'!O13))/'Formula ppm'!P13 -> 377393.37 | D16: ='Formula ppm'!D13*(400435-(85475*'Formula ppm'!O13))/'Formula ppm'!P13 -> 0.019783995 | E16: ='Formula ppm'!E13*(400435-(85475*'Formula ppm'!O13))/'Formula ppm'!P13 -> 0.28357059 | F16: ='Formula ppm'!F13*(400435-(85475*'Formula ppm'!O13))/'Formula ppm'!P13 -> 0.87709044 | G16: ='Formula ppm'!G13*(400435-(85475*'Formula ppm'!O13))/'Formula ppm'!P13 -> 7.636622 | H16: ='Formula ppm'!H13*(400435-(85475*'Formula ppm'!O13))/'Formula ppm'!P13 -> 2.45981 | I16: ='Formula ppm'!I13*(400435-(85475*'Formula ppm'!O13))/'Formula ppm'!P13 -> 0.63308783 | J16: ='Formula ppm'!J13*(400435-(85475*'Formula ppm'!O13))/'Formula ppm'!P13 -> 0 | K16: ='Formula ppm'!K13*(400435-(85475*'Formula ppm'!O13))/'Formula ppm'!P13 -> 2290.3073 | L16: ='Formula ppm'!L13*(400435-(85475*'Formula ppm'!O13))/'Formula ppm'!P13 -> 0 | M16: ='Formula ppm'!M13*(400435-(85475*'Formula ppm'!O13))/'Formula ppm'!P13 -> 2.3147274 | N16: ='Formula ppm'!N13*(400435-(85475*'Formula ppm'!O13))/'Formula ppm'!P13 -> 0 | O16: =B16/C16 -> 0.044801296 | P16: =SUM(B16:N16) -> 396605.61
A17: 171902056AAMD | B17: ='Formula ppm'!B14*(400435-(85475*'Formula ppm'!O14))/'Formula ppm'!P14 -> 27998.208 | C17: ='Formula ppm'!C14*(400435-(85475*'Formula ppm'!O14))/'Formula ppm'!P14 -> 362703.99 | D17: ='Formula ppm'!D14*(400435-(85475*'Formula ppm'!O14))/'Formula ppm'!P14 -> 0 | E17: ='Formula ppm'!E14*(400435-(85475*'Formula ppm'!O14))/'Formula ppm'!P14 -> 0 | F17: ='Formula ppm'!F14*(400435-(85475*'Formula ppm'!O14))/'Formula ppm'!P14 -> 3.4833684 | G17: ='Formula ppm'!G14*(400435-(85475*'Formula ppm'!O14))/'Formula ppm'!P14 -> 6.379865 | H17: ='Formula ppm'!H14*(400435-(85475*'Formula ppm'!O14))/'Formula ppm'!P14 -> 2.8349697 | I17: ='Formula ppm'!I14*(400435-(85475*'Formula ppm'!O14))/'Formula ppm'!P14 -> 0 | J17: ='Formula ppm'!J14*(400435-(85475*'Formula ppm'!O14))/'Formula ppm'!P14 -> 0 | K17: ='Formula ppm'!K14*(400435-(85475*'Formula ppm'!O14))/'Formula ppm'!P14 -> 3104.9875 | L17: ='Formula ppm'!L14*(400435-(85475*'Formula ppm'!O14))/'Formula ppm'!P14 -> 0 | M17: ='Formula ppm'!M14*(400435-(85475*'Formula ppm'!O14))/'Formula ppm'!P14 -> 17.042948 | N17: ='Formula ppm'!N14*(400435-(85475*'Formula ppm'!O14))/'Formula ppm'!P14 -> 0 | O17: =B17/C17 -> 0.077192997 | P17: =SUM(B17:N17) -> 393836.93
A18: 171902056AIAD | B18: ='Formula ppm'!B15*(400435-(85475*'Formula ppm'!O15))/'Formula ppm'!P15 -> 27192.087 | C18: ='Formula ppm'!C15*(400435-(85475*'Formula ppm'!O15))/'Formula ppm'!P15 -> 363668.18 | D18: ='Formula ppm'!D15*(400435-(85475*'Formula ppm'!O15))/'Formula ppm'!P15 -> 0.0074301949 | E18: ='Formula ppm'!E15*(400435-(85475*'Formula ppm'!O15))/'Formula ppm'!P15 -> 0.20061526 | F18: ='Formula ppm'!F15*(400435-(85475*'Formula ppm'!O15))/'Formula ppm'!P15 -> 5.1974214 | G18: ='Formula ppm'!G15*(400435-(85475*'Formula ppm'!O15))/'Formula ppm'!P15 -> 6.8283491 | H18: ='Formula ppm'!H15*(400435-(85475*'Formula ppm'!O15))/'Formula ppm'!P15 -> 7.549078 | I18: ='Formula ppm'!I15*(400435-(85475*'Formula ppm'!O15))/'Formula ppm'!P15 -> 0.57212501 | J18: ='Formula ppm'!J15*(400435-(85475*'Formula ppm'!O15))/'Formula ppm'!P15 -> 0 | K18: ='Formula ppm'!K15*(400435-(85475*'Formula ppm'!O15))/'Formula ppm'!P15 -> 3147.1296 | L18: ='Formula ppm'!L15*(400435-(85475*'Formula ppm'!O15))/'Formula ppm'!P15 -> 0 | M18: ='Formula ppm'!M15*(400435-(85475*'Formula ppm'!O15))/'Formula ppm'!P15 -> 16.134668 | N18: ='Formula ppm'!N15*(400435-(85475*'Formula ppm'!O15))/'Formula ppm'!P15 -> 0 | O18: =B18/C18 -> 0.074771698 | P18: =SUM(B18:N18) -> 394043.89
A19: 171902056AIAP | B19: ='Formula ppm'!B16*(400435-(85475*'Formula ppm'!O16))/'Formula ppm'!P16 -> 27531.112 | C19: ='Formula ppm'!C16*(400435-(85475*'Formula ppm'!O16))/'Formula ppm'!P16 -> 363286.1 | D19: ='Formula ppm'!D16*(400435-(85475*'Formula ppm'!O16))/'Formula ppm'!P16 -> 0.022471353 | E19: ='Formula ppm'!E16*(400435-(85475*'Formula ppm'!O16))/'Formula ppm'!P16 -> 0.011235677 | F19: ='Formula ppm'!F16*(400435-(85475*'Formula ppm'!O16))/'Formula ppm'!P16 -> 5.2545515 | G19: ='Formula ppm'!G16*(400435-(85475*'Formula ppm'!O16))/'Formula ppm'!P16 -> 6.8462723 | H19: ='Formula ppm'!H16*(400435-(85475*'Formula ppm'!O16))/'Formula ppm'!P16 -> 3.5542191 | I19: ='Formula ppm'!I16*(400435-(85475*'Formula ppm'!O16))/'Formula ppm'!P16 -> 0 | J19: ='Formula ppm'!J16*(400435-(85475*'Formula ppm'!O16))/'Formula ppm'!P16 -> 0 | K19: ='Formula ppm'!K16*(400435-(85475*'Formula ppm'!O16))/'Formula ppm'!P16 -> 3109.099 | L19: ='Formula ppm'!L16*(400435-(85475*'Formula ppm'!O16))/'Formula ppm'!P16 -> 0 | M19: ='Formula ppm'!M16*(400435-(85475*'Formula ppm'!O16))/'Formula ppm'!P16 -> 15.396622 | N19: ='Formula ppm'!N16*(400435-(85475*'Formula ppm'!O16))/'Formula ppm'!P16 -> 0 | O19: =B19/C19 -> 0.075783553 | P19: =SUM(B19:N19) -> 393957.4
A20: 171902056AAMP | B20: ='Formula ppm'!B17*(400435-(85475*'Formula ppm'!O17))/'Formula ppm'!P17 -> 27996.128 | C20: ='Formula ppm'!C17*(400435-(85475*'Formula ppm'!O17))/'Formula ppm'!P17 -> 362792.76 | D20: ='Formula ppm'!D17*(400435-(85475*'Formula ppm'!O17))/'Formula ppm'!P17 -> 0.10423523 | E20: ='Formula ppm'!E17*(400435-(85475*'Formula ppm'!O17))/'Formula ppm'!P17 -> 0.08528337 | F20: ='Formula ppm'!F17*(400435-(85475*'Formula ppm'!O17))/'Formula ppm'!P17 -> 4.8990558 | G20: ='Formula ppm'!G17*(400435-(85475*'Formula ppm'!O17))/'Formula ppm'!P17 -> 6.9790224 | H20: ='Formula ppm'!H17*(400435-(85475*'Formula ppm'!O17))/'Formula ppm'!P17 -> 4.6289918 | I20: ='Formula ppm'!I17*(400435-(85475*'Formula ppm'!O17))/'Formula ppm'!P17 -> 0 | J20: ='Formula ppm'!J17*(400435-(85475*'Formula ppm'!O17))/'Formula ppm'!P17 -> 0 | K20: ='Formula ppm'!K17*(400435-(85475*'Formula ppm'!O17))/'Formula ppm'!P17 -> 3019.3156 | L20: ='Formula ppm'!L17*(400435-(85475*'Formula ppm'!O17))/'Formula ppm'!P17 -> 0 | M20: ='Formula ppm'!M17*(400435-(85475*'Formula ppm'!O17))/'Formula ppm'!P17 -> 14.13335 | N20: ='Formula ppm'!N17*(400435-(85475*'Formula ppm'!O17))/'Formula ppm'!P17 -> 0 | O20: =B20/C20 -> 0.077168376 | P20: =SUM(B20:N20) -> 393839.03
A21: 171902070BT | B21: ='Formula ppm'!B18*(400435-(85475*'Formula ppm'!O18))/'Formula ppm'!P18 -> 25599.384 | C21: ='Formula ppm'!C18*(400435-(85475*'Formula ppm'!O18))/'Formula ppm'!P18 -> 366742.43 | D21: ='Formula ppm'!D18*(400435-(85475*'Formula ppm'!O18))/'Formula ppm'!P18 -> 0 | E21: ='Formula ppm'!E18*(400435-(85475*'Formula ppm'!O18))/'Formula ppm'!P18 -> 0.11888958 | F21: ='Formula ppm'!F18*(400435-(85475*'Formula ppm'!O18))/'Formula ppm'!P18 -> 8.3883204 | G21: ='Formula ppm'!G18*(400435-(85475*'Formula ppm'!O18))/'Formula ppm'!P18 -> 8.1637512 | H21: ='Formula ppm'!H18*(400435-(85475*'Formula ppm'!O18))/'Formula ppm'!P18 -> 15.600955 | I21: ='Formula ppm'!I18*(400435-(85475*'Formula ppm'!O18))/'Formula ppm'!P18 -> 0 | J21: ='Formula ppm'!J18*(400435-(85475*'Formula ppm'!O18))/'Formula ppm'!P18 -> 0 | K21: ='Formula ppm'!K18*(400435-(85475*'Formula ppm'!O18))/'Formula ppm'!P18 -> 2024.6896 | L21: ='Formula ppm'!L18*(400435-(85475*'Formula ppm'!O18))/'Formula ppm'!P18 -> 0 | M21: ='Formula ppm'!M18*(400435-(85475*'Formula ppm'!O18))/'Formula ppm'!P18 -> 69.893864 | N21: ='Formula ppm'!N18*(400435-(85475*'Formula ppm'!O18))/'Formula ppm'!P18 -> 0 | O21: =B21/C21 -> 0.069802079 | P21: =SUM(B21:N21) -> 394468.67
... A174: PRBLASTOID | B174: ='Formula ppm'!B171*(400435-(85475*'Formula ppm'!O171))/'Formula ppm'!P171 -> 8493.7839 | C174: ='Formula ppm'!C171*(400435-(85475*'Formula ppm'!O171))/'Formula ppm'!P171 -> 388997.31 | D174: ='Formula ppm'!D171*(400435-(85475*'Formula ppm'!O171))/'Formula ppm'!P171 -> 0 | E174: ='Formula ppm'!E171*(400435-(85475*'Formula ppm'!O171))/'Formula ppm'!P171 -> 0 | F174: ='Formula ppm'!F171*(400435-(85475*'Formula ppm'!O171))/'Formula ppm'!P171 -> 352.65052 | G174: ='Formula ppm'!G171*(400435-(85475*'Formula ppm'!O171))/'Formula ppm'!P171 -> 195.56293 | H174: ='Formula ppm'!H171*(400435-(85475*'Formula ppm'!O171))/'Formula ppm'!P171 -> 0 | I174: ='Formula ppm'!I171*(400435-(85475*'Formula ppm'!O171))/'Formula ppm'!P171 -> 0 | J174: ='Formula ppm'!J171*(400435-(85475*'Formula ppm'!O171))/'Formula ppm'!P171 -> 0 | K174: ='Formula ppm'!K171*(400435-(85475*'Formula ppm'!O171))/'Formula ppm'!P171 -> 518.31487 | L174: ='Formula ppm'!L171*(400435-(85475*'Formula ppm'!O171))/'Formula ppm'!P171 -> 0 | M174: ='Formula ppm'!M171*(400435-(85475*'Formula ppm'!O171))/'Formula ppm'!P171 -> 11.021011 | N174: ='Formula ppm'!N171*(400435-(85475*'Formula ppm'!O171))/'Formula ppm'!P171 -> 0 | O174: =B174/C174 -> 0.021835071 | P174: =SUM(B174:N174) -> 398568.65
A175: Detection limits, 0.001 | B175: ='Formula ppm'!B172*(400435-(85475*'Formula ppm'!O172))/'Formula ppm'!P172 -> 24227.692 | C175: ='Formula ppm'!C172*(400435-(85475*'Formula ppm'!O172))/'Formula ppm'!P172 -> 24227.692 | D175: ='Formula ppm'!D172*(400435-(85475*'Formula ppm'!O172))/'Formula ppm'!P172 -> 24227.692 | E175: 1e-06 | F175: 1e-06 | G175: 1e-06 | H175: 1e-06 | I175: 1e-06 | J175: 1e-06 | K175: 1e-06 | L175: 1e-06 | M175: 1e-06 | N175: 1e-06 | O175: 1 | P175: 1.3e-05

Sheet (ppm) values only
A1: Rock concentration (ppm) values only, no formulas
B4: 24 Mg [ He ] | C4: 43 Ca [ He ] | D4: 51 V [ He ] | E4: 52 Cr [ He ] | F4: 55 Mn [ He ] | G4: 56 Fe [ He ] | H4: 64 Zn [ He ] | I4: 65 Cu [ He ] | J4: 85 Rb [ He ] | K4: 88 Sr [ He ] | L4: 98 Mo [ He ] | M4: 137 Ba [ No Gas ] | N4: 208 Pb [ No Gas ]
A5: Sample Name | B5: Conc. [ ppm ] | C5: Conc. [ ppm ] | D5: Conc. [ ppm ] | E5: Conc. [ ppm ] | F5: Conc. [ ppm ] | G5: Conc. [ ppm ] | H5: Conc. [ ppm ] | I5: Conc. [ ppm ] | J5: Conc. [ ppm ] | K5: Conc. [ ppm ] | L5: Conc. [ ppm ] | M5: Conc. [ ppm ] | N5: Conc. [ ppm ]
A6: 171902056AT | B6: 29291.347 | C6: 361169.92 | D6: 0 | E6: 0 | F6: 10.154628 | G6: 7.1291605 | H6: 25.032526 | I6: 0 | J6: 0 | K6: 2974.4692 | L6: 0 | M6: 22.642729 | N6: 2.1725433
A7: 171902056AR | B7: 26701.644 | C7: 364978.07 | D7: 0 | E7: 0 | F7: 9.8698676 | G7: 7.7715493 | H7: 1.4506892 | I7: 0 | J7: 0 | K7: 2471.1713 | L7: 0 | M7: 11.709134 | N7: 0
A8: 171902056AE | B8: 26447.999 | C8: 365045.82 | D8: 0 | E8: 0 | F8: 11.892639 | G8: 6.422025 | H8: 10.965833 | I8: 0 | J8: 0 | K8: 2701.1874 | L8: 0 | M8: 17.945582 | N8: 0
A9: 171902056AD | B9: 23107.348 | C9: 369001.96 | D9: 0 | E9: 0 | F9: 9.9041357 | G9: 7.2021429 | H9: 11.607152 | I9: 0 | J9: 0 | K9: 2922.7761 | L9: 0 | M9: 21.653999 | N9: 0
A10: 171902056ASPM | B10: 17396.927 | C10: 376664.59 | D10: 0 | E10: 0 | F10: 0.57590337 | G10: 6.5106998 | H10: 2.5354707 | I10: 0 | J10: 0 | K10: 2413.9513 | L10: 0 | M10: 2.0904545 | N10: 0
A11: 171902056ASPD | B11: 18045.911 | C11: 375975.37 | D11: 0 | E11: 0 | F11: 0.85674706 | G11: 7.1332125 | H11: 0.27923608 | I11: 0 | J11: 0 | K11: 2301.5907 | L11: 0 | M11: 1.2692549 | N11: 0
A12: 171902056ASPP | B12: 16907.712 | C12: 377393.37 | D12: 0.019783995 | E12: 0.28357059 | F12: 0.87709044 | G12: 7.636622 | H12: 2.45981 | I12: 0.63308783 | J12: 0 | K12: 2290.3073 | L12: 0 | M12: 2.3147274 | N12: 0
A13: 171902056AAMD | B13: 27998.208 | C13: 362703.99 | D13: 0 | E13: 0 | F13: 3.4833684 | G13: 6.379865 | H13: 2.8349697 | I13: 0 | J13: 0 | K13: 3104.9875 | L13: 0 | M13: 17.042948 | N13: 0
A14: 171902056AIAD | B14: 27192.087 | C14: 363668.18 | D14: 0.0074301949 | E14: 0.20061526 | F14: 5.1974214 | G14: 6.8283491 | H14: 7.549078 | I14: 0.57212501 | J14: 0 | K14: 3147.1296 | L14: 0 | M14: 16.134668 | N14: 0
A15: 171902056AIAP | B15: 27531.112 | C15: 363286.1 | D15: 0.022471353 | E15: 0.011235677 | F15: 5.2545515 | G15: 6.8462723 | H15: 3.5542191 | I15: 0 | J15: 0 | K15: 3109.099 | L15: 0 | M15: 15.396622 | N15: 0
A16: 171902056AAMP | B16: 27996.128 | C16: 362792.76 | D16: 0.10423523 | E16: 0.08528337 | F16: 4.8990558 | G16: 6.9790224 | H16: 4.6289918 | I16: 0 | J16: 0 | K16: 3019.3156 | L16: 0 | M16: 14.13335 | N16: 0
A17: 171902070BT | B17: 25599.384 | C17: 366742.43 | D17: 0 | E17: 0.11888958 | F17: 8.3883204 | G17: 8.1637512 | H17: 15.600955 | I17: 0 | J17: 0 | K17: 2024.6896 | L17: 0 | M17: 69.893864 | N17: 0
... A170: PRBLASTOID | B170: 8493.7839 | C170: 388997.31 | D170: 0 | E170: 0 | F170: 352.65052 | G170: 195.56293 | H170: 0 | I170: 0 | J170: 0 | K170: 518.31487 | L170: 0 | M170: 11.021011 | N170: 0
