Workbook

Sheet Raw Data
A1: Analysis run on Agilent 770 ICP-MS at Gustavus Adolphus College
A2: Internal standard GAC-1 prepared by Inorganic Ventures
A3: Error within +/-5%
A4: Blanks indicate start of new run
B8: 24 Mg [ He ] | D8: 43 Ca [ He ] | F8: 44 Ca [ He ] | H8: 51 V [ He ] | J8: 52 Cr [ He ] | L8: 54 Fe [ He ] | N8: 55 Mn [ He ] | P8: 56 Fe [ He ] | R8: 63 Cu [ He ] | T8: 64 Zn [ He ] | V8: 65 Cu [ He ] | X8: 66 Zn [ He ] | Z8: 85 Rb [ He ] | AB8: 88 Sr [ He ] | AD8: 95 Mo [ No Gas ] | AF8: 95 Mo [ He ] | AH8: 98 Mo [ No Gas ] | AJ8: 98 Mo [ He ] | AL8: 118 [In] [ No Gas ] | AN8: 137 Ba [ No Gas ] | AP8: 206 [Pb] [ No Gas ] | AR8: 207 [Pb] [ No Gas ] | AT8: 208 Pb [ No Gas ] | AV8: 9 Be ( ISTD ) [ He ] | AW8: 45 Sc ( ISTD ) [ He ] | AX8: 71 Ga ( ISTD ) [ No Gas ] | AY8: 115 In ( ISTD ) [ No Gas ] | AZ8: 115 In ( ISTD ) [ He ] | BA8: 159 Tb ( ISTD ) [ No Gas ] | BB8: 209 Bi ( ISTD ) [ No Gas ]
A9: Sample Name | B9: CPS | C9: Conc. [ ppb ] | D9: CPS | E9: Conc. [ ppb ] | F9: CPS | G9: Conc. [ ppb ] | H9: CPS | I9: Conc. [ ppb ] | J9: CPS | K9: Conc. [ ppb ] | L9: CPS | M9: Conc. [ ppb ] | N9: CPS | O9: Conc. [ ppb ] | P9: CPS | Q9: Conc. [ ppb ] | R9: CPS | S9: Conc. [ ppb ] | T9: CPS | U9: Conc. [ ppb ] | V9: CPS | W9: Conc. [ ppb ] | X9: CPS | Y9: Conc. [ ppb ] | Z9: CPS | AA9: Conc. [ ppb ] | AB9: CPS | AC9: Conc. [ ppb ] | AD9: CPS | AE9: Conc. [ ppb ] | AF9: CPS | AG9: Conc. [ ppb ] | AH9: CPS | AI9: Conc. [ ppb ] | AJ9: CPS | AK9: Conc. [ ppb ] | AL9: CPS | AM9: Conc. [ ppb ] | AN9: CPS | AO9: Conc. [ ppb ] | AP9: CPS | AQ9: Conc. [ ppb ] | AR9: CPS | AS9: Conc. [ ppb ] | AT9: CPS | AU9: Conc. [ ppb ] | AV9: CPS | AW9: CPS | AX9: CPS | AY9: CPS | AZ9: CPS | BA9: CPS | BB9: CPS
A10: blank | B10: 3947 | D10: 127 | F10: 1490 | H10: 91 | J10: 934 | L10: 2300 | N10: 387 | P10: 33739 | R10: 18876 | T10: 3694 | V10: 9820 | X10: 2057 | Z10: 140 | AB10: 2340 | AD10: 357 | AF10: 23 | AH10: 543 | AJ10: 23 | AL10: 4171 | AN10: 15035 | AP10: 8825 | AR10: 7471 | AT10: 34776 | AV10: 4578 | AW10: 92284 | AX10: 5057690 | AY10: 13094213 | AZ10: 2046862 | BA10: 14486370 | BB10: 6997409
A11: blank | B11: -167 | C11: <0.000 | D11: -40 | E11: <0.000 | F11: -13 | G11: <0.000 | H11: 18 | I11: 0.007 | J11: 148 | K11: 0.026 | L11: 267 | M11: 0.095 | N11: -20 | O11: <0.000 | P11: 6474 | Q11: 0.13 | R11: 6303 | S11: 0.669 | T11: 503 | U11: 0.254 | V11: 2572 | W11: 0.532 | X11: 550 | Y11: 0.444 | Z11: 3 | AA11: 0.001 | AB11: 296 | AC11: 0.04 | AD11: -13 | AE11: <0.000 | AF11: 11 | AG11: 0.006 | AH11: -83 | AI11: <0.000 | AJ11: 20 | AK11: 0.006 | AL11: 464 | AN11: 6602 | AO11: 0.366 | AP11: 1539 | AR11: 1340 | AT11: 5742 | AU11: 0.06 | AV11: 4631 | AW11: 89683 | AX11: 5186224 | AY11: 13422275 | AZ11: 2061298 | BA11: 14918493 | BB11: 7278998
A12: ME5 | B12: 155123 | C12: 220.407 | D12: 18455 | E12: 10512.722 | F12: 323626 | G12: 10267.58 | H12: -56 | I12: <0.000 | J12: -414 | K12: <0.000 | L12: 17547 | M12: 5.025 | N12: 2814 | O12: 0.481 | P12: 337260 | Q12: 5.447 | R12: 18411 | S12: 1.576 | T12: -874 | U12: <0.000 | V12: 8568 | W12: 1.429 | X12: -363 | Y12: <0.000 | Z12: -73 | AA12: <0.000 | AB12: -591 | AC12: <0.000 | AD12: 729 | AE12: 0.03 | AF12: 56 | AG12: 0.027 | AH12: 977 | AI12: 0.025 | AJ12: 130 | AK12: 0.036 | AL12: 45140 | AN12: -12235 | AO12: <0.000 | AP12: 13576 | AR12: 10298 | AT12: 49318 | AU12: 0.571 | AV12: 5381 | AW12: 111475 | AX12: 5495550 | AY12: 14354127 | AZ12: 2232638 | BA12: 15778347 | BB12: 6547982
A13: ME4 | B13: 1861165 | C13: 2512.814 | D13: 48024 | E13: 25965.317 | F13: 847587 | G13: 25532.641 | H13: -37 | I13: <0.000 | J13: 5738 | K13: 0.784 | L13: 202723 | M13: 55.091 | N13: 1453 | O13: 0.236 | P13: 3775917 | Q13: 57.877 | R13: 157482 | S13: 12.804 | T13: 1220 | U13: 0.469 | V13: 78797 | W13: 12.478 | X13: 970 | Y13: 0.603 | Z13: 313 | AA13: 0.049 | AB13: 1297 | AC13: 0.169 | AD13: 438 | AE13: 0.018 | AF13: 17 | AG13: 0.008 | AH13: 513 | AI13: 0.014 | AJ13: 60 | AK13: 0.017 | AL13: 630 | AN13: -11011 | AO13: <0.000 | AP13: -3388 | AR13: -3005 | AT13: -13531 | AU13: <0.000 | AV13: 5665 | AW13: 117415 | AX13: 5393409 | AY13: 14085107 | AZ13: 2158118 | BA13: 15562823 | BB13: 7210436
A14: ME3 | B14: 13578399 | C14: 20617.441 | D14: 91751 | E14: 49414.797 | F14: 1655614 | G14: 49680.163 | H14: -34 | I14: <0.000 | J14: -241 | K14: <0.000 | L14: 1844950 | M14: 499.491 | N14: 3097 | O14: 0.501 | P14: 32689714 | Q14: 499.208 | R14: -11324 | S14: <0.000 | T14: 1984 | U14: 0.76 | V14: -5926 | W14: <0.000 | X14: 1090 | Y14: 0.673 | Z14: -73 | AA14: <0.000 | AB14: 2396 | AC14: 0.357 | AD14: 354 | AE14: 0.015 | AF14: 39 | AG14: 0.022 | AH14: 567 | AI14: 0.016 | AJ14: 70 | AK14: 0.023 | AL14: 864 | AN14: -11281 | AO14: <0.000 | AP14: 2847 | AR14: 2339 | AT14: 10801 | AU14: 0.124 | AV14: 5074 | AW14: 117870 | AX14: 5166848 | AY14: 13392595 | AZ14: 1884731 | BA14: 14850450 | BB14: 6624358
A15: ME2 | B15: 68473705 | C15: 99866.215 | D15: 205093 | E15: 86926.055 | F15: 3634387 | G15: 85802.565 | H15: 6 | I15: 0.001 | J15: 171 | K15: 0.018 | L15: 3643088 | M15: 775.953 | N15: 14651 | O15: 1.861 | P15: 65825298 | Q15: 790.305 | R15: 7692 | S15: 0.488 | T15: 9092 | U15: 2.742 | V15: 3329 | W15: 0.415 | X15: 5789 | Y15: 2.811 | Z15: -10 | AA15: <0.000 | AB15: 8413 | AC15: 1.298 | AD15: 623 | AE15: 0.029 | AF15: 93 | AG15: 0.055 | AH15: 1210 | AI15: 0.036 | AJ15: 143 | AK15: 0.048 | AL15: 1627 | AN15: -8637 | AO15: <0.000 | AP15: 6829 | AR15: 5876 | AT15: 26438 | AU15: 0.346 | AV15: 5241 | AW15: 149969 | AX15: 4919775 | AY15: 12619841 | AZ15: 1821189 | BA15: 14038553 | BB15: 5803435
A16: TRRE4 | B16: 1437 | C16: 1.834 | D16: 297 | E16: 146.939 | F16: 3191 | G16: 88.027 | H16: 16597 | I16: 4.841 | J16: 43818 | K16: 5.491 | L16: 1567 | M16: 0.393 | N16: 34244 | O16: 5.1 | P16: 5084 | Q16: 0.072 | R16: 95114 | S16: 7.094 | T16: 12289 | U16: 4.338 | V16: 46616 | W16: 6.774 | X16: 8514 | Y16: 4.842 | Z16: 36082 | AA16: 4.792 | AB16: 439687 | AC16: 49.031 | AD16: 124544 | AE16: 4.92 | AF16: 10814 | AG16: 4.586 | AH16: 196616 | AI16: 4.946 | AJ16: 18235 | AK16: 4.475 | AL16: 2961 | AN16: 68644 | AO16: 3.535 | AP16: 123490 | AR16: 108626 | AT16: 497461 | AU16: 4.89 | AV16: 5938 | AW16: 128062 | AX16: 5846644 | AY16: 14743511 | AZ16: 2521817 | BA16: 16070786 | BB16: 7717748
A17: TRRE3 | B17: 100 | C17: 0.138 | D17: 2957 | E17: 1633.863 | F17: 28698 | G17: 883.472 | H17: 149309 | I17: 48.529 | J17: 372925 | K17: 52.059 | L17: 12454 | M17: 3.461 | N17: 314728 | O17: 52.234 | P17: 6369 | Q17: 0.1 | R17: 731374 | S17: 60.784 | T17: 128677 | U17: 50.618 | V17: 363322 | W17: 58.8 | X17: 84094 | Y17: 53.298 | Z17: 340518 | AA17: 47.745 | AB17: 4117770 | AC17: 484.694 | AD17: 1254152 | AE17: 48.83 | AF17: 99180 | AG17: 44.382 | AH17: 2037498 | AI17: 50.516 | AJ17: 167070 | AK17: 43.288 | AL17: -330 | AN17: 807614 | AO17: 40.295 | AP17: 1285736 | AR17: 1119641 | AT17: 5174655 | AU17: 49.944 | AV17: 5798 | AW17: 114900 | AX17: 5890841 | AY17: 14960414 | AZ17: 2389076 | BA17: 16588194 | BB17: 7860156
A18: TRRE2 | B18: 87 | C18: 0.1 | D18: 6742 | E18: 3414.555 | F18: 64645 | G18: 1824.806 | H18: 323866 | I18: 96.596 | J18: 789430 | K18: 101.139 | L18: 25704 | M18: 6.554 | N18: 672039 | O18: 102.33 | P18: -1851 | Q18: <0.000 | R18: 1417200 | S18: 108.105 | T18: 269144 | U18: 97.177 | V18: 694819 | W18: 103.241 | X18: 173695 | Y18: 101.054 | Z18: 723206 | AA18: 97.112 | AB18: 8553892 | AC18: 964.988 | AD18: 2469090 | AE18: 99.787 | AF18: 220722 | AG18: 94.585 | AH18: 3928560 | AI18: 101.1 | AJ18: 372811 | AK18: 92.457 | AL18: -607 | AN18: 1628416 | AO18: 84.487 | AP18: 2546312 | AR18: 2230898 | AT18: 10122229 | AU18: 100.663 | AV18: 6302 | AW18: 125206 | AX18: 5557105 | AY18: 14409890 | AZ18: 2495633 | BA18: 15951397 | BB18: 7627968
A19: TRRE1 | B19: 14481 | C19: 17.49 | D19: 44960 | E19: 22390.738 | F19: 429617 | G19: 11906.49 | H19: 2052467 | I19: 600.691 | J19: 4772013 | K19: 599.634 | L19: 151282 | M19: 37.852 | N19: 4011143 | O19: 599.425 | P19: 7308 | Q19: 0.103 | R19: 7986278 | S19: 597.733 | T19: 1694154 | U19: 600.425 | V19: 4106033 | W19: 598.712 | X19: 1050234 | Y19: 599.551 | Z19: 4408668 | AA19: 600.671 | AB19: 52521734 | AC19: 6007.119 | AD19: 14909146 | AE19: 600.134 | AF19: 1382719 | AG19: 601.374 | AH19: 23402454 | AI19: 599.774 | AJ19: 2390428 | AK19: 601.821 | AL19: 47 | AN19: 11596456 | AO19: 603.406 | AP19: 14951645 | AR19: 12887284 | AT19: 59374034 | AU19: 599.895 | AV19: 6335 | AW19: 127658 | AX19: 5592510 | AY19: 14468605 | AZ19: 2458589 | BA19: 15904042 | BB19: 7507948
A20: Blank | B20: 3214 | C20: 4.686 | D20: 103 | E20: 61.412 | F20: 1390 | G20: 46.19 | H20: 219 | I20: 0.077 | J20: 1331 | K20: 0.2 | L20: 2677 | M20: 0.802 | N20: 510 | O20: 0.091 | P20: 39671 | Q20: 0.67 | R20: 13940 | S20: 1.25 | T20: 2930 | U20: 1.244 | V20: 6622 | W20: 1.156 | X20: 1790 | Y20: 1.224 | Z20: 320 | AA20: 0.049 | AB20: 3438 | AC20: 0.441 | AD20: 29931 | AE20: 1.298 | AF20: 2279 | AG20: 1.115 | AH20: 48209 | AI20: 1.331 | AJ20: 3997 | AK20: 1.132 | AL20: 3511 | AN20: 8356 | AO20: 0.472 | AP20: 9468 | AR20: 8077 | AT20: 37445 | AU20: 0.413 | AV20: 5248 | AW20: 106485 | AX20: 5175482 | AY20: 13431481 | AZ20: 2186684 | BA20: 14659049 | BB20: 6881698
A21: 171902056AT | B21: 2650615 | C21: 3640.279 | D21: 87963 | E21: 44885.586 | F21: 1628511 | G21: 46284.596 | H21: -23 | I21: <0.000 | J21: -11 | K21: <0.000 | L21: 270 | M21: 0.069 | N21: 8233 | O21: 1.262 | P21: 61284 | Q21: 0.886 | R21: -2822 | S21: <0.000 | T21: 8565 | U21: 3.111 | V21: -660 | W21: <0.000 | X21: 5288 | Y21: 3.094 | Z21: -17 | AA21: <0.000 | AB21: 2693431 | AC21: 369.662 | AD21: -20949 | AE21: <0.000 | AF21: -1424 | AG21: <0.000 | AH21: -33034 | AI21: <0.000 | AJ21: -2601 | AK21: <0.000 | AL21: 142715 | AN21: 47061 | AO21: 2.814 | AP21: 5454 | AR21: 4956 | AT21: 21911 | AU21: 0.27 | AV21: 5575 | AW21: 124432 | AX21: 4844963 | AY21: 12471282 | AZ21: 2049127 | BA21: 13841197 | BB21: 6149085
A22: 171902056AR | B22: 736336 | C22: 1030.746 | D22: 26698 | E22: 14089.008 | F22: 449938 | G22: 13215.059 | H22: -80 | I22: <0.000 | J22: -244 | K22: <0.000 | L22: 170 | M22: 0.046 | N22: 2404 | O22: 0.381 | P22: 20061 | Q22: 0.3 | R22: -7559 | S22: <0.000 | T22: 167 | U22: 0.056 | V22: -3245 | W22: <0.000 | X22: 133 | Y22: 0.077 | Z22: -190 | AA22: <0.000 | AB22: 760571 | AC22: 95.393 | AD22: -24750 | AE22: <0.000 | AF22: -1796 | AG22: <0.000 | AH22: -40350 | AI22: <0.000 | AJ22: -3171 | AK22: <0.000 | AL22: 42348 | AN22: 7630 | AO22: 0.452 | AP22: -962 | AR22: -459 | AT22: -3598 | AU22: <0.000 | AV22: 5471 | AW22: 120557 | AX22: 4968128 | AY22: 12611359 | AZ22: 2243053 | BA22: 13976223 | BB22: 6501251
A23: 171902056AE | B23: 2367656 | C23: 3224.65 | D23: 80557 | E23: 44507.905 | F23: 1451986 | G23: 44674.513 | H23: -48 | I23: <0.000 | J23: -369 | K23: <0.000 | L23: -280 | M23: <0.000 | N23: 8750 | O23: 1.45 | P23: 49969 | Q23: 0.783 | R23: -6241 | S23: <0.000 | T23: 3401 | U23: 1.337 | V23: -2998 | W23: <0.000 | X23: 1957 | Y23: 1.244 | Z23: -197 | AA23: <0.000 | AB23: 2326192 | AC23: 329.34 | AD23: -26532 | AE23: <0.000 | AF23: -1949 | AG23: <0.000 | AH23: -42491 | AI23: <0.000 | AJ23: -3494 | AK23: <0.000 | AL23: 190130 | AN23: 37782 | AO23: 2.188 | AP23: -1518 | AR23: -1234 | AT23: -5853 | AU23: <0.000 | AV23: 5621 | AW23: 114974 | AX23: 4978385 | AY23: 12920403 | AZ23: 1986155 | BA23: 14290651 | BB23: 6437818
A24: 171902056AD | B24: 1982007 | C24: 2428.758 | D24: 77505 | E24: 38784.913 | F24: 1400268 | G24: 39018.67 | H24: -67 | I24: <0.000 | J24: -254 | K24: <0.000 | L24: 287 | M24: 0.07 | N24: 6922 | O24: 1.041 | P24: 53368 | Q24: 0.757 | R24: -6298 | S24: <0.000 | T24: 3418 | U24: 1.22 | V24: -2661 | W24: <0.000 | X24: 1797 | Y24: 1.028 | Z24: -213 | AA24: <0.000 | AB24: 2324965 | AC24: 307.206 | AD24: -27382 | AE24: <0.000 | AF24: -2044 | AG24: <0.000 | AH24: -44245 | AI24: <0.000 | AJ24: -3547 | AK24: <0.000 | AL24: 162137 | AN24: 38237 | AO24: 2.276 | AP24: -1393 | AR24: -1187 | AT24: -5903 | AU24: <0.000 | AV24: 6241 | AW24: 126960 | AX24: 4890176 | AY24: 12420589 | AZ24: 2128117 | BA24: 13902565 | BB24: 6265848
A25: 171902056ASPM | B25: 3397947 | C25: 4652.042 | D25: 211360 | E25: 100722.36 | F25: 3715092 | G25: 98625.327 | H25: -54 | I25: <0.000 | J25: -268 | K25: <0.000 | L25: -160 | M25: <0.000 | N25: 1080 | O25: 0.154 | P25: 128864 | Q25: 1.741 | R25: -8909 | S25: <0.000 | T25: 2001 | U25: 0.678 | V25: -3955 | W25: <0.000 | X25: 1070 | Y25: 0.585 | Z25: -183 | AA25: <0.000 | AB25: 4409670 | AC25: 645.505 | AD25: -28060 | AE25: <0.000 | AF25: -2092 | AG25: <0.000 | AH25: -44992 | AI25: <0.000 | AJ25: -3661 | AK25: <0.000 | AL25: 86743 | AN25: 9188 | AO25: 0.559 | AP25: -2321 | AR25: -1868 | AT25: -8858 | AU25: <0.000 | AV25: 5595 | AW25: 133292 | AX25: 4724549 | AY25: 12290222 | AZ25: 1921519 | BA25: 13603087 | BB25: 5955063
A26: 171902056ASPD | B26: 2262213 | C26: 2843.544 | D26: 128482 | E26: 59243.477 | F26: 2342401 | G26: 60166.044 | H26: -54 | I26: <0.000 | J26: -142 | K26: <0.000 | L26: -7 | M26: <0.000 | N26: 980 | O26: 0.135 | P26: 85901 | Q26: 1.124 | R26: -7902 | S26: <0.000 | T26: 127 | U26: 0.044 | V26: -3528 | W26: <0.000 | X26: -127 | Y26: <0.000 | Z26: -147 | AA26: <0.000 | AB26: 2752994 | AC26: 362.668 | AD26: -28275 | AE26: <0.000 | AF26: -2104 | AG26: <0.000 | AH26: -45679 | AI26: <0.000 | AJ26: -3754 | AK26: <0.000 | AL26: 145841 | AN26: 3379 | AO26: 0.2 | AP26: -1778 | AR26: -1541 | AT26: -7002 | AU26: <0.000 | AV26: 6088 | AW26: 137799 | AX26: 4957378 | AY26: 12690945 | AZ26: 2134872 | BA26: 13972522 | BB26: 6141696
A27: 171902056ASPP | B27: 2560976 | C27: 2563.847 | D27: 160667 | E27: 57227.072 | F27: 2785777 | G27: 55260.258 | H27: 18 | I27: 0.003 | J27: 492 | K27: 0.043 | L27: 994 | M27: 0.174 | N27: 1257 | O27: 0.133 | P27: 115219 | Q27: 1.158 | R27: 1331 | S27: 0.062 | T27: 1500 | U27: 0.373 | V27: 964 | W27: 0.096 | X27: 860 | Y27: 0.337 | Z27: -143 | AA27: <0.000 | AB27: 3136099 | AC27: 347.297 | AD27: -28528 | AE27: <0.000 | AF27: -2126 | AG27: <0.000 | AH27: -45812 | AI27: <0.000 | AJ27: -3674 | AK27: <0.000 | AL27: 346864 | AN27: 5918 | AO27: 0.351 | AP27: -1751 | AR27: -1619 | AT27: -7409 | AU27: <0.000 | AV27: 7659 | AW27: 178560 | AX27: 4956934 | AY27: 12902562 | AZ27: 2539035 | BA27: 13961571 | BB27: 6189244
A28: 171902056AAMD | B28: 4690818 | C28: 5915.734 | D28: 178117 | E28: 76635.631 | F28: 3054000 | G28: 73195.515 | H28: -10 | I28: <0.000 | J28: -154 | K28: <0.000 | L28: 300 | M28: 0.065 | N28: 5695 | O28: 0.736 | P28: 110538 | Q28: 1.348 | R28: -5177 | S28: <0.000 | T28: 1957 | U28: 0.599 | V28: -2101 | W28: <0.000 | X28: 957 | Y28: 0.472 | Z28: -167 | AA28: <0.000 | AB28: 4917056 | AC28: 656.052 | AD28: -28593 | AE28: <0.000 | AF28: -2134 | AG28: <0.000 | AH28: -46199 | AI28: <0.000 | AJ28: -3791 | AK28: <0.000 | AL28: 135132 | AN28: 59390 | AO28: 3.601 | AP28: -2197 | AR28: -1791 | AT28: -8193 | AU28: <0.000 | AV28: 6061 | AW28: 147563 | AX28: 4894422 | AY28: 12417963 | AZ28: 2107496 | BA28: 13649936 | BB28: 6006864
A29: 171902056AIAD | B29: 5838785 | C29: 7319.347 | D29: 243803 | E29: 97889.271 | F29: 4250009 | G29: 95042.287 | H29: 9 | I29: 0.002 | J29: 532 | K29: 0.054 | L29: 1224 | M29: 0.247 | N29: 11599 | O29: 1.399 | P29: 161448 | Q29: 1.838 | R29: 2179 | S29: 0.131 | T29: 7113 | U29: 2.032 | V29: 1311 | W29: 0.154 | X29: 3914 | Y29: 1.803 | Z29: -200 | AA29: <0.000 | AB29: 6399098 | AC29: 847.119 | AD29: -28855 | AE29: <0.000 | AF29: -2121 | AG29: <0.000 | AH29: -46289 | AI29: <0.000 | AJ29: -3764 | AK29: <0.000 | AL29: 471165 | AN29: 70476 | AO29: 4.343 | AP29: -1896 | AR29: -1427 | AT29: -7386 | AU29: <0.000 | AV29: 6105 | AW29: 158156 | AX29: 4859453 | AY29: 12241736 | AZ29: 2124216 | BA29: 13428449 | BB29: 5819780
A30: 171902056AIAP | B30: 6333058 | C30: 7350.989 | D30: 233835 | E30: 96999.793 | F30: 4107389 | G30: 94923.277 | H30: 22 | I30: 0.006 | J30: 26 | K30: 0.003 | L30: 577 | M30: 0.121 | N30: 11272 | O30: 1.403 | P30: 155372 | Q30: 1.828 | R30: -7192 | S30: <0.000 | T30: 3214 | U30: 0.949 | V30: -3001 | W30: <0.000 | X30: 1554 | Y30: 0.738 | Z30: -140 | AA30: <0.000 | AB30: 6197720 | AC30: 830.15 | AD30: -28925 | AE30: <0.000 | AF30: -2181 | AG30: <0.000 | AH30: -46646 | AI30: <0.000 | AJ30: -3827 | AK30: <0.000 | AL30: 197605 | AN30: 68223 | AO30: 4.111 | AP30: -1897 | AR30: -1715 | AT30: -8049 | AU30: <0.000 | AV30: 6595 | AW30: 153114 | AX30: 4928695 | AY30: 12533131 | AZ30: 2099406 | BA30: 13734887 | BB30: 5945262
A31: 171902056AAMP | B31: 5013300 | C31: 5908.893 | D31: 183452 | E31: 76571.431 | F31: 3203145 | G31: 74556.439 | H31: 90 | I31: 0.022 | J31: 172 | K31: 0.018 | L31: 577 | M31: 0.119 | N31: 8240 | O31: 1.034 | P31: 124266 | Q31: 1.473 | R31: -1528 | S31: <0.000 | T31: 3288 | U31: 0.977 | V31: -313 | W31: <0.000 | X31: 1607 | Y31: 0.772 | Z31: -197 | AA31: <0.000 | AB31: 4836408 | AC31: 637.26 | AD31: -28893 | AE31: <0.000 | AF31: -2177 | AG31: <0.000 | AH31: -46616 | AI31: <0.000 | AJ31: -3844 | AK31: <0.000 | AL31: 140568 | AN31: 51401 | AO31: 2.983 | AP31: -1826 | AR31: -1575 | AT31: -7761 | AU31: <0.000 | AV31: 6515 | AW31: 152146 | AX31: 5103213 | AY31: 12909860 | AZ31: 2134826 | BA31: 14259810 | BB31: 6128562
A32: 171902070B | B32: 1601362 | C32: 1937.886 | D32: 62427 | E32: 27762.583 | F32: 1076777 | G32: 26676.063 | H32: -47 | I32: <0.000 | J32: 77 | K32: 0.009 | L32: 517 | M32: 0.116 | N32: 4754 | O32: 0.635 | P32: 49043 | Q32: 0.618 | R32: -4450 | S32: <0.000 | T32: 3731 | U32: 1.181 | V32: -2051 | W32: <0.000 | X32: 1897 | Y32: 0.966 | Z32: -243 | AA32: <0.000 | AB32: 1319593 | AC32: 153.27 | AD32: -29021 | AE32: <0.000 | AF32: -2202 | AG32: <0.000 | AH32: -46986 | AI32: <0.000 | AJ32: -3874 | AK32: <0.000 | AL32: 186332 | AN32: 92889 | AO32: 5.291 | AP32: -1778 | AR32: -1285 | AT32: -7129 | AU32: <0.000 | AV32: 6322 | AW32: 142803 | AX32: 5220273 | AY32: 13394670 | AZ32: 2421008 | BA32: 14529579 | BB32: 6548674
A33: 171902070BT | B33: 11581740 | C33: 11061.153 | D33: 491141 | E33: 142696.17 | F33: 8444467 | G33: 136577.7 | H33: 231 | I33: 0.039 | J33: 400 | K33: 0.029 | L33: 1310 | M33: 0.192 | N33: 32601 | O33: 2.85 | P33: 330832 | Q33: 2.726 | R33: -3686 | S33: <0.000 | T33: 5599 | U33: 1.157 | V33: -1107 | W33: <0.000 | X33: 2371 | Y33: 0.791 | Z33: -103 | AA33: <0.000 | AB33: 10200757 | AC33: 1146.52 | AD33: -28925 | AE33: <0.000 | AF33: -2172 | AG33: <0.000 | AH33: -46566 | AI33: <0.000 | AJ33: -3764 | AK33: <0.000 | AL33: 151558 | AN33: 74092 | AO33: 4.528 | AP33: -2007 | AR33: -1889 | AT33: -8551 | AU33: <0.000 | AV33: 8002 | AW33: 218713 | AX33: 5123050 | AY33: 12740285 | AZ33: 2502172 | BA33: 13541446 | BB33: 5537307
A34: 171902070BR | B34: 8468060 | C34: 6962.997 | D34: 304997 | E34: 84005.579 | F34: 5336351 | G34: 81883.279 | H34: 154 | I34: 0.025 | J34: 433 | K34: 0.03 | L34: 1614 | M34: 0.223 | N34: 45632 | O34: 3.774 | P34: 210735 | Q34: 1.646 | R34: -4994 | S34: <0.000 | T34: 5823 | U34: 1.141 | V34: -1894 | W34: <0.000 | X34: 3178 | Y34: 1.004 | Z34: -157 | AA34: <0.000 | AB34: 6553248 | AC34: 655.484 | AD34: -29203 | AE34: <0.000 | AF34: -2169 | AG34: <0.000 | AH34: -46866 | AI34: <0.000 | AJ34: -3811 | AK34: <0.000 | AL34: 107222 | AN34: 42254 | AO34: 2.57 | AP34: -1906 | AR34: -1790 | AT34: -8236 | AU34: <0.000 | AV34: 9300 | AW34: 230527 | AX34: 5133719 | AY34: 12909631 | AZ34: 2811265 | BA34: 13607534 | BB34: 5773250
A35: 171902070BE | B35: 14684663 | C35: 13096.179 | D35: 615240 | E35: 168937.37 | F35: 10486247 | G35: 160426.21 | H35: 183 | I35: 0.03 | J35: 465 | K35: 0.032 | L35: 1937 | M35: 0.265 | N35: 31679 | O35: 2.613 | P35: 384665 | Q35: 2.994 | R35: -3476 | S35: <0.000 | T35: 11711 | U35: 2.29 | V35: -1027 | W35: <0.000 | X35: 6419 | Y35: 2.019 | Z35: -30 | AA35: <0.000 | AB35: 13505685 | AC35: 1542.884 | AD35: -29129 | AE35: <0.000 | AF35: -2148 | AG35: <0.000 | AH35: -46986 | AI35: <0.000 | AJ35: -3807 | AK35: <0.000 | AL35: 259812 | AN35: 105927 | AO35: 6.991 | AP35: -2463 | AR35: -2060 | AT35: -10161 | AU35: <0.000 | AV35: 8586 | AW35: 230919 | AX35: 4880382 | AY35: 11841003 | AZ35: 2462427 | BA35: 12536457 | BB35: 5097774
A36: 171902070BD | B36: 4801299 | C36: 2548.658 | D36: 300608 | E36: 53359.417 | F36: 5231951 | G36: 51788.948 | H36: 207 | I36: 0.018 | J36: 3986 | K36: 0.17 | L36: 5526 | M36: 0.452 | N36: 2464 | O36: 0.131 | P36: 293238 | Q36: 1.425 | R36: 19972 | S36: 0.498 | T36: 7534 | U36: 0.933 | V36: 10103 | W36: 0.498 | X36: 4145 | Y36: 0.814 | Z36: -120 | AA36: <0.000 | AB36: 4490561 | AC36: 323.117 | AD36: -29166 | AE36: <0.000 | AF36: -2136 | AG36: <0.000 | AH36: -46872 | AI36: <0.000 | AJ36: -3797 | AK36: <0.000 | AL36: 1316660 | AN36: -921 | AO36: <0.000 | AP36: -1807 | AR36: -1696 | AT36: -7367 | AU36: <0.000 | AV36: 13815 | AW36: 356992 | AX36: 5240142 | AY36: 13179194 | AZ36: 3854562 | BA36: 14383420 | BB36: 6312936
A37: 171902070BSPM | B37: 4357730 | C37: 4583.697 | D37: 262405 | E37: 90832.758 | F37: 4537441 | G37: 87530.754 | H37: 4 | I37: 0.001 | J37: 461 | K37: 0.04 | L37: 610 | M37: 0.104 | N37: 1343 | O37: 0.14 | P37: 174638 | Q37: 1.717 | R37: 2693 | S37: 0.139 | T37: 523 | U37: 0.128 | V37: 1764 | W37: 0.178 | X37: 53 | Y37: 0.022 | Z37: -217 | AA37: <0.000 | AB37: 5038698 | AC37: 589.69 | AD37: -29287 | AE37: <0.000 | AF37: -2202 | AG37: <0.000 | AH37: -47182 | AI37: <0.000 | AJ37: -3871 | AK37: <0.000 | AL37: 780306 | AN37: 5628 | AO37: 0.339 | AP37: -2306 | AR37: -1847 | AT37: -9179 | AU37: <0.000 | AV37: 7285 | AW37: 183541 | AX37: 5148575 | AY37: 12780138 | AZ37: 2403600 | BA37: 13718339 | BB37: 5828369
A38: 171902070BSPD | B38: 3218313 | C38: 3520.177 | D38: 186179 | E38: 65220.718 | F38: 3218807 | G38: 62789.697 | H38: -24 | I38: <0.000 | J38: 583 | K38: 0.052 | L38: 657 | M38: 0.116 | N38: 1950 | O38: 0.205 | P38: 123917 | Q38: 1.23 | R38: -3396 | S38: <0.000 | T38: 397 | U38: 0.098 | V38: -1114 | W38: <0.000 | X38: -40 | Y38: <0.000 | Z38: -193 | AA38: <0.000 | AB38: 3763245 | AC38: 425.019 | AD38: -29313 | AE38: <0.000 | AF38: -2198 | AG38: <0.000 | AH38: -47159 | AI38: <0.000 | AJ38: -3871 | AK38: <0.000 | AL38: 337480 | AN38: 6589 | AO38: 0.39 | AP38: -2449 | AR38: -2049 | AT38: -9502 | AU38: <0.000 | AV38: 7009 | AW38: 181277 | AX38: 5267752 | AY38: 13058811 | AZ38: 2490906 | BA38: 13971888 | BB38: 6035980
A39: 171902070BSPP | B39: 9904258 | C39: 11178.149 | D39: 373441 | E39: 133748.02 | F39: 6440870 | G39: 128497.99 | H39: 219 | I39: 0.046 | J39: 26 | K39: 0.002 | L39: 1160 | M39: 0.209 | N39: 10871 | O39: 1.169 | P39: 240508 | Q39: 2.442 | R39: -5334 | S39: <0.000 | T39: 7837 | U39: 1.997 | V39: -2268 | W39: <0.000 | X39: 4135 | Y39: 1.698 | Z39: -143 | AA39: <0.000 | AB39: 8866826 | AC39: 1089.039 | AD39: -29141 | AE39: <0.000 | AF39: -2208 | AG39: <0.000 | AH39: -46969 | AI39: <0.000 | AJ39: -3824 | AK39: <0.000 | AL39: 133863 | AN39: 49668 | AO39: 3.035 | AP39: -2267 | AR39: -1938 | AT39: -8702 | AU39: <0.000 | AV39: 6792 | AW39: 177272 | AX39: 5002128 | AY39: 12410421 | AZ39: 2289440 | BA39: 13540000 | BB39: 5629332
A40: 171902070BAMD | B40: 5802149 | C40: 6056.759 | D40: 221983 | E40: 75518.515 | F40: 3841327 | G40: 72807.934 | H40: 216 | I40: 0.043 | J40: 611 | K40: 0.053 | L40: 1177 | M40: 0.201 | N40: 8246 | O40: 0.843 | P40: 151675 | Q40: 1.463 | R40: -4387 | S40: <0.000 | T40: 4368 | U40: 1.058 | V40: -1957 | W40: <0.000 | X40: 2451 | Y40: 0.956 | Z40: -213 | AA40: <0.000 | AB40: 5366122 | AC40: 594.763 | AD40: -29251 | AE40: <0.000 | AF40: -2211 | AG40: <0.000 | AH40: -47032 | AI40: <0.000 | AJ40: -3884 | AK40: <0.000 | AL40: 148336 | AN40: 33796 | AO40: 1.99 | AP40: -2241 | AR40: -1863 | AT40: -9104 | AU40: <0.000 | AV40: 7322 | AW40: 186644 | AX40: 5253366 | AY40: 13041547 | AZ40: 2536711 | BA40: 14051401 | BB40: 5944964
A41: 171902070BIAD | B41: 11334043 | C41: 8821.405 | D41: 411748 | E41: 100107.39 | F41: 7244037 | G41: 98268.066 | H41: 548 | I41: 0.078 | J41: 720 | K41: 0.044 | L41: 3288 | M41: 0.401 | N41: 14922 | O41: 1.09 | P41: 311489 | Q41: 2.144 | R41: 5019 | S41: 0.18 | T41: 12345 | U41: 2.137 | V41: 3175 | W41: 0.222 | X41: 6899 | Y41: 1.926 | Z41: -67 | AA41: <0.000 | AB41: 8904261 | AC41: 850.141 | AD41: -29253 | AE41: <0.000 | AF41: -2172 | AG41: <0.000 | AH41: -47146 | AI41: <0.000 | AJ41: -3797 | AK41: <0.000 | AL41: 92929 | AN41: 42518 | AO41: 2.621 | AP41: -1528 | AR41: -1390 | AT41: -6859 | AU41: <0.000 | AV41: 9874 | AW41: 260472 | AX41: 5315398 | AY41: 12816311 | AZ41: 2941965 | BA41: 13422335 | BB41: 5557896
A42: 171902070BIAP | B42: 9448064 | C42: 7084.527 | D42: 329256 | E42: 82949.28 | F42: 5719689 | G42: 80328.192 | H42: 389 | I42: 0.058 | J42: 426 | K42: 0.027 | L42: 2584 | M42: 0.328 | N42: 20860 | O42: 1.58 | P42: 254306 | Q42: 1.816 | R42: -240 | S42: <0.000 | T42: 7540 | U42: 1.354 | V42: 527 | W42: 0.037 | X42: 4518 | Y42: 1.302 | Z42: -77 | AA42: <0.000 | AB42: 6793159 | AC42: 623.228 | AD42: -29257 | AE42: <0.000 | AF42: -2169 | AG42: <0.000 | AH42: -47232 | AI42: <0.000 | AJ42: -3831 | AK42: <0.000 | AL42: 54055 | AN42: 25558 | AO42: 1.595 | AP42: -1620 | AR42: -1338 | AT42: -6624 | AU42: <0.000 | AV42: 10181 | AW42: 251711 | AX42: 5335761 | AY42: 12738647 | AZ42: 3065155 | BA42: 13263723 | BB42: 5519136
A43: 171902070BAMP | B43: 10060338 | C43: 8263.411 | D43: 385973 | E43: 104466.35 | F43: 6659862 | G43: 100377.07 | H43: 101 | I43: 0.016 | J43: 1655 | K43: 0.112 | L43: 3008 | M43: 0.403 | N43: 35739 | O43: 2.909 | P43: 288576 | Q43: 2.208 | R43: 11325 | S43: 0.459 | T43: 33285 | U43: 6.394 | V43: 6191 | W43: 0.487 | X43: 20654 | Y43: 6.402 | Z43: -140 | AA43: <0.000 | AB43: 7701298 | AC43: 786.523 | AD43: -29427 | AE43: <0.000 | AF43: -2186 | AG43: <0.000 | AH43: -47232 | AI43: <0.000 | AJ43: -3844 | AK43: <0.000 | AL43: 750959 | AN43: 67085 | AO43: 4.236 | AP43: 1394 | AR43: 1345 | AT43: 5160 | AU43: 0.072 | AV43: 9296 | AW43: 234460 | AX43: 5186803 | AY43: 12599860 | AZ43: 2752084 | BA43: 13101491 | BB43: 5408708
...

Sheet Processed Data
A1: Data removed for elements with interference
A2: Data now reported as Conc. [ppb], no CPS counts
B5: 24 Mg [ He ] | C5: 43 Ca [ He ] | D5: 51 V [ He ] | E5: 52 Cr [ He ] | F5: 55 Mn [ He ] | G5: 56 Fe [ He ] | H5: 64 Zn [ He ] | I5: 65 Cu [ He ] | J5: 85 Rb [ He ] | K5: 88 Sr [ He ] | L5: 98 Mo [ He ] | M5: 137 Ba [ No Gas ] | N5: 208 Pb [ No Gas ]
A6: Sample Name | B6: Conc. [ ppb ] | C6: Conc. [ ppb ] | D6: Conc. [ ppb ] | E6: Conc. [ ppb ] | F6: Conc. [ ppb ] | G6: Conc. [ ppb ] | H6: Conc. [ ppb ] | I6: Conc. [ ppb ] | J6: Conc. [ ppb ] | K6: Conc. [ ppb ] | L6: Conc. [ ppb ] | M6: Conc. [ ppb ] | N6: Conc. [ ppb ]
A7: 171902056AT | B7: 3640.279 | C7: 44885.586 | D7: <0.000 | E7: <0.000 | F7: 1.262 | G7: 0.886 | H7: 3.111 | I7: <0.000 | J7: <0.000 | K7: 369.662 | L7: <0.000 | M7: 2.814 | N7: 0.27
A8: 171902056AR | B8: 1030.746 | C8: 14089.008 | D8: <0.000 | E8: <0.000 | F8: 0.381 | G8: 0.3 | H8: 0.056 | I8: <0.000 | J8: <0.000 | K8: 95.393 | L8: <0.000 | M8: 0.452 | N8: <0.000
A9: 171902056AE | B9: 3224.65 | C9: 44507.905 | D9: <0.000 | E9: <0.000 | F9: 1.45 | G9: 0.783 | H9: 1.337 | I9: <0.000 | J9: <0.000 | K9: 329.34 | L9: <0.000 | M9: 2.188 | N9: <0.000
A10: 171902056AD | B10: 2428.758 | C10: 38784.913 | D10: <0.000 | E10: <0.000 | F10: 1.041 | G10: 0.757 | H10: 1.22 | I10: <0.000 | J10: <0.000 | K10: 307.206 | L10: <0.000 | M10: 2.276 | N10: <0.000
A11: 171902056ASPM | B11: 4652.042 | C11: 100722.36 | D11: <0.000 | E11: <0.000 | F11: 0.154 | G11: 1.741 | H11: 0.678 | I11: <0.000 | J11: <0.000 | K11: 645.505 | L11: <0.000 | M11: 0.559 | N11: <0.000
A12: 171902056ASPD | B12: 2843.544 | C12: 59243.477 | D12: <0.000 | E12: <0.000 | F12: 0.135 | G12: 1.124 | H12: 0.044 | I12: <0.000 | J12: <0.000 | K12: 362.668 | L12: <0.000 | M12: 0.2 | N12: <0.000
A13: 171902056ASPP | B13: 2563.847 | C13: 57227.072 | D13: 0.003 | E13: 0.043 | F13: 0.133 | G13: 1.158 | H13: 0.373 | I13: 0.096 | J13: <0.000 | K13: 347.297 | L13: <0.000 | M13: 0.351 | N13: <0.000
A14: 171902056AAMD | B14: 5915.734 | C14: 76635.631 | D14: <0.000 | E14: <0.000 | F14: 0.736 | G14: 1.348 | H14: 0.599 | I14: <0.000 | J14: <0.000 | K14: 656.052 | L14: <0.000 | M14: 3.601 | N14: <0.000
A15: 171902056AIAD | B15: 7319.347 | C15: 97889.271 | D15: 0.002 | E15: 0.054 | F15: 1.399 | G15: 1.838 | H15: 2.032 | I15: 0.154 | J15: <0.000 | K15: 847.119 | L15: <0.000 | M15: 4.343 | N15: <0.000
A16: 171902056AIAP | B16: 7350.989 | C16: 96999.793 | D16: 0.006 | E16: 0.003 | F16: 1.403 | G16: 1.828 | H16: 0.949 | I16: <0.000 | J16: <0.000 | K16: 830.15 | L16: <0.000 | M16: 4.111 | N16: <0.000
A17: 171902056AAMP | B17: 5908.893 | C17: 76571.431 | D17: 0.022 | E17: 0.018 | F17: 1.034 | G17: 1.473 | H17: 0.977 | I17: <0.000 | J17: <0.000 | K17: 637.26 | L17: <0.000 | M17: 2.983 | N17: <0.000
A18: 171902070BT | B18: 1937.886 | C18: 27762.583 | D18: <0.000 | E18: 0.009 | F18: 0.635 | G18: 0.618 | H18: 1.181 | I18: <0.000 | J18: <0.000 | K18: 153.27 | L18: <0.000 | M18: 5.291 | N18: <0.000
A19: 171902070BR | B19: 11061.153 | C19: 142696.17 | D19: 0.039 | E19: 0.029 | F19: 2.85 | G19: 2.726 | H19: 1.157 | I19: <0.000 | J19: <0.000 | K19: 1146.52 | L19: <0.000 | M19: 4.528 | N19: <0.000
A20: 171902070BE | B20: 6962.997 | C20: 84005.579 | D20: 0.025 | E20: 0.03 | F20: 3.774 | G20: 1.646 | H20: 1.141 | I20: <0.000 | J20: <0.000 | K20: 655.484 | L20: <0.000 | M20: 2.57 | N20: <0.000
A21: 171902070BD | B21: 13096.179 | C21: 168937.37 | D21: 0.03 | E21: 0.032 | F21: 2.613 | G21: 2.994 | H21: 2.29 | I21: <0.000 | J21: <0.000 | K21: 1542.884 | L21: <0.000 | M21: 6.991 | N21: <0.000
A22: 171902070BSPM | B22: 2548.658 | C22: 53359.417 | D22: 0.018 | E22: 0.17 | F22: 0.131 | G22: 1.425 | H22: 0.933 | I22: 0.498 | J22: <0.000 | K22: 323.117 | L22: <0.000 | M22: <0.000 | N22: <0.000
A23: 171902070BSPD | B23: 4583.697 | C23: 90832.758 | D23: 0.001 | E23: 0.04 | F23: 0.14 | G23: 1.717 | H23: 0.128 | I23: 0.178 | J23: <0.000 | K23: 589.69 | L23: <0.000 | M23: 0.339 | N23: <0.000
A24: 171902070BSPP | B24: 3520.177 | C24: 65220.718 | D24: <0.000 | E24: 0.052 | F24: 0.205 | G24: 1.23 | H24: 0.098 | I24: <0.000 | J24: <0.000 | K24: 425.019 | L24: <0.000 | M24: 0.39 | N24: <0.000
A25: 171902070BAMD | B25: 11178.149 | C25: 133748.02 | D25: 0.046 | E25: 0.002 | F25: 1.169 | G25: 2.442 | H25: 1.997 | I25: <0.000 | J25: <0.000 | K25: 1089.039 | L25: <0.000 | M25: 3.035 | N25: <0.000
A26: 171902070BIAD | B26: 6056.759 | C26: 75518.515 | D26: 0.043 | E26: 0.053 | F26: 0.843 | G26: 1.463 | H26: 1.058 | I26: <0.000 | J26: <0.000 | K26: 594.763 | L26: <0.000 | M26: 1.99 | N26: <0.000
A27: 171902070BIAP | B27: 8821.405 | C27: 100107.39 | D27: 0.078 | E27: 0.044 | F27: 1.09 | G27: 2.144 | H27: 2.137 | I27: 0.222 | J27: <0.000 | K27: 850.141 | L27: <0.000 | M27: 2.621 | N27: <0.000
A28: 171902070BAMP | B28: 7084.527 | C28: 82949.28 | D28: 0.058 | E28: 0.027 | F28: 1.58 | G28: 1.816 | H28: 1.354 | I28: 0.037 | J28: <0.000 | K28: 623.228 | L28: <0.000 | M28: 1.595 | N28: <0.000
A29: 171902070CT | B29: 8263.411 | C29: 104466.35 | D29: 0.016 | E29: 0.112 | F29: 2.909 | G29: 2.208 | H29: 6.394 | I29: 0.487 | J29: <0.000 | K29: 786.523 | L29: <0.000 | M29: 4.236 | N29: 0.072
A30: 171902070CR | B30: 7313.506 | C30: 106651.99 | D30: 0.03 | E30: 0.011 | F30: 2.037 | G30: 2.052 | H30: 1.502 | I30: <0.000 | J30: <0.000 | K30: 871.277 | L30: <0.000 | M30: 3.435 | N30: <0.000
A31: 171902070CE | B31: 3519.304 | C31: 41017.719 | D31: 0.02 | E31: 0.011 | F31: 1.347 | G31: 0.877 | H31: 0.451 | I31: <0.000 | J31: <0.000 | K31: 288.287 | L31: <0.000 | M31: 1.273 | N31: <0.000
A32: 171902070CD | B32: 11946.201 | C32: 143547.29 | D32: 0.032 | E32: 0.01 | F32: 2.872 | G32: 2.512 | H32: 1.873 | I32: <0.000 | J32: <0.000 | K32: 1229.587 | L32: <0.000 | M32: 5.911 | N32: <0.000
A33: 171902070CSPM | B33: 1101.014 | C33: 25596.4 | D33: 0.017 | E33: 0.054 | F33: 0.054 | G33: 0.764 | H33: 0.482 | I33: 0.173 | J33: <0.000 | K33: 149.197 | L33: <0.000 | M33: <0.000 | N33: <0.000
A34: 171902070CSPD | B34: 1907.262 | C34: 34716.178 | D34: <0.000 | E34: 0.011 | F34: 0.105 | G34: 0.694 | H34: 0.086 | I34: <0.000 | J34: <0.000 | K34: 215.782 | L34: <0.000 | M34: <0.000 | N34: <0.000
A35: 171902070CSPP | B35: 5966.289 | C35: 115613.56 | D35: 0.021 | E35: 0.041 | F35: 0.213 | G35: 2.244 | H35: 0.461 | I35: 0.197 | J35: <0.000 | K35: 855.057 | L35: <0.000 | M35: 0.89 | N35: <0.000
A36: 171902070CAMD | B36: 7688.174 | C36: 78126.296 | D36: 0.007 | E36: 0.008 | F36: 0.897 | G36: 1.404 | H36: 0.892 | I36: <0.000 | J36: <0.000 | K36: 630.405 | L36: <0.000 | M36: 2.213 | N36: <0.000
A37: 171902070CIAD | B37: 7713.699 | C37: 90106.833 | D37: 0.015 | E37: 0.007 | F37: 1.163 | G37: 1.637 | H37: 1.258 | I37: <0.000 | J37: <0.000 | K37: 756.094 | L37: <0.000 | M37: 2.843 | N37: <0.000
A38: 171902070CIAP | B38: 9428.914 | C38: 106321.03 | D38: 0.057 | E38: 0.011 | F38: 1.973 | G38: 1.886 | H38: 1.061 | I38: <0.000 | J38: <0.000 | K38: 873.519 | L38: <0.000 | M38: 2.438 | N38: <0.000
A39: 171902070CAMP | B39: 13023.813 | C39: 132337.29 | D39: 0.079 | E39: 0.061 | F39: 1.877 | G39: 2.675 | H39: 2.44 | I39: 0.161 | J39: <0.000 | K39: 1191.047 | L39: <0.000 | M39: 3.473 | N39: <0.000
A40: 171902070AT | B40: 7056.161 | C40: 86202.495 | D40: 0.034 | E40: 0.107 | F40: 1.534 | G40: 1.994 | H40: 3.263 | I40: 0.434 | J40: <0.000 | K40: 638.721 | L40: <0.000 | M40: 2.425 | N40: <0.000
A41: 171902070AR | B41: 7176.919 | C41: 90127.904 | D41: 0.045 | E41: 0.034 | F41: 1.067 | G41: 1.666 | H41: 0.629 | I41: <0.000 | J41: <0.000 | K41: 801.971 | L41: <0.000 | M41: 2.871 | N41: <0.000
A42: 171902070AE | B42: 7203.513 | C42: 74823.946 | D42: 0.035 | E42: 0.065 | F42: 1.107 | G42: 1.615 | H42: 0.872 | I42: 0.039 | J42: 0.002 | K42: 669.42 | L42: <0.000 | M42: 2.608 | N42: <0.000
...

Sheet Formula ppm
A1: Data calculated in ppm --> data/1000
A2: Columns added for Mg/Ca ratio and sum of all concentrations
B5: 24 Mg [ He ] | C5: 43 Ca [ He ] | D5: 51 V [ He ] | E5: 52 Cr [ He ] | F5: 55 Mn [ He ] | G5: 56 Fe [ He ] | H5: 64 Zn [ He ] | I5: 65 Cu [ He ] | J5: 85 Rb [ He ] | K5: 88 Sr [ He ] | L5: 98 Mo [ He ] | M5: 137 Ba [ No Gas ] | N5: 208 Pb [ No Gas ] | O5: Mg/Ca | P5: Sum
A6: Sample Name | B6: Conc. [ ppm ] | C6: Conc. [ ppm ] | D6: Conc. [ ppm ] | E6: Conc. [ ppm ] | F6: Conc. [ ppm ] | G6: Conc. [ ppm ] | H6: Conc. [ ppm ] | I6: Conc. [ ppm ] | J6: Conc. [ ppm ] | K6: Conc. [ ppm ] | L6: Conc. [ ppm ] | M6: Conc. [ ppm ] | N6: Conc. [ ppm ]
A7: 171902056AT | B7: ='Processed Data'!B7/1000 -> 3.640279 | C7: ='Processed Data'!C7/1000 -> 44.885586 | F7: ='Processed Data'!F7/1000 -> 0.001262 | G7: ='Processed Data'!G7/1000 -> 0.000886 | H7: ='Processed Data'!H7/1000 -> 0.003111 | K7: ='Processed Data'!K7/1000 -> 0.369662 | M7: ='Processed Data'!M7/1000 -> 0.002814 | N7: ='Processed Data'!N7/1000 -> 0.00027 | O7: =B7/C7 -> 0.081101292 | P7: =SUM(B7:N7) -> 48.90387
A8: 171902056AR | B8: ='Processed Data'!B8/1000 -> 1.030746 | C8: ='Processed Data'!C8/1000 -> 14.089008 | F8: ='Processed Data'!F8/1000 -> 0.000381 | G8: ='Processed Data'!G8/1000 -> 0.0003 | H8: ='Processed Data'!H8/1000 -> 5.6e-05 | K8: ='Processed Data'!K8/1000 -> 0.095393 | M8: ='Processed Data'!M8/1000 -> 0.000452 | O8: =B8/C8 -> 0.073159587 | P8: =SUM(B8:N8) -> 15.216336
A9: 171902056AE | B9: ='Processed Data'!B9/1000 -> 3.22465 | C9: ='Processed Data'!C9/1000 -> 44.507905 | F9: ='Processed Data'!F9/1000 -> 0.00145 | G9: ='Processed Data'!G9/1000 -> 0.000783 | H9: ='Processed Data'!H9/1000 -> 0.001337 | K9: ='Processed Data'!K9/1000 -> 0.32934 | M9: ='Processed Data'!M9/1000 -> 0.002188 | O9: =B9/C9 -> 0.072451175 | P9: =SUM(B9:N9) -> 48.067653
A10: 171902056AD | B10: ='Processed Data'!B10/1000 -> 2.428758 | C10: ='Processed Data'!C10/1000 -> 38.784913 | F10: ='Processed Data'!F10/1000 -> 0.001041 | G10: ='Processed Data'!G10/1000 -> 0.000757 | H10: ='Processed Data'!H10/1000 -> 0.00122 | K10: ='Processed Data'!K10/1000 -> 0.307206 | M10: ='Processed Data'!M10/1000 -> 0.002276 | O10: =B10/C10 -> 0.062621205 | P10: =SUM(B10:N10) -> 41.526171
A11: 171902056ASPM | B11: ='Processed Data'!B11/1000 -> 4.652042 | C11: ='Processed Data'!C11/1000 -> 100.72236 | F11: ='Processed Data'!F11/1000 -> 0.000154 | G11: ='Processed Data'!G11/1000 -> 0.001741 | H11: ='Processed Data'!H11/1000 -> 0.000678 | K11: ='Processed Data'!K11/1000 -> 0.645505 | M11: ='Processed Data'!M11/1000 -> 0.000559 | O11: =B11/C11 -> 0.046186785 | P11: =SUM(B11:N11) -> 106.02304
A12: 171902056ASPD | B12: ='Processed Data'!B12/1000 -> 2.843544 | C12: ='Processed Data'!C12/1000 -> 59.243477 | F12: ='Processed Data'!F12/1000 -> 0.000135 | G12: ='Processed Data'!G12/1000 -> 0.001124 | H12: ='Processed Data'!H12/1000 -> 4.4e-05 | K12: ='Processed Data'!K12/1000 -> 0.362668 | M12: ='Processed Data'!M12/1000 -> 0.0002 | O12: =B12/C12 -> 0.047997588 | P12: =SUM(B12:N12) -> 62.451192
A13: 171902056ASPP | B13: ='Processed Data'!B13/1000 -> 2.563847 | C13: ='Processed Data'!C13/1000 -> 57.227072 | D13: ='Processed Data'!D13/1000 -> 3e-06 | E13: ='Processed Data'!E13/1000 -> 4.3e-05 | F13: ='Processed Data'!F13/1000 -> 0.000133 | G13: ='Processed Data'!G13/1000 -> 0.001158 | H13: ='Processed Data'!H13/1000 -> 0.000373 | I13: ='Processed Data'!I13/1000 -> 9.6e-05 | K13: ='Processed Data'!K13/1000 -> 0.347297 | M13: ='Processed Data'!M13/1000 -> 0.000351 | O13: =B13/C13 -> 0.044801296 | P13: =SUM(B13:N13) -> 60.140373
A14: 171902056AAMD | B14: ='Processed Data'!B14/1000 -> 5.915734 | C14: ='Processed Data'!C14/1000 -> 76.635631 | F14: ='Processed Data'!F14/1000 -> 0.000736 | G14: ='Processed Data'!G14/1000 -> 0.001348 | H14: ='Processed Data'!H14/1000 -> 0.000599 | K14: ='Processed Data'!K14/1000 -> 0.656052 | M14: ='Processed Data'!M14/1000 -> 0.003601 | O14: =B14/C14 -> 0.077192997 | P14: =SUM(B14:N14) -> 83.213701
A15: 171902056AIAD | B15: ='Processed Data'!B15/1000 -> 7.319347 | C15: ='Processed Data'!C15/1000 -> 97.889271 | D15: ='Processed Data'!D15/1000 -> 2e-06 | E15: ='Processed Data'!E15/1000 -> 5.4e-05 | F15: ='Processed Data'!F15/1000 -> 0.001399 | G15: ='Processed Data'!G15/1000 -> 0.001838 | H15: ='Processed Data'!H15/1000 -> 0.002032 | I15: ='Processed Data'!I15/1000 -> 0.000154 | K15: ='Processed Data'!K15/1000 -> 0.847119 | M15: ='Processed Data'!M15/1000 -> 0.004343 | O15: =B15/C15 -> 0.074771698 | P15: =SUM(B15:N15) -> 106.06556
A16: 171902056AIAP | B16: ='Processed Data'!B16/1000 -> 7.350989 | C16: ='Processed Data'!C16/1000 -> 96.999793 | D16: ='Processed Data'!D16/1000 -> 6e-06 | E16: ='Processed Data'!E16/1000 -> 3e-06 | F16: ='Processed Data'!F16/1000 -> 0.001403 | G16: ='Processed Data'!G16/1000 -> 0.001828 | H16: ='Processed Data'!H16/1000 -> 0.000949 | K16: ='Processed Data'!K16/1000 -> 0.83015 | M16: ='Processed Data'!M16/1000 -> 0.004111 | O16: =B16/C16 -> 0.075783553 | P16: =SUM(B16:N16) -> 105.18923
A17: 171902056AAMP | B17: ='Processed Data'!B17/1000 -> 5.908893 | C17: ='Processed Data'!C17/1000 -> 76.571431 | D17: ='Processed Data'!D17/1000 -> 2.2e-05 | E17: ='Processed Data'!E17/1000 -> 1.8e-05 | F17: ='Processed Data'!F17/1000 -> 0.001034 | G17: ='Processed Data'!G17/1000 -> 0.001473 | H17: ='Processed Data'!H17/1000 -> 0.000977 | K17: ='Processed Data'!K17/1000 -> 0.63726 | M17: ='Processed Data'!M17/1000 -> 0.002983 | O17: =B17/C17 -> 0.077168376 | P17: =SUM(B17:N17) -> 83.124091
A18: 171902070BT | B18: ='Processed Data'!B18/1000 -> 1.937886 | C18: ='Processed Data'!C18/1000 -> 27.762583 | E18: ='Processed Data'!E18/1000 -> 9e-06 | F18: ='Processed Data'!F18/1000 -> 0.000635 | G18: ='Processed Data'!G18/1000 -> 0.000618 | H18: ='Processed Data'!H18/1000 -> 0.001181 | K18: ='Processed Data'!K18/1000 -> 0.15327 | M18: ='Processed Data'!M18/1000 -> 0.005291 | O18: =B18/C18 -> 0.069802079 | P18: =SUM(B18:N18) -> 29.861473
A19: 171902070BR | B19: ='Processed Data'!B19/1000 -> 11.061153 | C19: ='Processed Data'!C19/1000 -> 142.69617 | D19: ='Processed Data'!D19/1000 -> 3.9e-05 | E19: ='Processed Data'!E19/1000 -> 2.9e-05 | F19: ='Processed Data'!F19/1000 -> 0.00285 | G19: ='Processed Data'!G19/1000 -> 0.002726 | H19: ='Processed Data'!H19/1000 -> 0.001157 | K19: ='Processed Data'!K19/1000 -> 1.14652 | M19: ='Processed Data'!M19/1000 -> 0.004528 | O19: =B19/C19 -> 0.077515419 | P19: =SUM(B19:N19) -> 154.91517
A20: 171902070BE | B20: ='Processed Data'!B20/1000 -> 6.962997 | C20: ='Processed Data'!C20/1000 -> 84.005579 | D20: ='Processed Data'!D20/1000 -> 2.5e-05 | E20: ='Processed Data'!E20/1000 -> 3e-05 | F20: ='Processed Data'!F20/1000 -> 0.003774 | G20: ='Processed Data'!G20/1000 -> 0.001646 | H20: ='Processed Data'!H20/1000 -> 0.001141 | K20: ='Processed Data'!K20/1000 -> 0.655484 | M20: ='Processed Data'!M20/1000 -> 0.00257 | O20: =B20/C20 -> 0.082887316 | P20: =SUM(B20:N20) -> 91.633246
A21: 171902070BD | B21: ='Processed Data'!B21/1000 -> 13.096179 | C21: ='Processed Data'!C21/1000 -> 168.93737 | D21: ='Processed Data'!D21/1000 -> 3e-05 | E21: ='Processed Data'!E21/1000 -> 3.2e-05 | F21: ='Processed Data'!F21/1000 -> 0.002613 | G21: ='Processed Data'!G21/1000 -> 0.002994 | H21: ='Processed Data'!H21/1000 -> 0.00229 | K21: ='Processed Data'!K21/1000 -> 1.542884 | M21: ='Processed Data'!M21/1000 -> 0.006991 | O21: =B21/C21 -> 0.077520912 | P21: =SUM(B21:N21) -> 183.59138
A22: 171902070BSPM | B22: ='Processed Data'!B22/1000 -> 2.548658 | C22: ='Processed Data'!C22/1000 -> 53.359417 | D22: ='Processed Data'!D22/1000 -> 1.8e-05 | E22: ='Processed Data'!E22/1000 -> 0.00017 | F22: ='Processed Data'!F22/1000 -> 0.000131 | G22: ='Processed Data'!G22/1000 -> 0.001425 | H22: ='Processed Data'!H22/1000 -> 0.000933 | I22: ='Processed Data'!I22/1000 -> 0.000498 | K22: ='Processed Data'!K22/1000 -> 0.323117 | O22: =B22/C22 -> 0.047763978 | P22: =SUM(B22:N22) -> 56.234367
A23: 171902070BSPD | B23: ='Processed Data'!B23/1000 -> 4.583697 | C23: ='Processed Data'!C23/1000 -> 90.832758 | D23: ='Processed Data'!D23/1000 -> 1e-06 | E23: ='Processed Data'!E23/1000 -> 4e-05 | F23: ='Processed Data'!F23/1000 -> 0.00014 | G23: ='Processed Data'!G23/1000 -> 0.001717 | H23: ='Processed Data'!H23/1000 -> 0.000128 | I23: ='Processed Data'!I23/1000 -> 0.000178 | K23: ='Processed Data'!K23/1000 -> 0.58969 | M23: ='Processed Data'!M23/1000 -> 0.000339 | O23: =B23/C23 -> 0.050463039 | P23: =SUM(B23:N23) -> 96.008688
A24: 171902070BSPP | B24: ='Processed Data'!B24/1000 -> 3.520177 | C24: ='Processed Data'!C24/1000 -> 65.220718 | E24: ='Processed Data'!E24/1000 -> 5.2e-05 | F24: ='Processed Data'!F24/1000 -> 0.000205 | G24: ='Processed Data'!G24/1000 -> 0.00123 | H24: ='Processed Data'!H24/1000 -> 9.8e-05 | K24: ='Processed Data'!K24/1000 -> 0.425019 | M24: ='Processed Data'!M24/1000 -> 0.00039 | O24: =B24/C24 -> 0.053973294 | P24: =SUM(B24:N24) -> 69.167889
A25: 171902070BAMD | B25: ='Processed Data'!B25/1000 -> 11.178149 | C25: ='Processed Data'!C25/1000 -> 133.74802 | D25: ='Processed Data'!D25/1000 -> 4.6e-05 | E25: ='Processed Data'!E25/1000 -> 2e-06 | F25: ='Processed Data'!F25/1000 -> 0.001169 | G25: ='Processed Data'!G25/1000 -> 0.002442 | H25: ='Processed Data'!H25/1000 -> 0.001997 | K25: ='Processed Data'!K25/1000 -> 1.089039 | M25: ='Processed Data'!M25/1000 -> 0.003035 | O25: =B25/C25 -> 0.08357618 | P25: =SUM(B25:N25) -> 146.0239
A26: 171902070BIAD | B26: ='Processed Data'!B26/1000 -> 6.056759 | C26: ='Processed Data'!C26/1000 -> 75.518515 | D26: ='Processed Data'!D26/1000 -> 4.3e-05 | E26: ='Processed Data'!E26/1000 -> 5.3e-05 | F26: ='Processed Data'!F26/1000 -> 0.000843 | G26: ='Processed Data'!G26/1000 -> 0.001463 | H26: ='Processed Data'!H26/1000 -> 0.001058 | K26: ='Processed Data'!K26/1000 -> 0.594763 | M26: ='Processed Data'!M26/1000 -> 0.00199 | O26: =B26/C26 -> 0.080202305 | P26: =SUM(B26:N26) -> 82.175487
A27: 171902070BIAP | B27: ='Processed Data'!B27/1000 -> 8.821405 | C27: ='Processed Data'!C27/1000 -> 100.10739 | D27: ='Processed Data'!D27/1000 -> 7.8e-05 | E27: ='Processed Data'!E27/1000 -> 4.4e-05 | F27: ='Processed Data'!F27/1000 -> 0.00109 | G27: ='Processed Data'!G27/1000 -> 0.002144 | H27: ='Processed Data'!H27/1000 -> 0.002137 | I27: ='Processed Data'!I27/1000 -> 0.000222 | K27: ='Processed Data'!K27/1000 -> 0.850141 | M27: ='Processed Data'!M27/1000 -> 0.002621 | O27: =B27/C27 -> 0.088119418 | P27: =SUM(B27:N27) -> 109.78727
A28: 171902070BAMP | B28: ='Processed Data'!B28/1000 -> 7.084527 | C28: ='Processed Data'!C28/1000 -> 82.94928 | D28: ='Processed Data'!D28/1000 -> 5.8e-05 | E28: ='Processed Data'!E28/1000 -> 2.7e-05 | F28: ='Processed Data'!F28/1000 -> 0.00158 | G28: ='Processed Data'!G28/1000 -> 0.001816 | H28: ='Processed Data'!H28/1000 -> 0.001354 | I28: ='Processed Data'!I28/1000 -> 3.7e-05 | K28: ='Processed Data'!K28/1000 -> 0.623228 | M28: ='Processed Data'!M28/1000 -> 0.001595 | O28: =B28/C28 -> 0.085407938 | P28: =SUM(B28:N28) -> 90.663502
A29: 171902070CT | B29: ='Processed Data'!B29/1000 -> 8.263411 | C29: ='Processed Data'!C29/1000 -> 104.46635 | D29: ='Processed Data'!D29/1000 -> 1.6e-05 | E29: ='Processed Data'!E29/1000 -> 0.000112 | F29: ='Processed Data'!F29/1000 -> 0.002909 | G29: ='Processed Data'!G29/1000 -> 0.002208 | H29: ='Processed Data'!H29/1000 -> 0.006394 | I29: ='Processed Data'!I29/1000 -> 0.000487 | K29: ='Processed Data'!K29/1000 -> 0.786523 | M29: ='Processed Data'!M29/1000 -> 0.004236 | N29: ='Processed Data'!N29/1000 -> 7.2e-05 | O29: =B29/C29 -> 0.079101174 | P29: =SUM(B29:N29) -> 113.53272
A30: 171902070CR | B30: ='Processed Data'!B30/1000 -> 7.313506 | C30: ='Processed Data'!C30/1000 -> 106.65199 | D30: ='Processed Data'!D30/1000 -> 3e-05 | E30: ='Processed Data'!E30/1000 -> 1.1e-05 | F30: ='Processed Data'!F30/1000 -> 0.002037 | G30: ='Processed Data'!G30/1000 -> 0.002052 | H30: ='Processed Data'!H30/1000 -> 0.001502 | K30: ='Processed Data'!K30/1000 -> 0.871277 | M30: ='Processed Data'!M30/1000 -> 0.003435 | O30: =B30/C30 -> 0.068573554 | P30: =SUM(B30:N30) -> 114.84584
A31: 171902070CE | B31: ='Processed Data'!B31/1000 -> 3.519304 | C31: ='Processed Data'!C31/1000 -> 41.017719 | D31: ='Processed Data'!D31/1000 -> 2e-05 | E31: ='Processed Data'!E31/1000 -> 1.1e-05 | F31: ='Processed Data'!F31/1000 -> 0.001347 | G31: ='Processed Data'!G31/1000 -> 0.000877 | H31: ='Processed Data'!H31/1000 -> 0.000451 | K31: ='Processed Data'!K31/1000 -> 0.288287 | M31: ='Processed Data'!M31/1000 -> 0.001273 | O31: =B31/C31 -> 0.085799603 | P31: =SUM(B31:N31) -> 44.829289
A32: 171902070CD | B32: ='Processed Data'!B32/1000 -> 11.946201 | C32: ='Processed Data'!C32/1000 -> 143.54729 | D32: ='Processed Data'!D32/1000 -> 3.2e-05 | E32: ='Processed Data'!E32/1000 -> 1e-05 | F32: ='Processed Data'!F32/1000 -> 0.002872 | G32: ='Processed Data'!G32/1000 -> 0.002512 | H32: ='Processed Data'!H32/1000 -> 0.001873 | K32: ='Processed Data'!K32/1000 -> 1.229587 | M32: ='Processed Data'!M32/1000 -> 0.005911 | O32: =B32/C32 -> 0.08322136 | P32: =SUM(B32:N32) -> 156.73629
A33: 171902070CSPM | B33: ='Processed Data'!B33/1000 -> 1.101014 | C33: ='Processed Data'!C33/1000 -> 25.5964 | D33: ='Processed Data'!D33/1000 -> 1.7e-05 | E33: ='Processed Data'!E33/1000 -> 5.4e-05 | F33: ='Processed Data'!F33/1000 -> 5.4e-05 | G33: ='Processed Data'!G33/1000 -> 0.000764 | H33: ='Processed Data'!H33/1000 -> 0.000482 | I33: ='Processed Data'!I33/1000 -> 0.000173 | K33: ='Processed Data'!K33/1000 -> 0.149197 | O33: =B33/C33 -> 0.043014408 | P33: =SUM(B33:N33) -> 26.848155
A34: 171902070CSPD | B34: ='Processed Data'!B34/1000 -> 1.907262 | C34: ='Processed Data'!C34/1000 -> 34.716178 | E34: ='Processed Data'!E34/1000 -> 1.1e-05 | F34: ='Processed Data'!F34/1000 -> 0.000105 | G34: ='Processed Data'!G34/1000 -> 0.000694 | H34: ='Processed Data'!H34/1000 -> 8.6e-05 | K34: ='Processed Data'!K34/1000 -> 0.215782 | O34: =B34/C34 -> 0.054938709 | P34: =SUM(B34:N34) -> 36.840118
A35: 171902070CSPP | B35: ='Processed Data'!B35/1000 -> 5.966289 | C35: ='Processed Data'!C35/1000 -> 115.61356 | D35: ='Processed Data'!D35/1000 -> 2.1e-05 | E35: ='Processed Data'!E35/1000 -> 4.1e-05 | F35: ='Processed Data'!F35/1000 -> 0.000213 | G35: ='Processed Data'!G35/1000 -> 0.002244 | H35: ='Processed Data'!H35/1000 -> 0.000461 | I35: ='Processed Data'!I35/1000 -> 0.000197 | K35: ='Processed Data'!K35/1000 -> 0.855057 | M35: ='Processed Data'!M35/1000 -> 0.00089 | O35: =B35/C35 -> 0.051605444 | P35: =SUM(B35:N35) -> 122.43897
A36: 171902070CAMD | B36: ='Processed Data'!B36/1000 -> 7.688174 | C36: ='Processed Data'!C36/1000 -> 78.126296 | D36: ='Processed Data'!D36/1000 -> 7e-06 | E36: ='Processed Data'!E36/1000 -> 8e-06 | F36: ='Processed Data'!F36/1000 -> 0.000897 | G36: ='Processed Data'!G36/1000 -> 0.001404 | H36: ='Processed Data'!H36/1000 -> 0.000892 | K36: ='Processed Data'!K36/1000 -> 0.630405 | M36: ='Processed Data'!M36/1000 -> 0.002213 | O36: =B36/C36 -> 0.098406995 | P36: =SUM(B36:N36) -> 86.450296
A37: 171902070CIAD | B37: ='Processed Data'!B37/1000 -> 7.713699 | C37: ='Processed Data'!C37/1000 -> 90.106833 | D37: ='Processed Data'!D37/1000 -> 1.5e-05 | E37: ='Processed Data'!E37/1000 -> 7e-06 | F37: ='Processed Data'!F37/1000 -> 0.001163 | G37: ='Processed Data'!G37/1000 -> 0.001637 | H37: ='Processed Data'!H37/1000 -> 0.001258 | K37: ='Processed Data'!K37/1000 -> 0.756094 | M37: ='Processed Data'!M37/1000 -> 0.002843 | O37: =B37/C37 -> 0.085606149 | P37: =SUM(B37:N37) -> 98.583549
A38: 171902070CIAP | B38: ='Processed Data'!B38/1000 -> 9.428914 | C38: ='Processed Data'!C38/1000 -> 106.32103 | D38: ='Processed Data'!D38/1000 -> 5.7e-05 | E38: ='Processed Data'!E38/1000 -> 1.1e-05 | F38: ='Processed Data'!F38/1000 -> 0.001973 | G38: ='Processed Data'!G38/1000 -> 0.001886 | H38: ='Processed Data'!H38/1000 -> 0.001061 | K38: ='Processed Data'!K38/1000 -> 0.873519 | M38: ='Processed Data'!M38/1000 -> 0.002438 | O38: =B38/C38 -> 0.088683436 | P38: =SUM(B38:N38) -> 116.63089
A39: 171902070CAMP | B39: ='Processed Data'!B39/1000 -> 13.023813 | C39: ='Processed Data'!C39/1000 -> 132.33729 | D39: ='Processed Data'!D39/1000 -> 7.9e-05 | E39: ='Processed Data'!E39/1000 -> 6.1e-05 | F39: ='Processed Data'!F39/1000 -> 0.001877 | G39: ='Processed Data'!G39/1000 -> 0.002675 | H39: ='Processed Data'!H39/1000 -> 0.00244 | I39: ='Processed Data'!I39/1000 -> 0.000161 | K39: ='Processed Data'!K39/1000 -> 1.191047 | M39: ='Processed Data'!M39/1000 -> 0.003473 | O39: =B39/C39 -> 0.098413782 | P39: =SUM(B39:N39) -> 146.56291
A40: 171902070AT | B40: ='Processed Data'!B40/1000 -> 7.056161 | C40: ='Processed Data'!C40/1000 -> 86.202495 | D40: ='Processed Data'!D40/1000 -> 3.4e-05 | E40: ='Processed Data'!E40/1000 -> 0.000107 | F40: ='Processed Data'!F40/1000 -> 0.001534 | G40: ='Processed Data'!G40/1000 -> 0.001994 | H40: ='Processed Data'!H40/1000 -> 0.003263 | I40: ='Processed Data'!I40/1000 -> 0.000434 | K40: ='Processed Data'!K40/1000 -> 0.638721 | M40: ='Processed Data'!M40/1000 -> 0.002425 | O40: =B40/C40 -> 0.081855647 | P40: =SUM(B40:N40) -> 93.907168
A41: 171902070AR | B41: ='Processed Data'!B41/1000 -> 7.176919 | C41: ='Processed Data'!C41/1000 -> 90.127904 | D41: ='Processed Data'!D41/1000 -> 4.5e-05 | E41: ='Processed Data'!E41/1000 -> 3.4e-05 | F41: ='Processed Data'!F41/1000 -> 0.001067 | G41: ='Processed Data'!G41/1000 -> 0.001666 | H41: ='Processed Data'!H41/1000 -> 0.000629 | K41: ='Processed Data'!K41/1000 -> 0.801971 | M41: ='Processed Data'!M41/1000 -> 0.002871 | O41: =B41/C41 -> 0.079630377 | P41: =SUM(B41:N41) -> 98.113106
A42: 171902070AE | B42: ='Processed Data'!B42/1000 -> 7.203513 | C42: ='Processed Data'!C42/1000 -> 74.823946 | D42: ='Processed Data'!D42/1000 -> 3.5e-05 | E42: ='Processed Data'!E42/1000 -> 6.5e-05 | F42: ='Processed Data'!F42/1000 -> 0.001107 | G42: ='Processed Data'!G42/1000 -> 0.001615 | H42: ='Processed Data'!H42/1000 -> 0.000872 | I42: ='Processed Data'!I42/1000 -> 3.9e-05 | ... K42: ='Processed Data'!K42/1000 -> 0.66942 | M42: ='Processed Data'!M42/1000 -> 0.002608 | O42: =B42/C42 -> 0.09627283 | P42: =SUM(B42:N42) -> 82.703222
...

Sheet Rock Concentration (ppm)
A1: Concentration in samples calculated using formula below:
B8: 24 Mg [ He ] | C8: 43 Ca [ He ] | D8: 51 V [ He ] | E8: 52 Cr [ He ] | F8: 55 Mn [ He ] | G8: 56 Fe [ He ] | H8: 64 Zn [ He ] | I8: 65 Cu [ He ] | J8: 85 Rb [ He ] | K8: 88 Sr [ He ] | L8: 98 Mo [ He ] | M8: 137 Ba [ No Gas ] | N8: 208 Pb [ No Gas ] | O8: Mg/Ca | P8: Sum
A9: Sample Name | B9: Conc. [ ppm ] | C9: Conc. [ ppm ] | D9: Conc. [ ppm ] | E9: Conc. [ ppm ] | F9: Conc. [ ppm ] | G9: Conc. [ ppm ] | H9: Conc. [ ppm ] | I9: Conc. [ ppm ] | J9: Conc. [ ppm ] | K9: Conc. [ ppm ] | L9: Conc. [ ppm ] | M9: Conc. [ ppm ] | N9: Conc. [ ppm ]
A10: 171902056AT | B10: ='Formula ppm'!B7*(400435-(85475*'Formula ppm'!O7))/'Formula ppm'!P7 -> 29291.347 | C10: ='Formula ppm'!C7*(400435-(85475*'Formula ppm'!O7))/'Formula ppm'!P7 -> 361169.92 | D10: ='Formula ppm'!D7*(400435-(85475*'Formula ppm'!O7))/'Formula ppm'!P7 -> 0 | E10: ='Formula ppm'!E7*(400435-(85475*'Formula ppm'!O7))/'Formula ppm'!P7 -> 0 | F10: ='Formula ppm'!F7*(400435-(85475*'Formula ppm'!O7))/'Formula ppm'!P7 -> 10.154628 | G10: ='Formula ppm'!G7*(400435-(85475*'Formula ppm'!O7))/'Formula ppm'!P7 -> 7.1291605 | H10: ='Formula ppm'!H7*(400435-(85475*'Formula ppm'!O7))/'Formula ppm'!P7 -> 25.032526 | I10: ='Formula ppm'!I7*(400435-(85475*'Formula ppm'!O7))/'Formula ppm'!P7 -> 0 | J10: ='Formula ppm'!J7*(400435-(85475*'Formula ppm'!O7))/'Formula ppm'!P7 -> 0 | K10: ='Formula ppm'!K7*(400435-(85475*'Formula ppm'!O7))/'Formula ppm'!P7 -> 2974.4692 | L10: ='Formula ppm'!L7*(400435-(85475*'Formula ppm'!O7))/'Formula ppm'!P7 -> 0 | M10: ='Formula ppm'!M7*(400435-(85475*'Formula ppm'!O7))/'Formula ppm'!P7 -> 22.642729 | N10: ='Formula ppm'!N7*(400435-(85475*'Formula ppm'!O7))/'Formula ppm'!P7 -> 2.1725433 | O10: =B10/C10 -> 0.081101292 | P10: =SUM(B10:N10) -> 393502.87
A11: 171902056AR | B11: ='Formula ppm'!B8*(400435-(85475*'Formula ppm'!O8))/'Formula ppm'!P8 -> 26701.644 | C11: ='Formula ppm'!C8*(400435-(85475*'Formula ppm'!O8))/'Formula ppm'!P8 -> 364978.07 | D11: ='Formula ppm'!D8*(400435-(85475*'Formula ppm'!O8))/'Formula ppm'!P8 -> 0 | E11: ='Formula ppm'!E8*(400435-(85475*'Formula ppm'!O8))/'Formula ppm'!P8 -> 0 | F11: ='Formula ppm'!F8*(400435-(85475*'Formula ppm'!O8))/'Formula ppm'!P8 -> 9.8698676 | G11: ='Formula ppm'!G8*(400435-(85475*'Formula ppm'!O8))/'Formula ppm'!P8 -> 7.7715493 | H11: ='Formula ppm'!H8*(400435-(85475*'Formula ppm'!O8))/'Formula ppm'!P8 -> 1.4506892 | I11: ='Formula ppm'!I8*(400435-(85475*'Formula ppm'!O8))/'Formula ppm'!P8 -> 0 | J11: ='Formula ppm'!J8*(400435-(85475*'Formula ppm'!O8))/'Formula ppm'!P8 -> 0 | K11: ='Formula ppm'!K8*(400435-(85475*'Formula ppm'!O8))/'Formula ppm'!P8 -> 2471.1713 | L11: ='Formula ppm'!L8*(400435-(85475*'Formula ppm'!O8))/'Formula ppm'!P8 -> 0 | M11: ='Formula ppm'!M8*(400435-(85475*'Formula ppm'!O8))/'Formula ppm'!P8 -> 11.709134 | N11: ='Formula ppm'!N8*(400435-(85475*'Formula ppm'!O8))/'Formula ppm'!P8 -> 0 | O11: =B11/C11 -> 0.073159587 | P11: =SUM(B11:N11) -> 394181.68
A12: 171902056AE | B12: ='Formula ppm'!B9*(400435-(85475*'Formula ppm'!O9))/'Formula ppm'!P9 -> 26447.999 | C12: ='Formula ppm'!C9*(400435-(85475*'Formula ppm'!O9))/'Formula ppm'!P9 -> 365045.82 | D12: ='Formula ppm'!D9*(400435-(85475*'Formula ppm'!O9))/'Formula ppm'!P9 -> 0 | E12: ='Formula ppm'!E9*(400435-(85475*'Formula ppm'!O9))/'Formula ppm'!P9 -> 0 | F12: ='Formula ppm'!F9*(400435-(85475*'Formula ppm'!O9))/'Formula ppm'!P9 -> 11.892639 | G12: ='Formula ppm'!G9*(400435-(85475*'Formula ppm'!O9))/'Formula ppm'!P9 -> 6.422025 | H12: ='Formula ppm'!H9*(400435-(85475*'Formula ppm'!O9))/'Formula ppm'!P9 -> 10.965833 | I12: ='Formula ppm'!I9*(400435-(85475*'Formula ppm'!O9))/'Formula ppm'!P9 -> 0 | J12: ='Formula ppm'!J9*(400435-(85475*'Formula ppm'!O9))/'Formula ppm'!P9 -> 0 | K12: ='Formula ppm'!K9*(400435-(85475*'Formula ppm'!O9))/'Formula ppm'!P9 -> 2701.1874 | L12: ='Formula ppm'!L9*(400435-(85475*'Formula ppm'!O9))/'Formula ppm'!P9 -> 0 | M12: ='Formula ppm'!M9*(400435-(85475*'Formula ppm'!O9))/'Formula ppm'!P9 -> 17.945582 | N12: ='Formula ppm'!N9*(400435-(85475*'Formula ppm'!O9))/'Formula ppm'!P9 -> 0 | O12: =B12/C12 -> 0.072451175 | P12: =SUM(B12:N12) -> 394242.24
A13: 171902056AD | B13: ='Formula ppm'!B10*(400435-(85475*'Formula ppm'!O10))/'Formula ppm'!P10 -> 23107.348 | C13: ='Formula ppm'!C10*(400435-(85475*'Formula ppm'!O10))/'Formula ppm'!P10 -> 369001.96 | D13: ='Formula ppm'!D10*(400435-(85475*'Formula ppm'!O10))/'Formula ppm'!P10 -> 0 | E13: ='Formula ppm'!E10*(400435-(85475*'Formula ppm'!O10))/'Formula ppm'!P10 -> 0 | F13: ='Formula ppm'!F10*(400435-(85475*'Formula ppm'!O10))/'Formula ppm'!P10 -> 9.9041357 | G13: ='Formula ppm'!G10*(400435-(85475*'Formula ppm'!O10))/'Formula ppm'!P10 -> 7.2021429 | H13: ='Formula ppm'!H10*(400435-(85475*'Formula ppm'!O10))/'Formula ppm'!P10 -> 11.607152 | I13: ='Formula ppm'!I10*(400435-(85475*'Formula ppm'!O10))/'Formula ppm'!P10 -> 0 | J13: ='Formula ppm'!J10*(400435-(85475*'Formula ppm'!O10))/'Formula ppm'!P10 -> 0 | K13: ='Formula ppm'!K10*(400435-(85475*'Formula ppm'!O10))/'Formula ppm'!P10 -> 2922.7761 | L13: ='Formula ppm'!L10*(400435-(85475*'Formula ppm'!O10))/'Formula ppm'!P10 -> 0 | M13: ='Formula ppm'!M10*(400435-(85475*'Formula ppm'!O10))/'Formula ppm'!P10 -> 21.653999 | N13: ='Formula ppm'!N10*(400435-(85475*'Formula ppm'!O10))/'Formula ppm'!P10 -> 0 | O13: =B13/C13 -> 0.062621205 | P13: =SUM(B13:N13) -> 395082.45
A14: 171902056ASPM | B14: ='Formula ppm'!B11*(400435-(85475*'Formula ppm'!O11))/'Formula ppm'!P11 -> 17396.927 | C14: ='Formula ppm'!C11*(400435-(85475*'Formula ppm'!O11))/'Formula ppm'!P11 -> 376664.59 | D14: ='Formula ppm'!D11*(400435-(85475*'Formula ppm'!O11))/'Formula ppm'!P11 -> 0 | E14: ='Formula ppm'!E11*(400435-(85475*'Formula ppm'!O11))/'Formula ppm'!P11 -> 0 | F14: ='Formula ppm'!F11*(400435-(85475*'Formula ppm'!O11))/'Formula ppm'!P11 -> 0.57590337 | G14: ='Formula ppm'!G11*(400435-(85475*'Formula ppm'!O11))/'Formula ppm'!P11 -> 6.5106998 | H14: ='Formula ppm'!H11*(400435-(85475*'Formula ppm'!O11))/'Formula ppm'!P11 -> 2.5354707 | I14: ='Formula ppm'!I11*(400435-(85475*'Formula ppm'!O11))/'Formula ppm'!P11 -> 0 | J14: ='Formula ppm'!J11*(400435-(85475*'Formula ppm'!O11))/'Formula ppm'!P11 -> 0 | K14: ='Formula ppm'!K11*(400435-(85475*'Formula ppm'!O11))/'Formula ppm'!P11 -> 2413.9513 | L14: ='Formula ppm'!L11*(400435-(85475*'Formula ppm'!O11))/'Formula ppm'!P11 -> 0 | M14: ='Formula ppm'!M11*(400435-(85475*'Formula ppm'!O11))/'Formula ppm'!P11 -> 2.0904545 | N14: ='Formula ppm'!N11*(400435-(85475*'Formula ppm'!O11))/'Formula ppm'!P11 -> 0 | O14: =B14/C14 -> 0.046186785 | P14: =SUM(B14:N14) -> 396487.18
A15: 171902056ASPD | B15: ='Formula ppm'!B12*(400435-(85475*'Formula ppm'!O12))/'Formula ppm'!P12 -> 18045.911 | C15: ='Formula ppm'!C12*(400435-(85475*'Formula ppm'!O12))/'Formula ppm'!P12 -> 375975.37 | D15: ='Formula ppm'!D12*(400435-(85475*'Formula ppm'!O12))/'Formula ppm'!P12 -> 0 | E15: ='Formula ppm'!E12*(400435-(85475*'Formula ppm'!O12))/'Formula ppm'!P12 -> 0 | F15: ='Formula ppm'!F12*(400435-(85475*'Formula ppm'!O12))/'Formula ppm'!P12 -> 0.85674706 | G15: ='Formula ppm'!G12*(400435-(85475*'Formula ppm'!O12))/'Formula ppm'!P12 -> 7.1332125 | H15: ='Formula ppm'!H12*(400435-(85475*'Formula ppm'!O12))/'Formula ppm'!P12 -> 0.27923608 | I15: ='Formula ppm'!I12*(400435-(85475*'Formula ppm'!O12))/'Formula ppm'!P12 -> 0 | J15: ='Formula ppm'!J12*(400435-(85475*'Formula ppm'!O12))/'Formula ppm'!P12 -> 0 | K15: ='Formula ppm'!K12*(400435-(85475*'Formula ppm'!O12))/'Formula ppm'!P12 -> 2301.5907 | L15: ='Formula ppm'!L12*(400435-(85475*'Formula ppm'!O12))/'Formula ppm'!P12 -> 0 | M15: ='Formula ppm'!M12*(400435-(85475*'Formula ppm'!O12))/'Formula ppm'!P12 -> 1.2692549 | N15: ='Formula ppm'!N12*(400435-(85475*'Formula ppm'!O12))/'Formula ppm'!P12 -> 0 | O15: =B15/C15 -> 0.047997588 | P15: =SUM(B15:N15) -> 396332.41
