Workbook

Sheet Key

Sheet Assumptions and Design Requirem
A1: Design Requirements
A2: Yearly XG Production | B2: 5000 | C2: MT/year
A3: Hourly XG Production | B3: =(B2*1000)/(B4*B5) -> 625.62563 | C3: kg/hr
A4: Operation Days/year | B4: 333 | C4: days
A5: Hours/Operation Day | B5: 24 | C5: Hours
A7: Fermentation
A8: Broth Feed | B8: =B3/B18 -> 25025.025 | C8: L/hr
A9: Conc of Residuals into Ferm | B9: 20 | C9: g/L
B10: =(B9/1000) -> 0.02 | C10: kg/L
A11: Conc of Residuals out of Ferm | B11: 6.5 | C11: g/L
B12: =(B11/1000) -> 0.0065 | C12: kg/L
A13: % Permeate Recycled | B13: 50 | C13: %
A15: Ultrafiltration (8 continuous Filters)
A16: XG Concentration into UF | B16: 2.5 | C16: w/v%
B17: =B16/100 -> 0.025 | C17: g/mL
B18: =B17 -> 0.025 | C18: kg/L
A19: XG Concentration out of UF | B19: 7.5 | C19: w/v%
B20: =B19/100 -> 0.075 | C20: g/mL
B21: =B20 -> 0.075 | C21: kg/L
A22: Water Density at 60C | B22: 0.99907 | C22: kg/L
A23: Filtration Pressure drop | B23: 665690.95 | C23: pa | D23: =B23/100000 -> 6.6569095 | E23: barg
A24: Xanthan Gum Losses Down stream | B24: 10 | C24: %
A26: Precipitation
A27: IPA Precipitation Ratio | B27: 4
A28: Broth/Xanthan Gum Volumetric Flow Rtae | B28: 8424.44 | C28: from Aspen
A29: IPA Precipitation Volumetric Flow Rate | B29: =B28*B27 -> 33697.76 | C29: l/hr
A30: 87 v% IPA Density | B30: 820.385 | C30: kg/m^3
B31: =B30/1000 -> 0.820385 | C31: kg/l | D31: =11/3.78541178 -> 2.9058926
A32: IPA Mass Fraction | B32: 0.84 | C32: IPA | D32: =D31/B31 -> 3.5421084
B33: 0.16 | C33: Water
A34: IPA Mass Flow Rate | B34: =B29*B31 -> 27645.137 | C34: kg/hr
A35: Centrifugation
A36: % Liquid Removed from Xanthan | B36: 95 | C36: %
A37: % Xanthan Lost | B37: 5 | C37: %
A39: Wash Line
A40: Process Volumetric Flow Rate | B40: 2174.293 | C40: L/hr
A41: 87 v% IPA Density | B41: =B40/1000 -> 2.174293 | C41: kg/l
A42: IPA Mass Fraction | B42: 0.84 | C42: IPA
B43: 0.16 | C43: Water
A44: IPA Mass Flow Rtae | B44: =B40*B41 -> 4727.5502 | C44: kg/hr

Sheet Stream Table
A1: =#REF!/1000 -> #REF! | Q1: Aspen Feed | T1: Bottoms From Aspen | AA1: Distillate From Aspen | AB1: Fresh IPA | AD1: IPA Wash | AE1: IPA Wash | AF1: OUT OF SCOPE
A2: =#REF!/1000 -> #REF! | B2: S-1 | C2: S-2 | D2: S-3 | E2: S-4 | F2: S-5 | G2: S-6 | H2: S-7 | I2: S-8 | J2: S-9 | K2: S-10 | L2: S-11 | M2: S-12 | N2: S-13 | O2: S-14 | P2: S-15 | Q2: S-16 | R2: S-17 | S2: S-18 | T2: S-19 | U2: S-20 | V2: S-21 | W2: S-22 | X2: S-23 | Y2: S-24 | Z2: S-25 | AA2: S-26 | AB2: S-27 | AC2: S-28 | AD2: S-29 | AE2: S-30 | AF2: S-31 | AG2: S-32 | AH2: S-33
A3: Mass Flows (kg/hr)
A4: Total | B4: =sum(B5:B8) -> 25502.252 | C4: =sum(C5:C8) -> 25852.603 | D4: =sum(D5:D8) -> 25852.603 | E4: =sum(E5:E8) -> 25852.603 | F4: =sum(F5:F8) -> 0 | G4: =sum(G5:G8) -> 15937.462 | H4: =sum(H5:H8) -> 7968.7312 | I4: =sum(I5:I8) -> 7968.7312 | ... Q4: =sum(Q5:Q8) -> 43149.7 | T4: =sum(T5:T8) -> 12206.45 | U4: =sum(U5:U8) -> 12206.45 | V4: 61886 | W4: 61886 | X4: 61886 | Y4: 61886 | Z4: 30943 | AA4: =sum(AA5:AA8) -> 30943 | AB4: =sum(AB5:AB8) -> 69.119118 | AC4: =sum(AC5:AC8) -> 27645.137 | AD4: =sum(AD5:AD8) -> 4727.5502 | AE4: =sum(AE5:AE8) -> 4727.5502 | AF4: =sum(AF5:AF8) -> -2660.7216 | AG4: =sum(AG5:AG8) -> -2752.7528 | AH4: =sum(AH5:AH8) -> -2752.7528
A5: XG | B5: 0 | C5: ='Assumptions and Design Requirem'!B3+(('Assumptions and Design Requirem'!B24/100)*'Assumptions and Design Requirem'!B3) -> 688.18819 | D5: =C5 -> 688.18819 | E5: =D5 -> 688.18819 | G5: =E5-J5 -> 0 | H5: =G5-I5 -> 0 | I5: =G5*('Assumptions and Design Requirem'!$B$13/100) -> 0 | J5: =E5 -> 688.18819 | K5: =J5 -> 688.18819 | L5: =K5+AC5 -> 688.18819 | M5: =L5*('Assumptions and Design Requirem'!B37) -> 3440.9409 | N5: =L5-M5 -> -2752.7528 | O5: =AD5*0.99 -> 0 | P5: =M5+O5 -> 3440.9409 | Q5: =P5 -> 3440.9409 | T5: =Q5 -> 3440.9409 | U5: =T5 -> 3440.9409 | V5: 0 | W5: 0 | X5: 0 | Y5: 0 | Z5: 0 | AA5: 0 | AB5: =AC5+AE5-AA5 -> 0 | AC5: 0 | AD5: 0 | AE5: =AD5 -> 0 | AF5: =N5 -> -2752.7528 | AG5: =AF5 -> -2752.7528 | AH5: =AG5 -> -2752.7528
A6: Residuals | B6: ='Assumptions and Design Requirem'!B8*'Assumptions and Design Requirem'!B10 -> 500.5005 | C6: ='Assumptions and Design Requirem'!B8*'Assumptions and Design Requirem'!B12 -> 162.66266 | D6: =C6 -> 162.66266 | E6: =D6 -> 162.66266 | G6: =E6-J6 -> 103.01969 | H6: =G6-I6 -> 51.509843 | I6: =G6*('Assumptions and Design Requirem'!$B$13/100) -> 51.509843 | J6: =E6*(J7/E7) -> 59.642976 | K6: =J6 -> 59.642976 | L6: =K6+AC6 -> 59.642976 | M6: =L6*('Assumptions and Design Requirem'!$B$36/100) -> 56.660827 | N6: =L6-M6 -> 2.9821488 | O6: =AD6*0.99 -> 0 | P6: =M6+O6 -> 56.660827 | Q6: =P6 -> 56.660827 | T6: =Q6 -> 56.660827 | U6: =T6 -> 56.660827 | V6: 0 | W6: 0 | X6: 0 | Y6: 0 | Z6: 0 | AA6: 0 | AB6: =AC6+AE6-AA6 -> 0 | AC6: 0 | AD6: 0 | AE6: =AD6 -> 0 | AF6: 0 | AG6: 0 | AH6: =AG6 -> 0
A7: Water | B7: ='Assumptions and Design Requirem'!B8*'Assumptions and Design Requirem'!B22 -> 25001.752 | C7: =B7 -> 25001.752 | D7: =C7 -> 25001.752 | E7: =D7 -> 25001.752 | G7: =E7-J7 -> 15834.443 | H7: =G7-I7 -> 7917.2214 | I7: =G7*('Assumptions and Design Requirem'!$B$13/100) -> 7917.2214 | J7: =(J5/'Assumptions and Design Requirem'!B21)*'Assumptions and Design Requirem'!B22 -> 9167.309 | K7: =J7 -> 9167.309 | L7: =K7+AC7 -> 13590.531 | M7: =L7*('Assumptions and Design Requirem'!$B$36/100) -> 12911.004 | N7: =L7-M7 -> 679.52654 | O7: =AD7*0.99 -> 748.84396 | P7: =M7+O7 -> 13659.848 | Q7: =P7 -> 13659.848 | T7: 8708.8431 | U7: =T7 -> 8708.8431 | V7: 9902.02 | W7: 9902.02 | X7: 9902.02 | Y7: 9902.02 | Z7: 4951.01 | AA7: 4951.0051 | AB7: =(AB8/0.84)-AB8 -> 11.059059 | AC7: ='Assumptions and Design Requirem'!B33*'Assumptions and Design Requirem'!B34 -> 4423.2219 | AD7: ='Assumptions and Design Requirem'!B44*'Assumptions and Design Requirem'!B43 -> 756.40804 | AE7: =AD7 -> 756.40804 | AF7: =N7*0.05 -> 33.976327 | AG7: 0 | AH7: =AG7 -> 0
A8: IPA | B8: 0 | C8: 0 | D8: =C8 -> 0 | E8: =D8 -> 0 | G8: =E8-J8 -> 0 | H8: =G8-I8 -> 0 | I8: =G8*('Assumptions and Design Requirem'!$B$13/100) -> 0 | J8: 0 | K8: =J8 -> 0 | L8: =K8+AC8 -> 23221.915 | M8: =L8*('Assumptions and Design Requirem'!$B$36/100) -> 22060.819 | N8: =L8-M8 -> 1161.0957 | O8: =AD8*0.99 -> 3931.4308 | P8: =M8+O8 -> 25992.25 | Q8: =P8 -> 25992.25 | T8: 0.0052722716 | U8: =T8 -> 0.0052722716 | V8: 51983.98 | W8: 51983.98 | X8: 51983.98 | Y8: 51983.98 | Z8: 25991.99 | AA8: 25991.995 | AB8: =AF8+T8 -> 58.06006 | AC8: ='Assumptions and Design Requirem'!B32*'Assumptions and Design Requirem'!B34 -> 23221.915 | AD8: ='Assumptions and Design Requirem'!B44*'Assumptions and Design Requirem'!B42 -> 3971.1422 | AE8: =AD8 -> 3971.1422 | AF8: =N8*0.05 -> 58.054787 | AG8: 0 | AH8: =AG8 -> 0
A11: Mass Fractions
A12: XG | B12: =B5/B4 -> 0 | C12: =C5/C4 -> 0.026619687 | D12: =D5/D4 -> 0.026619687 | E12: =E5/E4 -> 0.026619687 | F12: =F5/F4 -> #DIV/0! | G12: =G5/G4 -> 0 | H12: =H5/H4 -> 0 | I12: =I5/I4 -> 0 | ... AH12: =AH5/AH4 -> 1
A13: Residuals | B13: =B6/B4 -> 0.019625737 | C13: =C6/C4 -> 0.006291926 | D13: =D6/D4 -> 0.006291926 | E13: =E6/E4 -> 0.006291926 | F13: =F6/F4 -> #DIV/0! | G13: =G6/G4 -> 0.0064639955 | H13: =H6/H4 -> 0.0064639955 | I13: =I6/I4 -> 0.0064639955 | ... AH13: =AH6/AH4 -> 0
A14: Water | B14: =B7/B4 -> 0.98037426 | C14: =C7/C4 -> 0.96708839 | D14: =D7/D4 -> 0.96708839 | E14: =E7/E4 -> 0.96708839 | F14: =F7/F4 -> #DIV/0! | G14: =G7/G4 -> 0.993536 | H14: =H7/H4 -> 0.993536 | I14: =I7/I4 -> 0.993536 | ... AH14: =AH7/AH4 -> 0
A15: IPA | B15: =B8/B4 -> 0 | C15: =C8/C4 -> 0 | D15: =D8/D4 -> 0 | E15: =E8/E4 -> 0 | F15: =F8/F4 -> #DIV/0! | G15: =G8/G4 -> 0 | H15: =H8/H4 -> 0 | I15: =I8/I4 -> 0 | ... AH15: =AH8/AH4 -> 0
A17: Temperature (C) | D17: 60 | E17: 60 | G17: 60 | H17: 60 | I17: 60 | J17: 60 | K17: 80 | L17: 80 | M17: =L17+10 -> 90 | N17: =M17 -> 90 | O17: 30 | P17: 70 | Q17: 70 | R17: 102.5 | S17: 103 | T17: 103 | U17: 103 | V17: 80 | W17: 79.6 | X17: 79.6 | Y17: 79.6 | Z17: 79.6 | AA17: 79.6 | AB17: 25 | AC17: 80 | AD17: 25 | AE17: 25 | AF17: 25 | AG17: 25 | AH17: 25
A18: Pressure (Barg) | D18: 1.01 | E18: =J18+'Assumptions and Design Requirem'!D23 -> 6.743094 | G18: 0.08618447 | H18: 0.08618447 | I18: 0.08618447 | J18: 0.08618447 | K18: 0.2 | L18: 0.10665789 | M18: 2 | N18: 2 | O18: 0.2 | P18: 0 | Q18: 0.08675 | R18: 0.0933257 | S18: 0.106658 | T18: 0.10665789 | U18: 0.2 | V18: 0.0133322 | W18: 0.0133322 | X18: 0 | Y18: 0 | Z18: 0 | AA18: 0 | AB18: 0.2 | AC18: 0.2 | AD18: 0 | AE18: 0.2 | AF18: - | AG18: - | AH18: -
A20: Enthalpy Flow (kJ/hr) | E20: -3.9391459e+08 | G20: -2.4947924e+08 | H20: -2.0096759e+09 | I20: -2.3446734e+09 | J20: -2.714885e+09 | K20: -2.714885e+09 | L20: -9.6663624e+09 | R20: -6.5641304e+08 | S20: -2.4835387e+08 | T20: -1.2340927e+08 | W20: -8.044974e+09 | X20: -9.2823323e+09 | Y20: -9.2823323e+09 | Z20: -98267707 | AA20: -2.098997e+08
O24: 430K | T24: S-11 | U24: S-30 | V24: S-31
J25: =60/(2*pi()*L25) -> 0.0053347174 | K25: rpm | L25: =L28/(6*PI()*L26*L27) -> 1790.0286 | M25: s = kg*m/(N*s) | P25: Mass Flows (kg/hr)
K26: n | L26: 35 | M26: N*s/m^2 | P26: Total | T26: 37560.277 | U26: 4727.5502 | V26: =sum(V27:V30) -> 2497.3832
K27: r0 | L27: =10/2000000 -> 5e-06 | M27: m | P27: XG | T27: 688.18819 | U27: 0 | V27: =T27*0.95 -> 653.77878
K28: m | L28: =L36* 714 -> 5.9047177 | M28: kg/s | P28: Residuals | T28: 59.642976 | U28: 0 | V28: =T28*0.05 -> 2.9821488
K29: r | M29: m | P29: Water | T29: 13590.531 | U29: 756.40804 | V29: =T29*0.05 -> 679.52654
K30: w | L30: =J25*2*pi()/60 -> 0.0005586503 | M30: rad/s | P30: IPA | T30: 23221.915 | U30: 3971.1422 | V30: =T30*0.05 -> 1161.0957
K31: v | L31: =L25*L30*L29 -> 0 | M31: m/s
L32: =L31/(L29*(L30)^2) -> #DIV/0!
T34: =((V30/0.78)+(V27/1.5)+V29)/(1000) -> 2.6039633 | U34: m^3/hr
K35: Ug | L35: =9.81*(L41)*((L27*2)^2)/(18*L39) -> 1.1211429e-09 | M35: m/s | T35: =((V30/0.78)+(V27/1.5)+V29) -> 2603.9633 | U35: L/hr
K36: Q | L36: =(L8/0.78)/(3600*1000) -> 0.0082699127 | M36: m^3/s
K37: Q | L37: =L36*3600 -> 29.771686 | M37: m^3/hr
K38: sigma (E) | L38: =L36/(2*L35) -> 3688161.9 | M38: m^2
K39: u (approx viscosity) | L39: 35 | M39: N*s/m^2
K40: deltaP (kg/L) | L40: =1.5-0.78 -> 0.72
K41: deltaP (kg/m^3) | L41: =1000*(1.5-0.78) -> 720
K42: Q/E | L42: =2*L35 -> 2.2422857e-09

Sheet Presentation 3 Stream Table
B1: S-3 | C1: S-6 | D1: S-9 | E1: S-10 | F1: S-11 | G1: S-12 | H1: S-13 | I1: S-14 | J1: S-16 | K1: S-20 | L1: S-26 | M1: S-33
A2: Mass Flows (kg/hr)
A3: Total | B3: 25852.603 | C3: 15937.462 | D3: 9915.1401 | E3: 9915.1401 | F3: 37560.277 | G3: 35062.894 | H3: 2497.3832 | I3: 4680.2747 | J3: 39743.168 | K3: 23632.066 | L3: 15319.194 | M3: 653.77878
A4: XG | B4: 688.18819 | C4: 0 | D4: 688.18819 | E4: 688.18819 | F4: 688.18819 | G4: 34.409409 | H4: 653.77878 | I4: 0 | J4: 34.409409 | K4: 34.409409 | L4: 0 | M4: 653.77878
A5: Residuals | B5: 162.66266 | C5: 103.01969 | D5: 59.642976 | E5: 59.642976 | F5: 59.642976 | G5: 56.660827 | H5: 2.9821488 | I5: 0 | J5: 56.660827 | K5: 56.660827 | L5: 0 | M5: 0
A6: Water | B6: 25001.752 | C6: 15834.443 | D6: 9167.309 | E6: 9167.309 | F6: 13590.531 | G6: 12911.004 | H6: 679.52654 | I6: 748.84396 | J6: 13659.848 | K6: 23540.996 | L6: 2450.9231 | M6: 0
A7: IPA | B7: 0 | C7: 0 | D7: 0 | E7: 0 | F7: 23221.915 | G7: 22060.819 | H7: 1161.0957 | I7: 3931.4308 | J7: 25992.25 | K7: 0 | L7: 12868.271 | M7: 0
A8: Temperature (C) | B8: 60 | C8: 60 | D8: 60 | E8: 80 | F8: 80 | G8: 80 | H8: 80 | I8: 30 | J8: 70 | K8: 103 | L8: 79.6 | M8: 25
A9: Pressure (Barg) | B9: 1.01 | C9: 0.08618447 | D9: 0.08618447 | E9: 0.2 | F9: 0.25 | G9: 2 | H9: 2 | I9: 0.2 | J9: 0.08675 | K9: 0.2 | L9: 0 | M9: -

Sheet Presentation 2 Stream Table
B2: S-4 | C2: S-6 | D2: S-9 | E2: S-11 | F2: S-12 | G2: S-13 | H2: S-14 | I2: S-16 | J2: S-19 | K2: S-26 | L2: S-28 | M2: S-33
A3: Mass Flows (kg/hr)
A4: Total | B4: 25790.04 | C4: 16776.276 | D4: 9013.7638 | E4: 36658.901 | F4: 34262.892 | G4: 2396.0081 | H4: 4680.2747 | I4: 38943.167 | J4: =sum(J5:J8) -> 24138.051 | K4: =sum(K5:K8) -> 15319.194 | L4: 27645.137 | M4: 594.34434
A5: XG | B5: 625.62563 | C5: 0 | D5: 625.62563 | E5: 625.62563 | F5: 31.281281 | G5: 594.34434 | H5: 0 | I5: 31.281281 | J5: =G5 -> 594.34434 | K5: 0 | L5: 0 | M5: 594.34434
A6: Residuals | B6: 162.66266 | C6: 108.44178 | D6: 54.220888 | E6: 54.220888 | F6: 51.509843 | G6: 2.7110444 | H6: 0 | I6: 51.509843 | J6: =G6 -> 2.7110444 | K6: 0 | L6: 0 | M6: 0
A7: Water | B7: 25001.752 | C7: 16667.835 | D7: 8333.9173 | E7: 12757.139 | F7: 12119.282 | G7: 637.85696 | H7: 748.84396 | I7: 12868.126 | J7: 23540.996 | K7: 2450.9231 | L7: 4423.2219 | M7: 0
A8: IPA | B8: 0 | C8: 0 | D8: 0 | E8: 23221.915 | F8: 22060.819 | G8: 1161.0957 | H8: 3931.4308 | I8: 25992.25 | J8: 0 | K8: 12868.271 | L8: 23221.915 | M8: 0
A9: Temperature (degC) | B9: 25 | C9: 25 | D9: 25 | E9: 25 | F9: 25 | G9: 25 | H9: 25 | I9: 25 | J9: 104.83921 | K9: 80.198022 | L9: 25 | M9: 25
